BEGIN:VCALENDAR
VERSION:2.0
PRODID:-//West Wind Sauna Team - ECPv6.15.20//NONSGML v1.0//EN
CALSCALE:GREGORIAN
METHOD:PUBLISH
X-WR-CALNAME:West Wind Sauna Team
X-ORIGINAL-URL:https://westwindsauna.hu
X-WR-CALDESC:Események West Wind Sauna Team
REFRESH-INTERVAL;VALUE=DURATION:PT1H
X-Robots-Tag:noindex
X-PUBLISHED-TTL:PT1H
BEGIN:VTIMEZONE
TZID:UTC
BEGIN:STANDARD
TZOFFSETFROM:+0000
TZOFFSETTO:+0000
TZNAME:UTC
DTSTART:20220101T000000
END:STANDARD
END:VTIMEZONE
BEGIN:VEVENT
DTSTART;VALUE=DATE:20231028
DTEND;VALUE=DATE:20231030
DTSTAMP:20260421T182659
CREATED:20231025T185856Z
LAST-MODIFIED:20231025T185856Z
UID:249-1698451200-1698623999@westwindsauna.hu
SUMMARY:West Wind Halloween AVITA Restor 2023.10.28-29
DESCRIPTION:A West Wind Sauna Team ismét  a csodálatos AVITA Resort & Spa Bad Tatzmannsdorf szaunavilágában várja valamennyi endorfinra áhítozó vendégét ebbe a gyönyörű 35 fős szaunába. \nEgy kis rémség  némi félelem\, de legfőképp remek szauna felöntésekkel várunk minden kedves vendégünket. Laura & Roli \nSzauna programokat itt találják meg: \nhttps://www.avita.at/hu/szauna-informacio \n 
URL:https://westwindsauna.hu/event/west-wind-halloween-avita-restor-2023-10-28-29/
LOCATION:AVITA | Resort & Spa\, Thermenpl. 1\, 7431 Bad Tatzmannsdorf\, Ausztria\, Bad Tatzmannsdorf
END:VEVENT
BEGIN:VEVENT
DTSTART;TZID=UTC:20231021T110000
DTEND;TZID=UTC:20231022T193000
DTSTAMP:20260421T182659
CREATED:20231013T092535Z
LAST-MODIFIED:20231013T093234Z
UID:148-1697886000-1698003000@westwindsauna.hu
SUMMARY:West Wind Day 2.0 AVITA | Resort & Spa Bad Tatzmannsdorf
DESCRIPTION:Ismételten vendég szereplünk párommal Laurával Ausztriában \n\n(Bad Tatzmannsdorf) szombaton és vasárnap is.\n \nMinden szaunázni vágyót aki kíváncsi a szomszédaink szaunázási kultúrájára és a helyi adottságokra várunk szeretettel egy elő Halloween Hétvégére.\n\nGyertek... hisz tudjátok aki lemarad az Kimarad! :)\n\nLaura & Roli
URL:https://westwindsauna.hu/event/west-wind-day-2-0-avita-resort-spa-bad-tatzmannsdorf/
LOCATION:AVITA | Resort & Spa\, Thermenpl. 1\, 7431 Bad Tatzmannsdorf\, Ausztria\, Bad Tatzmannsdorf
END:VEVENT
END:VCALENDAR