BEGIN:VCALENDAR
VERSION:2.0
PRODID:-//West Wind Sauna Team - ECPv6.15.20//NONSGML v1.0//EN
CALSCALE:GREGORIAN
METHOD:PUBLISH
X-WR-CALNAME:West Wind Sauna Team
X-ORIGINAL-URL:https://westwindsauna.hu
X-WR-CALDESC:Események West Wind Sauna Team
REFRESH-INTERVAL;VALUE=DURATION:PT1H
X-Robots-Tag:noindex
X-PUBLISHED-TTL:PT1H
BEGIN:VTIMEZONE
TZID:UTC
BEGIN:STANDARD
TZOFFSETFROM:+0000
TZOFFSETTO:+0000
TZNAME:UTC
DTSTART:20250101T000000
END:STANDARD
END:VTIMEZONE
BEGIN:VEVENT
DTSTART;VALUE=DATE:20260508
DTEND;VALUE=DATE:20260511
DTSTAMP:20260421T195636
CREATED:20260222T133028Z
LAST-MODIFIED:20260305T111632Z
UID:1618-1778198400-1778457599@westwindsauna.hu
SUMMARY:2026.05.08-10.🧖‍♂️ SZABADNAPOS SZAUNAMESTEREK🧖‍♂️Sirius Hotel
DESCRIPTION:☀️ Májusi napsütés\, Balaton-part és a szaunavilág krémje! ☀️ \nKészen állsz az év legforróbb hétvégéjére? A West Wind Sauna Team és a keszthelyi Sirius Hotel** bemutatja: 🧖‍♂️ SZABADNAPOS SZAUNAMESTEREK 🧖‍♀️ \n2026 .május 8-10. között az ország legismertebb szaunamesterei „leteszik a lantot” – vagyis inkább kézbe veszik a szaunazászlókat\, hogy a Sirius Hotel lenyűgöző panorámaszaunájában mutassák meg tudásuk legjavát. \nAmire számíthatsz: \n✅ 3 nap folyamatos szaunaünnep ✅ Különleges\,jelmezbe öltözött mesterek ✅ Balatoni panoráma és prémium környezet ✅ Vidám hangulat és szakmai trükkök \nNe maradj le az ország legexkluzívabb szaunás eseményéről! Foglalj időben\, és élvezd velünk a tavaszi Balaton élményét! 🌊🔥 \nRészletek és foglalás hamarosan! 🔗 #SzabadnaposSzaunamesterek #WestWindSaunaTeam #SiriusHotel #SzaunaÜnnep #Balaton #Keszthely #SzaunaMester
URL:https://westwindsauna.hu/event/2026-05-08-10-%f0%9f%a7%96%e2%99%82%ef%b8%8f-szabadnapos-szaunamesterek%f0%9f%a7%96%e2%99%82%ef%b8%8fsirius-hotel/
LOCATION:Sirius Hotel****Superior\, Keszthely\, Mikus Gyula sétány 8\, Keszthely\, ZALA\, 8360
ATTACH;FMTTYPE=image/png:https://westwindsauna.hu/wp-content/uploads/2026/02/Szabadnapos-Szaunamesterek-20260508-10.png
ORGANIZER;CN="Sirius Hotel****Superior%2C Keszthely":MAILTO:reservation@siriushotel.hu
END:VEVENT
BEGIN:VEVENT
DTSTART;TZID=UTC:20260524T103000
DTEND;TZID=UTC:20260524T173000
DTSTAMP:20260421T195636
CREATED:20260125T192711Z
LAST-MODIFIED:20260125T192711Z
UID:1596-1779618600-1779643800@westwindsauna.hu
SUMMARY:🕊️ West Wind Sauna Pünkösdi Szauna Parti MenDan Hotel**** 2026.05.🕊️
DESCRIPTION:🕊️ West Wind-MenDan Hotel**** Sauna Pünkösdi Szauna Parti\nHelyszín: Zalakaros\, MenDan Hotel **** Sky-Szauna \nIdőpont: 2026. május 24. \n🎻 10:30 – Thomas Bergersen: Hangolódás az ébredő természetre\nA pünkösdi ünnepet a monumentális hangszerelés mestere\, Thomas Bergersen dallamaival nyitjuk meg. A szaunában a tavaszi mezők ereje ébred fel: a körömvirág\, a gyömbér és a zsálya tiszta\, növényi illatjegyei segítenek a vendégeknek az ünnepi ráhangolódásban és a test-lélek felfrissítésében. \n🛥️ 11:30 – Ötvös Csöpi: Balatoni Retró Életérzés\nIdőutazásra hívjuk vendégeinket a magyar kultúrfilm és a feledhetetlen retró slágerek világába. A szaunapadokon megelevenedik a hamisítatlan balatoni nyár\, ahol a méz\, a bergamott\, a vanília és a lime édessége találkozik az erdei gyümölcsök frissességével. Egy vidám\, nosztalgikus program\, amely minden arcra mosolyt csal. \n🛡️ 13:30 – A Gladiátor: Erő és Becsület\nHans Zimmer zseniális\, Grammy-díjas zenéi és a történelem legikonikusabb jelenetei repítik a vendégeket a római arénák világába. A levegőt a lime\, a levendula\, a vérnarancs és a zsálya méltóságteljes illata tölti meg\, miközben a szaunamester határozott mozdulatai idézik meg a gladiátorok erejét. \nProgram után: Napérlelte narancslé kínálása. \n🦸‍♂️ 14:30 – Bosszúállók: Szauna-univerzum mentőakció\nA Marvel hősök beköltöznek a Sky-Szaunába! Együtt szállunk szembe a végzettel\, és minden erőnket bevetjük\, hogy megakadályozzuk azt a bizonyos csettintést. A dinamikus akciót a fodormenta\, a cola-narancs\, valamint a tolu\, tonka és boróka különleges\, modern elegye kíséri. \nA programot követően: Stílusosan hűsítő Colával frissítjük fel hőseinket. \n🐎 16:30 – Spirit: Szabadság a vad völgyben\nA rajzfilmrajongóknak és a szabadság szerelmeseinek kedveskedünk Bryan Adams zseniális dalaival. A program a természet vadvilágát idézi meg: a szénavirág\, a mezei menta és a homoktövis illatával a végtelen legelők frissességét hozzuk el a kabinba. \nProgram után: Könnyed frissítő kínálása. \n💃 17:30 – Pünkösdi Mulatós Party: Vigadalom West Wind módra\nZárásként egy igazi pünkösdi mulatságba csöppenünk\, ahol a jó hangulat nem ismer határokat. Ahogy azt a West Wind csapata ígéri: minden\, ami egy jó bulihoz kell\, ízléses\, mégis fergeteges köntösben. Az eper-citrom édessége és a mentolkristályos szilva-hidrolátum hűsítő ereje garantálja a nap emlékezetes fináléját.
URL:https://westwindsauna.hu/event/%f0%9f%95%8a%ef%b8%8f-west-wind-sauna-punkosdi-szauna-parti-mendan-hotel-2026-05-%f0%9f%95%8a%ef%b8%8f/
LOCATION:MenDan Hotel **** Zalakaros\, Gyógyfürdő tér 8.\, Zalakaros\, ZALA\, 8749\, Magyarország
CATEGORIES:Szauna NAP
ATTACH;FMTTYPE=image/jpeg:https://westwindsauna.hu/wp-content/uploads/2026/01/599681504_1275339487815423_2947591497040446612_n.jpg
ORGANIZER;CN="MenDan **** Zalakaros":MAILTO:reservation@mendan.hu
END:VEVENT
BEGIN:VEVENT
DTSTART;VALUE=DATE:20260613
DTEND;VALUE=DATE:20260615
DTSTAMP:20260421T195636
CREATED:20260301T101703Z
LAST-MODIFIED:20260301T104250Z
UID:1628-1781308800-1781481599@westwindsauna.hu
SUMMARY:🔥 West Wind Szaunamester Edzőtábor & Ventilációs Tréning 2026 🔥
DESCRIPTION:🔥 West Wind Szaunamester Edzőtábor & Ventilációs Tréning 2026 🔥Fejlődés. Feltöltődés. Csapat. – Az Őrség szívében\, Szalafőn. \nHa szaunamester vagy\, tudod: a nyár nem csak a pihenésről szól – hanem a megújulásról is.A West Wind Sauna Team idén is megszervezi szakmai edzőtáborát az Őrség varázslatos környezetében\, Szalafőn\, ahol a szakmai fejlődés és a felhőtlen kikapcsolódás kéz a kézben jár. \nMi vár rád?\n✔️ Intenzív ventilációs tréning – technika\, dinamika\, precizitás✔️ Szakmai fejlődés inspiráló közegben✔️ Csapatépítés valódi közösségi élménnyel✔️ Nyári feltöltődés természetközeli környezetben✔️ Garantált jókedv és felejthetetlen hangulat \nEz a hétvége rólad szól: fejlődj\, inspirálódj\, kapcsolódj – mindezt egy helyen! \n\n📅 Időpont\n2026. június 13–14. (szombat–vasárnap) \n💰 Részvételi díj\n25.000 Ft / fő / nap \nA díj tartalmazza:\n\n\nVentilációs tréning teljes programját \n\n\nSzállást többfős szobákban (emeletes ágyakkal) \n\n\n1 alkalommal bográcsos étkezést \n\n\nLehetőség akár egynapos részvételre is \n\n\n\n⏳ Jelentkezési határidő: 2026. június 1.\nHa még nincs programod\, és szeretnél egy szakmailag erős\, mégis felszabadult hangulatú nyári edzőtábor részese lenni\, most itt az idő! \n👉 Ne feledd: aki lemarad\, kimarad!  \nTalálkozzunk Szalafőn – az Őrség szívében! 🌿🔥
URL:https://westwindsauna.hu/event/%f0%9f%94%a5-west-wind-szaunamester-edzotabor-ventilacios-trening-2026-%f0%9f%94%a5/
LOCATION:Szalafő\, Papszer 1\, Szalafő\, VAS\, Hungary
ATTACH;FMTTYPE=image/png:https://westwindsauna.hu/wp-content/uploads/2026/03/West-Wind-Edzotabor-2026.png
ORGANIZER;CN="West Wind Sauna Team":MAILTO:info@westwindsauna.hu
END:VEVENT
BEGIN:VEVENT
DTSTART;VALUE=DATE:20260822
DTEND;VALUE=DATE:20260824
DTSTAMP:20260421T195636
CREATED:20251230T084205Z
LAST-MODIFIED:20251230T084205Z
UID:1536-1787356800-1787529599@westwindsauna.hu
SUMMARY:West Wind Ifjú Mesterek Viadala Gála hétvége 2026.08.22-23
DESCRIPTION:West Wind Ifjak Viadala 2026.08.22-23 Gála hétvége számos meglepetéssel és rengeteg mesterrel\, fantasztikus programokkal. \n  \nRészletek hamarosan!!!
URL:https://westwindsauna.hu/event/west-wind-ifju-mesterek-viadala-gala-hetvege-2026-08-22-23/
LOCATION:MJUS RESTOR\, Rákóczi u. 154/B\, Körmend\,\, VAS\, 9900\, Magyarország
ATTACH;FMTTYPE=image/png:https://westwindsauna.hu/wp-content/uploads/2024/12/MJUS-West-Wind.png
ORGANIZER;CN="Mjus Resort & Thermal Park":MAILTO:eception@mjusresort.com
END:VEVENT
BEGIN:VEVENT
DTSTART;TZID=UTC:20261017T120000
DTEND;TZID=UTC:20261017T180000
DTSTAMP:20260421T195636
CREATED:20251013T181044Z
LAST-MODIFIED:20260104T084525Z
UID:1424-1792238400-1792260000@westwindsauna.hu
SUMMARY:Greenfield Szauna nap 2026-10.17
DESCRIPTION:Csapatunk ismét visszatér Bükfürdőbe a **** Superior Greenfield Hotelbe és tematikus szauna show programokkal szórakoztatja a szauna szerelmeseit. \n \nGreenfiled Szauna nap 2026-10.17
URL:https://westwindsauna.hu/event/greenfiled-szauna-nap-2026-10-17/
LOCATION:Greenfield Hotel Bük\, Golf út 4.\, Bükfürdő\, VAs\, 9740\, Magyarország
ATTACH;FMTTYPE=image/png:https://westwindsauna.hu/wp-content/uploads/2024/09/Greenfield-20240921.png
ORGANIZER;CN="Greenfiled Hotel B%C3%BCk":MAILTO:reservation@greenfieldhotel.hu
END:VEVENT
BEGIN:VEVENT
DTSTART;VALUE=DATE:20261031
DTEND;VALUE=DATE:20261101
DTSTAMP:20260421T195636
CREATED:20251230T083541Z
LAST-MODIFIED:20251230T090341Z
UID:1532-1793404800-1793491199@westwindsauna.hu
SUMMARY:West Wind Szauna nap 2026.10.31. Hotel Caramell Bük
DESCRIPTION:West Wind Szauna nap 2026.10.31. Hotel Caramell Bük \nRészletek Hamarosan
URL:https://westwindsauna.hu/event/west-wind-szauna-nap-2026-10-31-hotel-caramell-buk/
LOCATION:Caramell Premium Resort****superior\, Európa út 18\, Bük\,\, VAS\, 9740\, Magyarország
ATTACH;FMTTYPE=image/jpeg:https://westwindsauna.hu/wp-content/uploads/2024/06/Caramell_West-Wind.jpg
ORGANIZER;CN="Caramell Premium Resort Superior":MAILTO:info@caramell.hu
END:VEVENT
BEGIN:VEVENT
DTSTART;TZID=UTC:20261107T113000
DTEND;TZID=UTC:20261107T170000
DTSTAMP:20260421T195636
CREATED:20251013T181206Z
LAST-MODIFIED:20260104T084506Z
UID:1426-1794051000-1794070800@westwindsauna.hu
SUMMARY:West Wind Greenfield Szauna nap 2026-11.07.
DESCRIPTION:🎃 Borzongás és Forróság: Halloween Szauna Show a Greenfieldben! \nVannak éjszakák\, amikor a szauna kályhája is másképp izzik… Csapatunk\, a West Wind ismét visszatér Bükfürdőbe\, hogy a Greenfield Hotel Golf & Spa** Superior** szaunavilágát egy misztikus\, halloweeni birodalommá változtassa. \n\n\nHelyszín: Greenfield Hotel\, Bükfürdő \n\n\nAmire számíthat: Különleges fényhatások\, sejtelmes dallamok és olyan tematikus felöntések\, amiktől garantáltan futkosni fog a hátán a hideg – és a meleg! \n\n\n✨ Készüljön egy rendhagyó\, borzongatóan profi szauna-élményre! A részletek hamarosan „fényre derülnek”…
URL:https://westwindsauna.hu/event/west-wind-greenfiled-szauna-nap-2026-11-14/
LOCATION:Greenfield Hotel Bük\, Golf út 4.\, Bükfürdő\, VAs\, 9740\, Magyarország
ATTACH;FMTTYPE=image/png:https://westwindsauna.hu/wp-content/uploads/2024/09/Greenfield-20240921.png
ORGANIZER;CN="Greenfiled Hotel B%C3%BCk":MAILTO:reservation@greenfieldhotel.hu
END:VEVENT
BEGIN:VEVENT
DTSTART;VALUE=DATE:20261114
DTEND;VALUE=DATE:20261115
DTSTAMP:20260421T195636
CREATED:20251230T085855Z
LAST-MODIFIED:20251230T085855Z
UID:1542-1794614400-1794700799@westwindsauna.hu
SUMMARY:West Wind Sauna Nap 2026.11.14  Liba napok MenDan Zalakaros
DESCRIPTION:🦢 Márton-napi Liba-napok: Forró Kényeztetés a West Winddel! \nAki Márton-napján szaunázik\, egész évben nem koplal – vagy legalábbis remekül érzi magát! 2026. november 14-én a West Wind szaunamesterei a MenDan szaunavilágát egy igazi ünnepi rituálé-helyszínné varázsolják. \n\n\nIdőpont: 2026. november 14. \n\n\nHelyszín: MenDan Magic Spa & Wellness Hotel\, Zalakaros \n\n\nAmire számíthat: Különleges „libás” tematikájú felöntések\, libatoll-könnyedségű legyezések és lélekmelegítő aromák a novemberi hűvös ellen. \n\n\n✨ A részletekkel hamarosan „szállunk” – tartsanak velünk egy felejthetetlen őszi hétvégén!
URL:https://westwindsauna.hu/event/west-wind-sauna-nap-2026-11-14-liba-napok-mendan-zalakaros/
LOCATION:MenDan Hotel **** Zalakaros\, Gyógyfürdő tér 8.\, Zalakaros\, ZALA\, 8749\, Magyarország
ATTACH;FMTTYPE=image/png:https://westwindsauna.hu/wp-content/uploads/2023/11/Kepernyokep-2023-11-28-100458.png
ORGANIZER;CN="MenDan **** Zalakaros":MAILTO:reservation@mendan.hu
END:VEVENT
BEGIN:VEVENT
DTSTART;TZID=UTC:20261205T120000
DTEND;TZID=UTC:20261205T180000
DTSTAMP:20260421T195636
CREATED:20251013T181326Z
LAST-MODIFIED:20260104T084447Z
UID:1428-1796472000-1796493600@westwindsauna.hu
SUMMARY:Greenfield Szauna nap 2026-12.05
DESCRIPTION:🎅 Nem csak virgács jár: Forró Mikulás Szauna Show a West Winddel! \nIdén a Mikulás nem szánon\, hanem szaunazászlóval érkezik Bükfürdőre! 🚩 Ismét visszatérünk kedvenc bükfürdői helyszínünkre\, a Greenfield Hotelbe\, hogy egy rendhagyó szaunanappal ajándékozzuk meg a forróság szerelmeseit. \n✅ Mikulás-váró tematikus show-k ✅ Csokis-mentás és fűszeres felöntések ✅ Garantált jókedv és profi legyezéstechnika \n📢 Készítsétek a törölközőket! A részletekkel hamarosan érkezünk!
URL:https://westwindsauna.hu/event/greenfiled-szauna-nap-2026-12-05/
LOCATION:Greenfield Hotel Bük\, Golf út 4.\, Bükfürdő\, VAs\, 9740\, Magyarország
ATTACH;FMTTYPE=image/png:https://westwindsauna.hu/wp-content/uploads/2024/09/Greenfield-20240921.png
ORGANIZER;CN="Greenfiled Hotel B%C3%BCk":MAILTO:reservation@greenfieldhotel.hu
END:VEVENT
BEGIN:VEVENT
DTSTART;VALUE=DATE:20261226
DTEND;VALUE=DATE:20261227
DTSTAMP:20260421T195636
CREATED:20251230T083700Z
LAST-MODIFIED:20251230T090719Z
UID:1534-1798243200-1798329599@westwindsauna.hu
SUMMARY:West Wind Ünnepi Szauna nap 2026.12.26. Hotel Caramell Bük
DESCRIPTION:✨ Karácsonyi Fények\, Forró Pillanatok: Ünnepi Szauna-rituálé a Caramellben! \nAmikor a karácsonyi rohanás véget ér\, kezdődik az igazi feltöltődés. 2026. december 26-án a West Wind csapata Bükfürdőre hozza el az ünnep nyugalmát és erejét. \n\n\nHelyszín: Hotel Caramell Premium Resort\, Bük \n\n\nIdőpont: 2026. december 26. \n\n\nÉlmény: Fahéjas-narancsos kényeztetés\, mirhás relaxáció és lélekemelő szauna-szertartások a karácsony jegyében. \n\n\n🎁 Ajándékozza meg magát a teljes ellazulással! Részletes ünnepi programunkkal hamarosan érkezünk.
URL:https://westwindsauna.hu/event/west-wind-unnepi-szauna-nap-2026-12-26-hotel-caramell-buk/
LOCATION:Caramell Premium Resort****superior\, Európa út 18\, Bük\,\, VAS\, 9740\, Magyarország
ATTACH;FMTTYPE=image/jpeg:https://westwindsauna.hu/wp-content/uploads/2024/06/Caramell_West-Wind.jpg
ORGANIZER;CN="Caramell Premium Resort Superior":MAILTO:info@caramell.hu
END:VEVENT
END:VCALENDAR