BEGIN:VCALENDAR
VERSION:2.0
PRODID:-//West Wind Sauna Team - ECPv6.15.20//NONSGML v1.0//EN
CALSCALE:GREGORIAN
METHOD:PUBLISH
X-WR-CALNAME:West Wind Sauna Team
X-ORIGINAL-URL:https://westwindsauna.hu
X-WR-CALDESC:Események West Wind Sauna Team
REFRESH-INTERVAL;VALUE=DURATION:PT1H
X-Robots-Tag:noindex
X-PUBLISHED-TTL:PT1H
BEGIN:VTIMEZONE
TZID:UTC
BEGIN:STANDARD
TZOFFSETFROM:+0000
TZOFFSETTO:+0000
TZNAME:UTC
DTSTART:20240101T000000
END:STANDARD
END:VTIMEZONE
BEGIN:VEVENT
DTSTART;VALUE=DATE:20251213
DTEND;VALUE=DATE:20251214
DTSTAMP:20260421T173403
CREATED:20241205T081738Z
LAST-MODIFIED:20251125T182423Z
UID:934-1765584000-1765670399@westwindsauna.hu
SUMMARY:Greenfiled Szauna nap; Meglepetés mesterrel! 2025.12.13
DESCRIPTION:🌬️ West Wind Szauna Nap – Egy Nap\, Öt Élményműhely! 🧖‍♀️🧖‍♂️ \nKészülj fel egy felejthetetlen szauna utazásra 2025. december 13-án\, a Greenfield Hotelben! A West Wind Sauna csapata olyan tematikus felöntésekkel készül\, amik garantáltan ellazítanak\, felpörgetnek és elvarázsolnak. Íme a programkínálatunk\, amire már most érdemes beírnod a naptárba! \n12:00. 🧘‍♀️ Relax Thomas Bergersen Zenére \nA szauna\, ami a lelkedhez szól. \nAjánlás: Lépj be egy olyan világba\, ahol a csend és a zene tökéletes harmóniája uralkodik. \nThomas Bergersen epikus\, mégis megnyugtató dallamai vezetik el a testedet és a szellemedet a legmélyebb relaxációba. Nincs más dolgod\, mint hátradőlni\, beszívni a finom illatokat és hagyni\, hogy az élmény elvigyen messze a mindennapok zajától. A béke szigete vár rád! Töltődj fel a karácsonyi rohanás előtt! Hőhatás/Erősség: Relax. Vendégek részére frissítő kínálható. \n  \n13:00. 🇫🇷 Klasszik Felöntés Francia Dallamokra \nEgy párizsi utazás\, szaunában\, elegánsan! \nAjánlás: Vive la France! Ezen a felöntésen a francia életérzés\, a „joie de vivre” találkozik a szauna forróságával. Laza\, dallamos\, klasszikus francia zenei válogatás\, finom illatokkal fűszerezve. Képzeld el\, ahogy egy párizsi kávézó teraszán üldögélsz\, miközben a forró gőz simogatja a bőröd. Egy cseppnyi elegancia és könnyedség\, ami felpezsdít! Hőhatás/Erősség: Relax ;Vendégek részére gyümölcs kínálható. \n14:30. 👵 Mrs. Doubtfire – Apa csak egy van! \nNevetés\, nosztalgia és gőz a család nevében! \nAjánlás: Ki ne szeretné a mindenre elszánt dadust? Ez a felöntés tiszteletadás a ’90-es évek egyik legmeghatóbb és legviccesebb filmje előtt! A film ikonikus zenéire és hangulataira építve könnyed\, humoros\, ugyanakkor szívmelengető szaunaélményben lesz részed. Tedd félre a gondokat\, és nevetőgörcsöktől kísérve élvezd a forróságot! Emlékezz\, a család az első… a szaunában is! . Hőhatás/Erősség: Intenzív Vendégek részére gyümölcslé kínálható \n  \n16:00. 👦 Pál utcai fiúk Musical Tematika \nA grund szelleme\, a szauna melegében! \nAjánlás: Gyere\, és éld át újra a gyerekkor és a barátság erejét! A Pál utcai fiúk musical slágereire épülő felöntés garantáltan libabőrös élményt nyújt. „Mi vagyunk a grund!” – A jól ismert dallamok\, a csapatmunka és a szauna forrósága felejthetetlen\, dinamikus programot ígér. Harcolj a „vörösingesek” ellen\, de csak a szauna törölköződdel! Egy igazi\, magyar nosztalgia szauna-show! Hőhatás/Erősség: Intenzív. Vendégek részére zöldségszeletek kínálható \n17:00. ✈️ Top Gun Maverick Felöntési Tematika \nPörgesd fel az élményt: Érezd a sebességet a forróságban! \nAjánlás: Kapaszkodj! Ez a felöntés a Top Gun: Maverick energiájával és tempójával érkezik! A film adrenalin-dús zenéire pörgős\, látványos mozdulatokkal szórjuk a forró gőzt\, mintha egy szupergyors vadászgép pilótafülkéjében ülnél. Ha a sebesség és az intenzív élmények híve vagy\, ez a te programod! Ne feledd: a szaunában a forróság veszélyzóna! \nNe maradj le ezekről a fantasztikus élményekről! West Wind Sauna Nap – 2025.12.13. – Greenfield Hotel. \n 
URL:https://westwindsauna.hu/event/greenfiled-szauna-nap-2025-12-13/
LOCATION:Greenfield Hotel Bük\, Golf út 4.\, Bükfürdő\, VAs\, 9740\, Magyarország
CATEGORIES:Szauna NAP
ATTACH;FMTTYPE=image/jpeg:https://westwindsauna.hu/wp-content/uploads/2023/10/greenfield1.jpg
ORGANIZER;CN="Greenfiled Hotel B%C3%BCk":MAILTO:reservation@greenfieldhotel.hu
END:VEVENT
BEGIN:VEVENT
DTSTART;VALUE=DATE:20251218
DTEND;VALUE=DATE:20251222
DTSTAMP:20260421T173403
CREATED:20250522T070743Z
LAST-MODIFIED:20251118T101604Z
UID:1197-1766016000-1766361599@westwindsauna.hu
SUMMARY:MEGTELT! Szaunamester képzés Sárvári Gyógy-\, és Wellnessfürdő 2025.12.18-21 (államilag elfogadott) MEGTELT!
DESCRIPTION:MEGTELT! Szaunamester képzés Sárvári Gyógy-\, és Wellnessfürdő 2025.12.18-21(államilag elfogadott) MEGTELT!\nSzaunamester képzésünk ismét új helyszínen a Sárvár Vadkert krt. 1 sétány 1. folytatja a 2025 évi alapképzéseket. \nÁllamilag elismert képesítés 10882008 programkövetelmény alapján! \n\nKedves Leendő Szaunamester!\n\n\nSzeretnél szaunamester lenni\, de nem tudod\, kitől tanulj?\n\n\nNe aggódj\, mi itt vagyunk\, hogy segítsünk neked ezen az izgalmas úton!\n\n\nEngedd meg\, hogy röviden bemutassuk\, mit kínálunk számodra:\n\n\n1. **Alapvető elméleti tudás**: Megtanítjuk neked a szükséges ismereteket\, amikkel tájékoztatni tudod a fürdővendégeket.\n\n\n2. **Gyakorlati tapasztalat**: A 4 napos képzés során minden nap szauna programot fogsz tartani. Ezzel nemcsak tanulsz\, hanem hőedzettséget is szerzel!\n\n\n3. **Hőterápia elsajátítása**: Megtanulod\, hogyan végezhetsz hőterápiát\, ami fontos része a szaunamester munkájának.\n\n\n4. **Személyre szabott oktatás**: A számodra legmegfelelőbb méretű szaunában sajátíthatod el a szakma lényegét.\n\n\n5. **Legyezési technikák**: Az alapképzés keretein belül megtanulhatod az alap négy legyezési technikát\, amelyekkel már bátran elhelyezkedhetsz.\n\n\n6. **Folyamatos támogatás**: A képzés után sem engedjük el a kezed! Segítünk a további fejlődésben és kérdéseid megválaszolásában.\n\n\nNe habozz! Csatlakozz hozzánk\, és kezd el a szaunamester kalandodat! Fedezd fel velünk a szaunázás csodálatos világát!\nMEGTELT!\nA 2026 évre tudunk regisztrációkat fogadni!\n\n\n\n\nJelentkezz: info@westwindsauna.hu\nTelefonon :+36 30 267 5989
URL:https://westwindsauna.hu/event/szaunamester-kepzes-sarvari-gyogy-es-wellnessfurdo-2025-12-18-21-allamilag-elfogadott/
LOCATION:Sárvári Gyógy-\, és Wellnessfürdő\, Vadkert krt. 1\, Sárvár\, VAS\, Hungary
CATEGORIES:Szaunamester oktatás
ATTACH;FMTTYPE=image/jpeg:https://westwindsauna.hu/wp-content/uploads/2025/05/Szaunamester-kepzes-20251218-21-Sarvar-masolat-scaled.jpg
ORGANIZER;CN="West Wind Sauna Team":MAILTO:info@westwindsauna.hu
END:VEVENT
END:VCALENDAR