BEGIN:VCALENDAR
VERSION:2.0
PRODID:-//West Wind Sauna Team - ECPv6.15.20//NONSGML v1.0//EN
CALSCALE:GREGORIAN
METHOD:PUBLISH
X-ORIGINAL-URL:https://westwindsauna.hu
X-WR-CALDESC:Események West Wind Sauna Team
REFRESH-INTERVAL;VALUE=DURATION:PT1H
X-Robots-Tag:noindex
X-PUBLISHED-TTL:PT1H
BEGIN:VTIMEZONE
TZID:UTC
BEGIN:STANDARD
TZOFFSETFROM:+0000
TZOFFSETTO:+0000
TZNAME:UTC
DTSTART:20240101T000000
END:STANDARD
END:VTIMEZONE
BEGIN:VEVENT
DTSTART;VALUE=DATE:20251122
DTEND;VALUE=DATE:20251123
DTSTAMP:20260421T185722
CREATED:20241205T081546Z
LAST-MODIFIED:20251119T063656Z
UID:932-1763769600-1763855999@westwindsauna.hu
SUMMARY:Greenfiled Szauna nap 2025.11.22
DESCRIPTION:Csapatunk ismét visszatér Bükfürdőbe a **** Superior Greenfield Hotelbe és tematikus szauna show programokkal szórakoztatja a szauna szerelmeseit. \n \nGreenfiled Szauna nap 2025.11.22 \n12:00 Olasz Dallamok.  \nAz olasz zenei alapokra épülő program során elvarázsoljuk kicsit Rómába vendégeinket. Illatjegyek Kávé-Méz\, Lime- Narancs-Bergamotte Hőhatás/Erősség: Relax Vendégek részére frissítő kínálható. \n13:00 Magyar Líra \nA magyar zenei előadók lírai hangvételű dallamai csendülnek fel a relax délután során. Illatjegyek Rebarbara Alma\, Ánizs-Zöldmandarin\, Fahéjlevél- Citrom. Hőhatás/Erősség: Relax Vendégek részére gyümölcs kínálható. \n14:30 A legnagyobb showman (The Greatest Show) ;  \nLépj be a Fénybe! Lépj be a Forróságba! \nTedd félre a hétköznapokat\, és merülj el P.T. Barnum csodálatos világában\, ahol a gőz az illatok\, a hőség pedig az élményeink nagyságát jelképezi! A The Greatest Steam Show egy felöntés-sorozat\, amely minden porcikádat megmozgatja\, és elrepít a cirkusz ragyogásába. \n. Illatjegyek\, Homoktövis\, Paradise Flower\, Fodormenta-Feketebors . Hőhatás/Erősség: Intenzív Vendégek részére gyümölcslé kínálható \n16:00 Harry Potter \n⚡️ Elhozzuk Roxfort Mágikus Gőzét! – Harry Potter Szauna Program 🧙 \nKészen állsz egy olyan utazásra\, amilyenben még nem volt részed? \nVegyél részt a legvarázslatosabb szauna szeánszon\, ahol a gőz a bájitalok illatát hordozza\, és a felöntések közben te is Roxfort diákjának érezheted magad! Hagyd a mugli világot a falakon kívül\, és lépj be a pihenés és a mágia birodalmába.  Illatjegyek: Szegfűszeg \, Édesnarancs\, Eukaliptus Cseresznye\, Menta Tonkafa Hőhatás/Erősség: Intenzív. Vendégek részére zöldségszeletek kínálható \n17:00 Indul a Bakterház \nHagyd\, hogy a forróság elűzze a téli hideget és a felesleges gondokat\, miközben Bendegúz\, a Bakter és a Banya legendás alakjai körül forog a szauna szeánsz! A Bakter-ház Szauna Program egy ízig-vérig magyar\, nosztalgikus és humoros utazás a gyerekkor és a szaunázás varázslatos világába. Illatjegyek: Szénavirág\, Vanília Citrom\, Mentolkristály-Szilvapálinka\, Hőhatás/Erősség: Intenzív-erős. Vendégek részére frissítő kínálható \nA programon külsős vendégek is részt vehetnek! \n  \nMiért válaszd a Greenfield Hotel szauna világát? \n\nProfesszionális szaunamesterek: A szauna rítusok mesterei gondoskodnak arról\, hogy minden pillanatod élvezetes legyen.\nEgyedi illatkompozíciók: Minden programhoz kifejlesztett\, különleges illatok fokozzák az élményt.\nFelejthetetlen hangulat: A zene\, a fények és az illatok tökéletes harmóniája egyedülálló élményt nyújt.\nKellemes társaság: Találkozz új emberekkel és tölts el egy felejthetetlen estét!\n\nFoglalj helyet most és engedd el magad! \nHOTEL OLDALA Belépők/Árak \nTovábbi információkért látogass el a Greenfield Hotel honlapjára vagy keress minket elérhetőségeinken! https://greenfield.adventorhotels.hu/west-wind-sauna-team-show \n#GreenfieldHotel #Szauna #Wellnes #WestWindSaunaTeam #Bük
URL:https://westwindsauna.hu/event/greenfiled-szauna-nap-2025-11-22/
LOCATION:Greenfield Hotel Bük\, Golf út 4.\, Bükfürdő\, VAs\, 9740\, Magyarország
CATEGORIES:Szauna NAP
ATTACH;FMTTYPE=image/png:https://westwindsauna.hu/wp-content/uploads/2024/09/Greenfield-20240921.png
ORGANIZER;CN="Greenfiled Hotel B%C3%BCk":MAILTO:reservation@greenfieldhotel.hu
END:VEVENT
END:VCALENDAR