BEGIN:VCALENDAR
VERSION:2.0
PRODID:-//West Wind Sauna Team - ECPv6.15.20//NONSGML v1.0//EN
CALSCALE:GREGORIAN
METHOD:PUBLISH
X-ORIGINAL-URL:https://westwindsauna.hu
X-WR-CALDESC:Események West Wind Sauna Team
REFRESH-INTERVAL;VALUE=DURATION:PT1H
X-Robots-Tag:noindex
X-PUBLISHED-TTL:PT1H
BEGIN:VTIMEZONE
TZID:UTC
BEGIN:STANDARD
TZOFFSETFROM:+0000
TZOFFSETTO:+0000
TZNAME:UTC
DTSTART:20240101T000000
END:STANDARD
END:VTIMEZONE
BEGIN:VEVENT
DTSTART;TZID=UTC:20250607T100000
DTEND;TZID=UTC:20250607T180000
DTSTAMP:20260422T013330
CREATED:20250204T134245Z
LAST-MODIFIED:20250326T164329Z
UID:1030-1749290400-1749319200@westwindsauna.hu
SUMMARY:MenDan - West Wind Sauna Team „Pünkösd” 2025.06.07.
DESCRIPTION:2025.06.07. West Wind Sauna Team MenDan Magic Hotel „Pünkösdi Szauna Party” \n10:00 Tavaszi ébredés). A magyar zenei alapokra épülő program ideális a relaxációra a reggeli ébredést követően. Illatjegyekben virágos\, nyugtató illatelemek jelennek meg (száraznövény körömvirág\, kamilla) A vendégek részére tea kínálható. Intenzitás alacsony\, Hőhatás Közepes! \n11:00 Voice-Thomas Bergersen. Instrumentális zenei szaunaprogram\, igazi modern-klasszikus zenevilág jelenik meg. (Illatanyagban Lime\, Mirtusz\, Bergamotte jellemző) Vendégek részére frissítő adható. Intenzitás közepes\, hőhatás fokozott.13:00 Aladdin. Engedjétek\, hogy elrepítsünk benneteket Agrabah csodálatos világába\, ahol a szauna füstjében a varázslat és a pihenés találkozik! Aladdin mesés kalandjai elevenednek meg\, miközben a keleti bazárok illata\, és a legendás dallamok elvarázsolnak mindenkit. (Illatanyagban Ánizs\, Szegfűszeg\, Fahéj) Hőhatás közepes; Vendégek részére keleti tea kínálható \n14:00 Huszárosan; Igazi magyar virtus a tradicionális zenei témára épülő szaunaprogram során  (Illatjegyek: kékszőllő\, rozmaring lime\, szénavirág) Intenzitás :Erős Vendégek részére rozé bor kínálható \n16:00 Indul a Bakterház. Egy hamisítatlan ízig vérig magyar életérzésekkel tarkított show program. Történetünkben megjelenik: A Banyai\, Buga Józsi\, A Lópatás és Bendegúz a Bakterház történetében. a részére Bor kínálható a program végén (1 dl max). Intenzitás Erős\, hőhatás. Fokozottan erős! \n17:00 Pünkösdi Mulatos Mix 3.0! Intenzitás: magas\, Hőhatás: erős\nBúcsúzunk a tavasztól egy hamisítatlan\, mulatós válogatással. A program során idézzük fel a MenDan Magic Hotel vendégeit szórakoztató sztárokat. \n  \n  \n 
URL:https://westwindsauna.hu/event/mendan-west-wind-sauna-team-szauna-party-2025-06-07/
LOCATION:MenDan Hotel **** Zalakaros\, Gyógyfürdő tér 8.\, Zalakaros\, ZALA\, 8749\, Magyarország
ATTACH;FMTTYPE=image/jpeg:https://westwindsauna.hu/wp-content/uploads/2025/02/1174681.jpg
END:VEVENT
BEGIN:VEVENT
DTSTART;TZID=UTC:20250608T130000
DTEND;TZID=UTC:20250608T180000
DTSTAMP:20260422T013330
CREATED:20250122T172742Z
LAST-MODIFIED:20250319T193239Z
UID:1011-1749387600-1749405600@westwindsauna.hu
SUMMARY:West Wind Szauna nap 2025.06.08 Caramell Pünkösdi Parti
DESCRIPTION:2025.06.08. West Wind Sauna Team Caramell Hotel Bükfürdő  \n„Pünkösdi Szauna Party” \n\n13:00 Tavaszi délután). A magyar zenei alapokra épülő program ideális relaxációra a délután pihenést követő feltőltődésre. Illatjegyekben virágos\, nyugtató illatelemek jelennek meg (szénavirág\, geránium\, ylang-ylang) A vendégek részére tea kínálható. Intenzitás alacsony\, Hőhatás Közepes!\n14:00 Mamma Mia! Sose hagyjuk ABBA! Visszatérünk a varázslatos görög szigetre\, Kalokairire ebben a musicalben\, mely szintén az ABBA dalaira épül. Ide-oda ingázunk az időben (hőben)\, és megmutatjuk\, hogy a múltbéli kapcsolatok miképp hatnak a jelenre. (Erős Fás illatok\, tonka-tolu-méz\, édeskömény\, Cubeba-Bergamotte) A vendégek részére Ouzo ital kínálható. Intenzitás Magas\, Hőhatás Erős!\n15:30 Halálos Iramban. Száguldás\, izzó forróság a kultusz film hősei jelennek meg a programban és zenében Vendégek részére sör kínálható a program végén. Intenzitás Erős\, hőhatás. Fokozottan erős!\n17:00 Spirit Szilaj\, a vad völgy paripája rajzfilm zenéje elevenedik meg a program során. Illatjegyek szénavirág\, homoktövis\, menta. Hőhatás/Erősség: Intenzív Vendégek részére gyümölcslé kínálható\n18:00 Pünkösdi Mulatos Mix 3.0! Búcsúzunk a tavasztól  egy hamisítatlan\, mulatós válogatással A sztár vendékeket idézzük fel\, a Caramell Hotel vendégeit szórakoztató sztárokat.(Illatjegyek: Homoktövis\, Erdei gyümölcs-menta\, Szilva hidrolátum) A vendégek részére Pezsgő kínálható. Intenzitás Magas\, Hőhatás Erős!\n\nRészletek a Hotel honlapján! \nSzaunavilág
URL:https://westwindsauna.hu/event/west-wind-szauna-nap-2025-07-08-punkosd/
LOCATION:Hotel Caramell Bükfürdő\, Európa út 18\, Bük\, VAS\, 9740
ATTACH;FMTTYPE=image/jpeg:https://westwindsauna.hu/wp-content/uploads/2025/02/1174549.jpg
ORGANIZER;CN="Caramell Premium Resort Superior":MAILTO:info@caramell.hu
END:VEVENT
BEGIN:VEVENT
DTSTART;TZID=UTC:20250628T140000
DTEND;TZID=UTC:20250628T190000
DTSTAMP:20260422T013330
CREATED:20250512T182924Z
LAST-MODIFIED:20250519T152718Z
UID:1180-1751119200-1751137200@westwindsauna.hu
SUMMARY:West Wind Team kerti szauna nap 2025.06.28. Szombat
DESCRIPTION:Újra megnyitja kapuit 2025.06.28 a West Wind Team kerti szaunája!\n\n\n\nA forró napok beköszöntével mi is hívjuk Önt egy különleges wellness napra\, a pihenés és feltöltődés jegyében! \nFedezze fel a tradicionális szaunázás varázslatos világát\, és engedje át magát a forró gőzök ölelésének\, miközben a természet közelsége megnyugtatja lelkét. „Kerti Szauna Napunkon” minden részletre odafigyelünk\, hogy Ön tökéletesen átélhesse ezt a különleges élményt. \nHívja meg barátait vagy családját is\, és töltődjenek fel együtt a madarak csicsergése közepette\, miközben élvezik a szauna testi-lelki jótékony hatásait. Ne hagyja ki ezt a remek alkalmat a megújulásra! Fedezze fel a kerti szaunázás rejtelmeit\, és tegye ezt a napot felejthetetlenné velünk! \nMiért válasszon minket? \n\nTradicionális szaunázás a természet ölelésében.\nKülönleges „Kerti Szauna Nap” programok és gasztronómia élmények.\nTökéletes helyszín a pihenéshez és feltöltődéshez.\nBarátságos és figyelmes kiszolgálás\, mert nálunk ÖN az első!\nKiváló ár-érték arány!\n\nFoglaljon időpontot még ma\, és élvezze a nyár kényeztetését! \n \n\n\n\nA felöntésen és kemencés étkezésen  való részvételi díj 11.000\,-Ft/fő\nA foglalást az 50% fizetési előleg megfizetését követően biztosítjuk (átutalás).\nREGISZTRÁCIÓ:\n\n\n\n\n\n\nJEGYEK\n\n\n\n\n\n\n 
URL:https://westwindsauna.hu/event/west-wind-team-kerti-szauna-nap-2025-06-28-szombat/
LOCATION:WEST WIND PARKERDŐ\, Pipacs utca 784\, Parkerdő\, VAS\, 9700\, Magyarország
ATTACH;FMTTYPE=image/jpeg:https://westwindsauna.hu/wp-content/uploads/2025/01/megtelt.jpg
ORGANIZER;CN="West Wind Sauna Team":MAILTO:info@westwindsauna.hu
END:VEVENT
END:VCALENDAR