BEGIN:VCALENDAR
VERSION:2.0
PRODID:-//West Wind Sauna Team - ECPv6.15.20//NONSGML v1.0//EN
CALSCALE:GREGORIAN
METHOD:PUBLISH
X-ORIGINAL-URL:https://westwindsauna.hu
X-WR-CALDESC:Események West Wind Sauna Team
REFRESH-INTERVAL;VALUE=DURATION:PT1H
X-Robots-Tag:noindex
X-PUBLISHED-TTL:PT1H
BEGIN:VTIMEZONE
TZID:UTC
BEGIN:STANDARD
TZOFFSETFROM:+0000
TZOFFSETTO:+0000
TZNAME:UTC
DTSTART:20240101T000000
END:STANDARD
END:VTIMEZONE
BEGIN:VEVENT
DTSTART;TZID=UTC:20250503T100000
DTEND;TZID=UTC:20250503T170000
DTSTAMP:20260422T030807
CREATED:20250326T171422Z
LAST-MODIFIED:20250326T171422Z
UID:1113-1746266400-1746291600@westwindsauna.hu
SUMMARY:West Wind Mulatós Party 2025.05.03. MenDan Magic Hotel
DESCRIPTION:10:00: „Tavaszi ébredés lágy dallamokkal – Frissülj fel magyarosan!”  \nIntenzitás: Lágy\, mint a reggeli szellő. Hőhatás: Közepesen melengető\, mint a tavaszi napsütés. \n„Kezdjük a napot egy kellemes\, relaxáló szaunázással\, ahol a zene lágy dallamai segítenek ellazulni és feltöltődni. Ébredjünk együtt a tavasz frissességére!” \n11:00: „Dáridó! – A szauna a mulatás színtere!”1.0  \nIntenzitás: Lendületes\, mint egy igazi mulatós buli! Hőhatás: Forró\, mint a mulatós hangulat! \n„Engedjük szabadjára a mulatós energiákat a szaunában! A legnagyobb mulatós slágerekkel idézzük fel a legjobb emlékeket\, és forrósítsuk fel a hangulatot! Ez a szauna-party garantáltan felejthetetlen lesz!” \n13:00: „Pál utcai fiúk szauna-csata – A grund szelleme a forróságban!”  \nIntenzitás: Közepes\, mint egy jó grund-meccs. Hőhatás: Közepesen izzasztó\, mint a grundon való játék! \n„Elevenítsük fel a Pál utcai fiúk legendás történetét a szaunában! A magyar irodalom klasszikusának hangulata keveredik a szauna forróságával. Érezzük át a barátság\, a bátorság és az összetartozás erejét!” \n14:00: „Szauna-karnevál – Latin láz\, magyar virtus!”2.0  \nIntenzitás: erős! Hőhatás:erős A forróság és a jókedv tetőfoka! \n„Engedjük szabadjára a latin szenvedélyt és a magyar temperamentumot a szaunában! Tánc\, zene\, forróság – ez a mi receptünk a tökéletes hétvégi kikapcsolódáshoz!” Vendégek részére gyümölcs kínálható \n  \n16:00: „Popp-Tarisznya! – A 80-as\, 90-es évek slágerei a forróságban!”  \nIntenzitás: Lendületes\, mint egy retro diszkó! Hőhatás: Forró\, mint a régi idők emléke! \n„Utazzunk vissza az időben a szaunában! A 80-as és 90-es évek legnagyobb slágereivel idézzük fel a régi emlékeket\, és forrósítsuk fel a hangulatot! Ez a szauna-party garantáltan felejthetetlen lesz!” \n17:00 Majális-Mulatos Mix 3.0!\n„Szauna mulatság\, ahogy a csárdában illik!” Intenzitás: magas\, Hőhatás: erős\nBúcsúzunk a tavasztól egy hamisítatlan\, mulatós válogatással. A program során idézzük fel a MenDan Magic Hotel vendégeit szórakoztató sztárokat. Vendégek részére sör kínálható. \n 
URL:https://westwindsauna.hu/event/west-wind-mulatos-party-2025-05-03-mendan-magic-hotel/
LOCATION:MenDan Hotel **** Zalakaros\, Gyógyfürdő tér 8.\, Zalakaros\, ZALA\, 8749\, Magyarország
ATTACH;FMTTYPE=image/jpeg:https://westwindsauna.hu/wp-content/uploads/2025/02/1174681.jpg
ORGANIZER;CN="MenDan **** Zalakaros":MAILTO:reservation@mendan.hu
END:VEVENT
BEGIN:VEVENT
DTSTART;TZID=UTC:20250510T120000
DTEND;TZID=UTC:20250510T200000
DTSTAMP:20260422T030807
CREATED:20250304T134058Z
LAST-MODIFIED:20250422T072002Z
UID:1056-1746878400-1746907200@westwindsauna.hu
SUMMARY:ELMARAD !!!   West Wind Szauna "GÁLA" a Lótusz központban 2025.05.10.
DESCRIPTION:
URL:https://westwindsauna.hu/event/west-wind-szauna-gala-a-lotusz-kozpontban-2025-05-10/
LOCATION:Lótusz Központ Tatabánya\, Tatabánya\, Környei út 33.\, Komárom-Esztergom\, 2800\, Hungary
ATTACH;FMTTYPE=image/jpeg:https://westwindsauna.hu/wp-content/uploads/2025/03/unnamed.jpg
ORGANIZER;CN="L%C3%B3tusz K%C3%B6zpont":MAILTO:info@lotuszkozpont.hu
END:VEVENT
BEGIN:VEVENT
DTSTART;TZID=UTC:20250510T140000
DTEND;TZID=UTC:20250510T190000
DTSTAMP:20260422T030807
CREATED:20250422T074018Z
LAST-MODIFIED:20250429T125225Z
UID:1128-1746885600-1746903600@westwindsauna.hu
SUMMARY:Újra megnyitja kapuit a West Wind Team kerti szaunája! 2025.05.10. Szombat
DESCRIPTION:Újra megnyitja kapuit 2025.05.10. a West Wind Team kerti szaunája!\n\n\n\nA forró napok beköszöntével mi is hívjuk Önt egy különleges wellness napra\, a pihenés és feltöltődés jegyében! \nFedezze fel a tradicionális szaunázás varázslatos világát\, és engedje át magát a forró gőzök ölelésének\, miközben a természet közelsége megnyugtatja lelkét. „Kerti Szauna Napunkon” minden részletre odafigyelünk\, hogy Ön tökéletesen átélhesse ezt a különleges élményt. \nHívja meg barátait vagy családját is\, és töltődjenek fel együtt a madarak csicsergése közepette\, miközben élvezik a szauna testi-lelki jótékony hatásait. Ne hagyja ki ezt a remek alkalmat a megújulásra! Fedezze fel a kerti szaunázás rejtelmeit\, és tegye ezt a napot felejthetetlenné velünk! \nMiért válasszon minket? \n\nTradicionális szaunázás a természet ölelésében.\nKülönleges „Kerti Szauna Nap” programok és gasztronómia élmények.\nTökéletes helyszín a pihenéshez és feltöltődéshez.\nBarátságos és figyelmes kiszolgálás\, mert nálunk ÖN az első!\nKiváló ár-érték arány!\n\nFoglaljon időpontot még ma\, és élvezze a nyár kényeztetését! \n\n\n\nA felöntésen és kemencés étkezésen  való részvételi díj 11.000\,-Ft/fő\nA foglalást az 50% fizetési előleg megfizetését követően biztosítjuk (átutalás).\nREGISZTRÁCIÓ:\n\n\n\n\n\n\nJEGYEK\n\n\n\n\n\n\n 
URL:https://westwindsauna.hu/event/ujra-megnyitja-kapuit-a-west-wind-team-kerti-szaunaja-2025-05-10-szombat/
LOCATION:WEST WIND PARKERDŐ\, Pipacs utca 784\, Parkerdő\, VAS\, 9700\, Magyarország
ATTACH;FMTTYPE=image/png:https://westwindsauna.hu/wp-content/uploads/2024/05/Kerti-Meglet.png
ORGANIZER;CN="West Wind Sauna Team":MAILTO:info@westwindsauna.hu
END:VEVENT
END:VCALENDAR