BEGIN:VCALENDAR
VERSION:2.0
PRODID:-//West Wind Sauna Team - ECPv6.15.20//NONSGML v1.0//EN
CALSCALE:GREGORIAN
METHOD:PUBLISH
X-WR-CALNAME:West Wind Sauna Team
X-ORIGINAL-URL:https://westwindsauna.hu
X-WR-CALDESC:Események West Wind Sauna Team
REFRESH-INTERVAL;VALUE=DURATION:PT1H
X-Robots-Tag:noindex
X-PUBLISHED-TTL:PT1H
BEGIN:VTIMEZONE
TZID:UTC
BEGIN:STANDARD
TZOFFSETFROM:+0000
TZOFFSETTO:+0000
TZNAME:UTC
DTSTART:20240101T000000
END:STANDARD
END:VTIMEZONE
BEGIN:VEVENT
DTSTART;VALUE=DATE:20250101
DTEND;VALUE=DATE:20250102
DTSTAMP:20260422T091530
CREATED:20240629T101732Z
LAST-MODIFIED:20241212T194125Z
UID:616-1735689600-1735775999@westwindsauna.hu
SUMMARY:Egész nap Caramell Hotel – Pót-Szilveszter 2025.01.01
DESCRIPTION:Szauna program ajánlások a Hotel Caramell 2025.01.01-i újévi szauna partijához:\n11:00 A Pál utcai fiúk: Indulj el velünk egy nosztalgikus utazásra a gyerekkorba! A Pál utcai fiúk világát idéző szaunaprogram egy vidám és felejthetetlen élmény lesz kicsiknek és nagyoknak egyaránt. \n13:00 Bosszúállók: Hősként érezd magad a szaunában! A Bosszúállók tematikájú szaunaprogram izgalmas és energizáló élményt nyújt\, mely során a szuperhősök erejét érezheted magadban. \n14:00 Spirit: Engedd szabadjára a lelked az ismert rajzfilm zenéje alapján! A Spirit szaunaprogram egy különleges élményre hív\, ahol a természet elemeivel találkozhatsz. \n15:30 Üvegtigris: Nevetésre fel! Az Üvegtigris szaunaprogram garantáltan mosolyt csal az arcodra\, egy vidám és felejthetetlen élményt nyújtva. \n16:30 Újévi mulatós: Ünnepelj velünk az újév első napján! Az Újévi mulatós szaunaprogram egy fergeteges buli\, ahol a jókedv és a tánc a főszerepben. \n \n\nTematikus változatosság: A programok széles skálája biztosítja\, hogy mindenki megtalálja a számára legvonzóbb élményt.\nÉrzelmi bevonódás: A nosztalgia\, a kaland\, a relaxáció és a mulatság olyan érzések\, amelyekkel a programok azonosulni tudnak.\nCsaládias hangulat: A Pál utcai fiúk programmal a családok is együtt élvezhetik a szaunázást.\nÚjévi ünneplés: Az Újévi mulatós program tökéletes választás azoknak\, akik szeretnének egy vidám hangulatban búcsúzni az óévtől és ünnepelni az újat.\n\nNe hagyd ki ezt a különleges lehetőséget\, hogy az újév első napján egy felejthetetlen wellness élményben legyen részed! Foglalj helyet még ma a Hotel Caramell újévi szauna partijára! \n \n#Wellness #Szauna #Újévibuli #HotelCaramell #WestWindSzaunaTeam
URL:https://westwindsauna.hu/event/egesz-nap-caramell-hotel-pot-szilveszter-2025-01-01/
LOCATION:Caramell Premium Resort****superior\, Európa út 18\, Bük\,\, VAS\, 9740\, Magyarország
CATEGORIES:Szauna NAP
ATTACH;FMTTYPE=image/jpeg:https://westwindsauna.hu/wp-content/uploads/2024/06/Caramell_West-Wind.jpg
ORGANIZER;CN="Caramell Premium Resort Superior":MAILTO:info@caramell.hu
END:VEVENT
BEGIN:VEVENT
DTSTART;VALUE=DATE:20250118
DTEND;VALUE=DATE:20250119
DTSTAMP:20260422T091530
CREATED:20241226T174127Z
LAST-MODIFIED:20241226T174552Z
UID:952-1737158400-1737244799@westwindsauna.hu
SUMMARY:MJUS West Wind Szauna Nap 2025.01.18
DESCRIPTION:Csapatunk az év elején egy fergeteges szauna nappal kedveskedik a szauna szerelmeseinek. A MJUS mesterei és a WEST WIND mesterei karöltve közel 14 felöntéssel kápráztatja el vendégeit! \nAz ország egyik legszebb szaunájába várjuk valamennyi vendégünket a szauna megszállottjainak itt a helye! \nMi ott leszünk! Tudjátok a ki lemarad\, Kimarad!!! \nNe feledjétek beírni a naptárba !
URL:https://westwindsauna.hu/event/mjus-west-wind-szauna-nap-2025-01-18/
LOCATION:MJUS RESTOR\, Rákóczi u. 154/B\, Körmend\,\, VAS\, 9900\, Magyarország
CATEGORIES:Szauna NAP
ATTACH;FMTTYPE=image/jpeg:https://westwindsauna.hu/wp-content/uploads/2024/12/LDoKCe6t.jpg
ORGANIZER;CN="Mjus Resort & Thermal Park":MAILTO:eception@mjusresort.com
END:VEVENT
BEGIN:VEVENT
DTSTART;TZID=UTC:20250118T093000
DTEND;TZID=UTC:20250118T190000
DTSTAMP:20260422T091530
CREATED:20250103T082138Z
LAST-MODIFIED:20250103T082402Z
UID:988-1737192600-1737226800@westwindsauna.hu
SUMMARY:MJUS RESORT - WEST WIND SZAUNAMARATON! 2025.01.18
DESCRIPTION:MJUS RESORT – WEST WIND SZAUNAMARATON!  2025.01.18\nAlig 3 héttel a telt házas óévbúcsúztató szaunamaratonunk után a West Wind Sauna Team – el közösen megrendezzük a 2025-ös év első szaunanapját!\n\n\nA programokon szállodánk mesterei mellett a West Wind Sauna Team tagjai kápráztatják el a nagyérdeműt pazar programokkal\, így tehát közel egy tucat kiváló szaunamester parádésnak ígérkező programokkal készül az egész napos rendezvényen a körmendi MJUS Resort megújult szaunavilágában.\n\n\nBővebb információ és foglalási lehetőség alább az eseményben!\nVárunk mindenkit sok szeretettel! \n\n\n\n\n\n\n\n\n\n\n\n\nEgy szaunanap\, amelyen szállodánk szaunamesterei mellett a West Wind Sauna Team tagjai színesítik programjaikkal a napot.\nENTRY csomag:– Belépő a fürdő és a szaunavilág területére– Szaunaprogramokon való részvétel (regisztrációhoz kötött)– Korlátlan szaunatörölköző használat– Gyümölcsfogyasztás– 17:00 órától tea és forrócsoki fogyasztás– Személyes tárgyak elhelyezésére szolgáló öltözőszekrény-használatÁr: 13.900 Ft / fő\nPremium csomag:– Belépő a fürdő és a szaunavilág területére– Szaunaprogramokon való részvétel (regisztrációhoz kötött)– Korlátlan szaunatörölköző használat– Gyümölcsfogyasztás– 17:00 órától tea és forrócsoki fogyasztás– Személyes tárgyak elhelyezésére szolgáló öltözőszekrény-használat– Szauna-relax használatÁr: 16.900 Ft / fő
URL:https://westwindsauna.hu/event/mjus-resort-west-wind-szaunamaraton-2025-01-18/
LOCATION:MJUS RESTOR\, Rákóczi u. 154/B\, Körmend\,\, VAS\, 9900\, Magyarország
CATEGORIES:Szauna NAP
ATTACH;FMTTYPE=image/jpeg:https://westwindsauna.hu/wp-content/uploads/2025/01/472141396_912768791038596_5789612516307927144_n.jpg
END:VEVENT
BEGIN:VEVENT
DTSTART;VALUE=DATE:20250125
DTEND;VALUE=DATE:20250126
DTSTAMP:20260422T091530
CREATED:20241205T081040Z
LAST-MODIFIED:20250112T193350Z
UID:923-1737763200-1737849599@westwindsauna.hu
SUMMARY:Greenfiled Szauna nap 2025.01.25
DESCRIPTION:Csapatunk ismét visszatér Bükfürdőbe a **** Superior Greenfield Hotelbe és tematikus szauna show programokkal szórakoztatja a szauna szerelmeseit. \n\n \n13.00\, RELAX – Magyar zenékkel. relax program\, élő növényekkel a kályhán. (illatanyagban Menta\, Citromfű\, Csokimenta\, ) Vendégek részére adható tea különlegesség. Intenzitás közepes\, hőhatás közepes. \n14.00. Magyar Retro Disco Slágerek. A Retro Slágerei zenei alapjai jelennek meg a programunk során. Illatjegyekben virágos\, friss illatelemek jelennek meg. Ylang-Ylag\, Geránium\, Bergamote.) A vendégek részére frissítő kínálható. Intenzitás közepes\, Hőhatás Közepes! \n15:30. Top Gun- Maverick. Filmzenei alapokra épülő tematikus show program A csapat és közösség előtérbe helyezése\, fontosságának kiemelése. (Erős Fás illatok\, nyírfa\, tonka fa\, Tolu balzsamfa) A vendégek részére gyümölcs kínálható. Intenzitás Magas\, Hőhatás Erős! \n17.00. Padlás. a musical alapján felépülő igazai magyar jelmezes show program A csapat és közösség előtérbe helyezése\, fontosságának kiemelése. (Erős Fás illatok\, nyírfa-méz\, homoktövis) A vendégek részére gyümölcs kínálható. Intenzitás Magas\, Hőhatás Erős! \n18:00. A Poptarisznya rádió a nagy sikerű műsor régi retro zenék kedvelőinek kedveskedik\, így a 70-es\, 80-as és a 90-es évek legjobb és legkellemesebb emlékeket idéző pop\, rock és disco zenéiből válogatunk! Illatjegyekben mentolos citrus illatelemek jelennek meg. Vendégek részére; traubi-gyömbér adható. Intenzitás közepes\, hőhatás közepes.
URL:https://westwindsauna.hu/event/greenfiled-szauna-nap-2025-01-25/
LOCATION:Greenfield Hotel Bük\, Golf út 4.\, Bükfürdő\, VAs\, 9740\, Magyarország
CATEGORIES:Szauna NAP
ATTACH;FMTTYPE=image/png:https://westwindsauna.hu/wp-content/uploads/2024/09/Greenfield-20240921.png
ORGANIZER;CN="Greenfiled Hotel B%C3%BCk":MAILTO:reservation@greenfieldhotel.hu
END:VEVENT
BEGIN:VEVENT
DTSTART;TZID=UTC:20250129T080000
DTEND;TZID=UTC:20250129T170000
DTSTAMP:20260422T091530
CREATED:20250129T183538Z
LAST-MODIFIED:20250129T183538Z
UID:1021-1738137600-1738170000@westwindsauna.hu
SUMMARY:West Wind & MJUS Körmend Szaunamester Edzőtábor „FreeStyle”
DESCRIPTION:West Wind & MJUS Körmend Szaunamester Edzőtábor „FreeStyle” \n  \nSzeretnél egy új szaunázási trend élményében részt venni? \n  \nEgyedi és új ventilációs technikákat kipróbálni?West Wind & MJUS Körmend Szaunamester Edzőtábor „FreeStyle”Felmérni a technika és erőnléti állapotod? \nFelkészülni az ország egyik legszebb és legnagyobb szaunájában? \n \nHa IGEN akkor itt a helyed a WEST WIND  & MJUS Körmend szaunamester edzőtáborában: \n \n\n 2025. március 22-23. (SZO-VA)\n\nJelentkezz és légyél részese ennek  kivételes hétvégének!
URL:https://westwindsauna.hu/event/west-wind-mjus-kormend-szaunamester-edzotabor-freestyle/
LOCATION:VAS
END:VEVENT
END:VCALENDAR