BEGIN:VCALENDAR
VERSION:2.0
PRODID:-//West Wind Sauna Team - ECPv6.15.20//NONSGML v1.0//EN
CALSCALE:GREGORIAN
METHOD:PUBLISH
X-WR-CALNAME:West Wind Sauna Team
X-ORIGINAL-URL:https://westwindsauna.hu
X-WR-CALDESC:Események West Wind Sauna Team
REFRESH-INTERVAL;VALUE=DURATION:PT1H
X-Robots-Tag:noindex
X-PUBLISHED-TTL:PT1H
BEGIN:VTIMEZONE
TZID:UTC
BEGIN:STANDARD
TZOFFSETFROM:+0000
TZOFFSETTO:+0000
TZNAME:UTC
DTSTART:20230101T000000
END:STANDARD
END:VTIMEZONE
BEGIN:VEVENT
DTSTART;VALUE=DATE:20241206
DTEND;VALUE=DATE:20241207
DTSTAMP:20260422T104519
CREATED:20240629T101542Z
LAST-MODIFIED:20241206T080758Z
UID:613-1733443200-1733529599@westwindsauna.hu
SUMMARY:Egész nap Caramell Hotel – Mikulás Party 2024.12.06
DESCRIPTION:Egész nap Caramell Hotel – Mikulás Party 2024.12.06 \n 15:00 Sztárkarácsony.  \nAz Advent várva felcsendülnek az ünnepi zenék a karácsony hangulatát varázsolják a szaunába. Illatjegyekben narancs szegfűszeg\, citrom méz illatjegyek. Relax Vendégek részére gyümölcs kínálható. \n16:00  Thomas Bergersen -relax. \nA neves instrumentális zeneszerző relax programjában\, lírai zene mellett élő növényekkel a kályhán. ( Citromfű-Levendula\, Mirtusz\, jellemző) szellemüljünk át a ünnepekre. Vendégek részére adható  tea különlegesség. Intenzitás közepes\, hőhatás közepes. \n17:00 Reszkessetek betörők! \nMert ugye nincs karácsony Kevin nélkül! Ebben a történetben megjelenik a karácsonyi kultuszfilm számos szereplője Illatjegyek: gyümölcs és sült édességek (Lime\, Szegfűszeg\, Fahéj-narancs) illata idézik fel Az ünnep hangulatát. A vendégek részére Forralt bor kínálható. Intenzitás Magas\, Hőhatás Erős! \n19:00 A szomszéd nője mindig zöldebb. \nAz ikonikus karácsonyi filmben a két zsémbes szomszéd csatája\, akik elválaszthatatlan barátok\, pedig ki nem állják egymást. A történetben megjelenik a NŐ és felborít mindent. A vendégek részére tea kínálható. Intenzitás Közepes\, Hőhatás Erős! \n20:00 Halálos Iramban. \nSzáguldás\, izzó forróság a kultuszfilm hősei jelennek meg a programban és zenében Vendégek részére sör kínálható a program végén. Intenzitás Erős\, hőhatás. Fokozottan erős!. Illatjegyek: Zöldmandarim\, Fenyő-menta\, Cola-Narancs.
URL:https://westwindsauna.hu/event/egesz-nap-caramell-hotel-mikulas-party-2024-12-06/
LOCATION:Caramell Premium Resort****superior\, Európa út 18\, Bük\,\, VAS\, 9740\, Magyarország
ATTACH;FMTTYPE=image/jpeg:https://westwindsauna.hu/wp-content/uploads/2024/06/Caramell_West-Wind.jpg
ORGANIZER;CN="Caramell Premium Resort Superior":MAILTO:info@caramell.hu
END:VEVENT
BEGIN:VEVENT
DTSTART;VALUE=DATE:20241212
DTEND;VALUE=DATE:20241216
DTSTAMP:20260422T104519
CREATED:20241003T132234Z
LAST-MODIFIED:20241003T132402Z
UID:775-1733961600-1734307199@westwindsauna.hu
SUMMARY:Szaunamester képzés Zenit Hotel Vonyarcvashegy 2024.09.26-29 (államilag elfogadott)
DESCRIPTION:Szaunamester képzésünk ismét új helyszínen a Zenit Hotel Vonyarcvashegy a „Szauna-őrültek”  otthonában  folytatja 2024 évi alapképzéseket. (2024.12.12-15.) \nÁllamilag elismert képesítés 10882008 programkövetelmény alapján! \n\nKedves Leendő Szaunamester!\n\n\nSzeretnél szaunamester lenni\, de nem tudod\, kitől tanulj?\n\n\nNe aggódj\, mi itt vagyunk\, hogy segítsünk neked ezen az izgalmas úton!\n\n\nEngedd meg\, hogy röviden bemutassuk\, mit kínálunk számodra:\n\n\n1. **Alapvető elméleti tudás**: Megtanítjuk neked a szükséges ismereteket\, amikkel tájékoztatni tudod a fürdővendégeket.\n\n\n2. **Gyakorlati tapasztalat**: A 4 napos képzés során minden nap szauna programot fogsz tartani. Ezzel nemcsak tanulsz\, hanem hőedzettséget is szerzel!\n\n\n3. **Hőterápia elsajátítása**: Megtanulod\, hogyan végezhetsz hőterápiát\, ami fontos része a szaunamester munkájának.\n\n\n4. **Személyre szabott oktatás**: A számodra legmegfelelőbb méretű szaunában sajátíthatod el a szakma lényegét.\n\n\n5. **Legyezési technikák**: Az alapképzés keretein belül megtanulhatod az alap négy legyezési technikát\, amelyekkel már bátran elhelyezkedhetsz.\n\n\n6. **Folyamatos támogatás**: A képzés után sem engedjük el a kezed! Segítünk a további fejlődésben és kérdéseid megválaszolásában.\n\n\nNe habozz! Csatlakozz hozzánk\, és kezd el a szaunamester kalandodat! Fedezd fel velünk a szaunázás csodálatos világát!\n\n\nJelentkezz: info@westwindsauna.hu\nTelefonon :+36 30 267 5989\n\n 
URL:https://westwindsauna.hu/event/szaunamester-kepzes-zenit-hotel-vonyarcvashegy-2024-09-26-29-allamilag-elfogadott/
LOCATION:Zenit Hotel Balaton\, Helikon u. 22\, Vonyarcvashegy\, 8314
ATTACH;FMTTYPE=image/png:https://westwindsauna.hu/wp-content/uploads/2024/10/Zenit-Hotel-Szaunamester-20241212-15.png
ORGANIZER;CN="West Wind Sauna Team":MAILTO:info@westwindsauna.hu
END:VEVENT
BEGIN:VEVENT
DTSTART;VALUE=DATE:20241221
DTEND;VALUE=DATE:20241222
DTSTAMP:20260422T104519
CREATED:20241023T151658Z
LAST-MODIFIED:20241029T075132Z
UID:838-1734739200-1734825599@westwindsauna.hu
SUMMARY:MenDan  Magic Hotel Adventi Szauna Party 2024.12.21
DESCRIPTION:Karácsony előtt sem maradhatunk szaunás program nélkül Zalakaroson! \n2024.12.21 West Wind Sauna Team „Adventi Szauna Party” \n\n10:00 Hangtál Program Zongora ). A briliáns zongorista zenei alapjai jelennek meg az ebéd utáni relax programunk során. Illatjegyekben virágos\, nyugtató illatelemek jelennek meg (száraz növény). ) A vendégek részére frissítő kínálható. Intenzitás közepes\, Hőhatás Közepes!\n 11:00 Halálos Iramban. Száguldás\, izzó forróság a kultusz film hősei jelennek meg a programban és zenében Vendégek részére sör kínálható a program végén. Intenzitás Erős\, hőhatás. Fokozottan erős!\n13:00. Üvegtigris. Magyar kultuszfilm zenei és szereplői jelennek meg a show programunk során. Illatjegyekben citrus és sör illatelemek jelennek meg. ) A vendégek részére sör kínálható. Intenzitás Magas\, Hőhatás Erős!\n15:00 Reszkessetek betörők! Mert ugye nincs karácsony Kevin nélkül! Ebben a történetében megjelenik a karácsonyi kultuszfilm számos szereplője Illatjegyek: gyümölcs és sült édességek (Lime\, Szegfűszeg\, Fahéj-narancs) illata idézik fel Az ünnep hangulatát. A vendégek részére Forralt bor kínálható. Intenzitás Magas\, Hőhatás Erős!\n16:00 A szomszéd nője mindig zöldebb. Az ikonikus karácsonyi filmben a két zsémbes szomszéd csatája\, akik elválaszthatatlan barátok\, pedig ki nem állják egymást. A történetben megjelenik a NŐ és felborít mindent. A vendégek részére tea kínálható. Intenzitás Közepes\, Hőhatás Erős!\n17:00 A Karib-tenger kalózai. Jack Sparrow és bandája az élet forrását indul felkutatni\, és fedélzetre invitálja a vendégeket egy Show program\, mediterrán illatjegyekkel (cola-narancs\, ananász\, maracuja) filmzenével. vendégek részére Karibi-Rum kínálható a program után (1-2 cl). Intenzitás Magas\, Hőhatás Erős!\n\nRészletek a szálloda honlapján (KLIKK)
URL:https://westwindsauna.hu/event/mendan-magic-hotel-adventi-szauna-party-2024-12-21/
LOCATION:MenDan Hotel **** Zalakaros\, Gyógyfürdő tér 8.\, Zalakaros\, ZALA\, 8749\, Magyarország
CATEGORIES:Szauna NAP
ATTACH;FMTTYPE=image/jpeg:https://westwindsauna.hu/wp-content/uploads/2023/12/Laura-Roli-Gabor.jpeg
END:VEVENT
BEGIN:VEVENT
DTSTART;VALUE=DATE:20241230
DTEND;VALUE=DATE:20241231
DTSTAMP:20260422T104519
CREATED:20241023T152133Z
LAST-MODIFIED:20241029T074528Z
UID:840-1735516800-1735603199@westwindsauna.hu
SUMMARY:MenDan  Magic Hotel Elő-szilveszteri Szauna Party 2024.12.30
DESCRIPTION:És ha jön az ÚJÉV azaz BÚÉK akkor irány a szauna\, egy fergeteges partival Zalakaroson! \nWest Wind Sauna Team „Előszilveszteri Szauna Party” \n\n10:00 RELAX-Hungary Voice-Hangtál Program. Zongora dallamok jelennek meg a relax program keretében és száraz növények a szauna kályhán. (illatanyagban körömvirág\, kamilla\, levendula mirtusz\, jellemző) Vendégek részére adható; tea különlegesség. Intenzitás közepes\, hőhatás közepes.\n11:00 Indul a Bakterház. Egy hamisítatlan ízig vérig magyar életérzésekkel tarkított show program. Történetünkben megjelenik: A Banyai\, Buga Józsi\, A Lópatás és Bendegúz a Bakterház történetében. a részére Bor kínálható a program végén (1 dl max). Intenzitás Erős\, hőhatás. Fokozottan erős!\n13:00 A mi kis Falunk. Ki ne ismerné Pajkaszeg történetét\, ebben a show programban\, megjelenek a szereplők\, Karcsi\, Stoki\, Szifon\, Matyi\, Teca és a többiek. Illatjegyekben gyümölcs és sült édességek (Teafa\, Szegfűszeg\, Fahéj-narancs) illata idézik fel Pajkaszeg települést. A vendégek részére frissítő kínálható. Intenzitás Magas\, Hőhatás Erős!\n15:00 Másnaposok. Ugyan nincs még szilveszter\, de ez a történet szilveszter másnapján aktuális lehet?! Bulizzunk együtt egy hatalmasat Doug\, Stu\, Phil és Alan őrültségeivel felidézve történetüket. Illatjegyekben gyümölcs és sült édességek (Zsálya\, Levendula -Citromfű\, Cola Narancs). A vendégek Jägermeister kínálható (1-1\,5 cl). Intenzitás Magas\, Hőhatás Erős!\n16:00 Mamma Mia! Sose hagyjuk ABBA! Visszatérünk a varázslatos görög szigetre\, Kalokairire ebben a musicalben\, mely szintén az ABBA dalaira épül. Ide-oda ingázunk az időben (hőben)\, és megmutatjuk\, hogy a múltbéli kapcsolatok miképp hatnak a jelenre. (Erős Fás illatok\, tonka-tolu-méz\, édeskömény\, Cubeba-Bergamotte) A vendégek részére Ouzo ital kínálható. Intenzitás Magas\, Hőhatás Erős!\n17:00 Újévi Mulatos Mix! Búcsúzunk ez évtől egy hamisítatlan\, mulatós válogatással A sztárvendékeket idézzük fel\, a Magic MenDan Hotel vendégeit szórakoztató sztárokat.(Illatjegyek: Homoktövis\, Erdei gyümölcs-menta\, Szilva hidrolátum) A vendégek részére Pezsgő kínálható. Intenzitás Magas\, Hőhatás Erős!\n\n  \nMenDan Magic Hotel Elő-szilveszteri Szauna Party 2024.12.30 \nRészletek Hamarosan!
URL:https://westwindsauna.hu/event/mendan-magic-hotel-elo-szilveszteri-szauna-party-2024-12-30/
LOCATION:MenDan Hotel **** Zalakaros\, Gyógyfürdő tér 8.\, Zalakaros\, ZALA\, 8749\, Magyarország
ATTACH;FMTTYPE=image/jpeg:https://westwindsauna.hu/wp-content/uploads/2023/12/Laura-Roli-Gabor.jpeg
ORGANIZER;CN="MenDan **** Zalakaros":MAILTO:reservation@mendan.hu
END:VEVENT
END:VCALENDAR