BEGIN:VCALENDAR
VERSION:2.0
PRODID:-//West Wind Sauna Team - ECPv6.15.20//NONSGML v1.0//EN
CALSCALE:GREGORIAN
METHOD:PUBLISH
X-WR-CALNAME:West Wind Sauna Team
X-ORIGINAL-URL:https://westwindsauna.hu
X-WR-CALDESC:Események West Wind Sauna Team
REFRESH-INTERVAL;VALUE=DURATION:PT1H
X-Robots-Tag:noindex
X-PUBLISHED-TTL:PT1H
BEGIN:VTIMEZONE
TZID:UTC
BEGIN:STANDARD
TZOFFSETFROM:+0000
TZOFFSETTO:+0000
TZNAME:UTC
DTSTART:20230101T000000
END:STANDARD
END:VTIMEZONE
BEGIN:VEVENT
DTSTART;TZID=UTC:20241102T143000
DTEND;TZID=UTC:20241102T180000
DTSTAMP:20260422T122105
CREATED:20240629T101036Z
LAST-MODIFIED:20241029T135346Z
UID:611-1730557800-1730570400@westwindsauna.hu
SUMMARY:Caramell Hotel – West Wind Team: Halloweeni Szauna Élmények 2024.11.02
DESCRIPTION:West Wind Team: Halloweeni Szauna Élmények ! \n  \n14:00. Misztikus Méregtelenítés – A Boszorkány Ünnepe! \n\nIllat: Levendula-lime\, homoktövis\, kékszőlő\nAtmoszféra: Halványlila fények\, csendes\, nyugtató boszorkányos zene. A falakon varázslatos jelek és szimbólumok.\nRituálé: A szaunamester egy kis levendulát ad át minden vendégnek\, amit a szívükhöz szoríthatnak\, miközben a negatív energiától szabadulnak.\nTörténet: Egy ősi boszorkány rituáléjának vagyunk részesei\, ahol a természet erejével tisztítjuk meg lelkünket és testünket.\n\n15:00. Two Steps From Hell illatok – A Vérfarkasok Üvöltése \n\nIllat: Vérnarancs kubeba\, cédrus\nAtmoszféra: Vörös és narancssárga fények\, villogó effektek\, a Hold fénye beszűrődik az ablakon. A zene erőteljes\, a vérfarkasok üvöltését idézi.\nRituálé A vérhold éjszakáján verítékünk lesz az áldozat ezzel kezdetét veszi a vadászat.\nTörténet: Ahogy a hold felkel\, a vérfarkasok is felébrednek. Egy vad hajsza veszi kezdetét\, ahol a szaunában keresnek menedéket.\n\n16:00. Boszorkányos főzetek – A Zombik Támadása \n\nIllat: Rozmaring\, levendula\, boróka\nAtmoszféra: Zöld és lila fények\, zombi hangok\, félelmetes effektek. A falakon vérfoltok jelenhetnek meg.\nRituálé: A szaunamester egy kis illattal fűszerezi meg a levegő\,t hogy megvédje a  vendégeket a zombik támadástól.\nTörténet: Egy titkos laboratóriumból kiszabadult vírus miatt a város lakói zombikká változtak. A szauna az utolsó menedék.\n\n17:00. Sötét idők – A Szuperhősök Küzdelme „Batman-Diana” \n\nIllat: Erdei gyümölcs menta\, kóla-narancs-rebarbara alma\nAtmoszféra: Sötétkék és fekete fények\, Batman és Wonder Woman logók\, a filmzene részletei. A falon a Gotham City és Themyscira városai láthatóak.\nRituálé: A szaunamester egy kis „szuper erő italt” kínál a vendégeknek\, hogy segítse őket a küzdelemben.\nTörténet: Gotham City és Themyscira sorsa a tét. A szauna a harc színtere\, ahol a szuperhősöknek meg kell állítaniuk a gonosz erőket.\n\n18:00. Vérfagyasztó jégmasszázs – A Jeges Úrnő Átkában \n\nIllat: Japán menta\, eukaliptusz\, citromfű\nAtmoszféra: Kék és fehér fények\, jégdarabok\, hideg levegő. A falon egy jeges fény jelenik meg.\nRituálé: A szaunamester egy kis jeget kínál a vendégeknek\, miközben egy jeges királynő átkát mondja.\nTörténet: Egy jeges királynő elátkozta a várost. A szaunában kell megtalálni az ellenszert.
URL:https://westwindsauna.hu/event/caramell-hotel-halloween-2024-11-02/
LOCATION:Caramell Premium Resort****superior\, Európa út 18\, Bük\,\, VAS\, 9740\, Magyarország
ATTACH;FMTTYPE=image/png:https://westwindsauna.hu/wp-content/uploads/2024/06/Caramell-Halloween.png
ORGANIZER;CN="Caramell Premium Resort Superior":MAILTO:info@caramell.hu
END:VEVENT
BEGIN:VEVENT
DTSTART;TZID=UTC:20241109T150000
DTEND;TZID=UTC:20241109T200000
DTSTAMP:20260422T122105
CREATED:20240917T102641Z
LAST-MODIFIED:20241103T103300Z
UID:735-1731164400-1731182400@westwindsauna.hu
SUMMARY:West Wind Szauna Nap Greenfield 2024.11.09
DESCRIPTION:Csapatunk ismét visszatér Bükfürdőbe a **** Superior Greenfield Hotelbe és tematikus szauna show programokkal szórakoztatja a szauna szerelmeseit. \n \nGreenfiled Szauna nap 2024.11.09 \n14:00 Francia hangulat.  \nA francia zenei alapokra épülő relax program során elvarázsoljuk kicsit Párizsba vendégeinket. Illatjegyek Kávé-Yuzu\, Levendula Narancs. Hőhatás/Erősség: Relax Vendégek részére frissítő kínálható. \n15:00 Lírai dallamok \nNemzetközi régi filmeznék lírai hangulatba tálalva. Illatjegyek Lime\, ánizs\, fahéjlevél\, gyömbér\, citrom. Hőhatás/Erősség: Relax Vendégek részére gyümölcs kínálható. \n16:00 Spirit ;  \nSzilaj\, a vad völgy paripája rajzfilm zenéje elevenedik meg a program során. Illatjegyek szénavirág\, homoktövis\, menta. Hőhatás/Erősség: Intenzív Vendégek részére gyümölcslé kínálható \n17:00 Batman és Diana. \nA nagy sikerű DC film szereplői jelennek meg a szaunában egy fergeteges programban.  Illatjegyek: Citromfű\, Erdei gyümölcs menta\, Cola-narancs Hőhatás/rősség: Intenzív. Vendégek részére zöldségszeletek kínálható \n18:00 Csillag születik. \nKi ne is merné ezt a remek zenés filmet\, ami most a szaunában bontakozik ki\, egy remek szerelmes történetet megidézve. Illatjegyek: Pezsgő\, Mandarin\, Eukaliptusz-cseresznye Hőhatás/Erősség: Erő. Vendégek részére alkoholmentes pezsgő (4 cl) kínálható \n 
URL:https://westwindsauna.hu/event/west-wind-szauna-nap-greenfield-2024-11-09/
LOCATION:Greenfield Hotel Bük\, Golf út 4.\, Bükfürdő\, VAs\, 9740\, Magyarország
ATTACH;FMTTYPE=image/png:https://westwindsauna.hu/wp-content/uploads/2024/09/Greenfield-20240921.png
ORGANIZER;CN="Greenfiled Hotel B%C3%BCk":MAILTO:reservation@greenfieldhotel.hu
END:VEVENT
BEGIN:VEVENT
DTSTART;TZID=UTC:20241113T170000
DTEND;TZID=UTC:20241113T200000
DTSTAMP:20260422T122105
CREATED:20241007T073608Z
LAST-MODIFIED:20241105T080338Z
UID:789-1731517200-1731528000@westwindsauna.hu
SUMMARY:Szauna-Szerda 2024. november 13.
DESCRIPTION:A West Wind Sauna Team Szauna-Szerda jegy! \n\n\n Szauna szerda a Parkerdőben!\nVárunk mindenkit\, aki szereti a szauna élményét\, egy kis kikapcsolódásra és jó társaságba! **Két hetente szerdán 17:00-20:30ig szauna napot szervezünk a Parkerdőben 4-5 főtől max.10-11főig\, ahol garantáltan élvezheted a szauna forró levegőjét\, a frissítő felöntéseket\, és a kellemes társaságot a természet lágy ölén! *Mi vár rád?* * 3-4 vitalizáló felöntés * Frissítő itallal és nassolnivalók * Laza\, barátságos hangulat.\n*Jelentkezz be\, ha szeretnél rész venni a szauna szerdákon!* *Ne maradj le a szauna élményről!* \n\n\n\n„Hétköznapi kikapcsolódás? ✔️ Fatüzelésű szauna a kertedben. Élvezd a finn szauna erejét és hagyd magad elvarázsolni.”\n\nLemondás esetén (a szauna nap előtt 7 nappal) a visszautalás költségét valamint a jegy 50% tudjuk visszatéríteni. \nJEGYEK ITT FOGLALHATÓK!
URL:https://westwindsauna.hu/event/szauna-szerda-2024-november-13/
LOCATION:WEST WIND PARKERDŐ\, Pipacs utca 784\, Parkerdő\, VAS\, 9700\, Magyarország
CATEGORIES:KERTI SZAUNA
ATTACH;FMTTYPE=image/png:https://westwindsauna.hu/wp-content/uploads/2024/08/Szauna-Szerda.png
ORGANIZER;CN="West Wind Sauna Team":MAILTO:info@westwindsauna.hu
END:VEVENT
BEGIN:VEVENT
DTSTART;TZID=UTC:20241116T140000
DTEND;TZID=UTC:20241116T190000
DTSTAMP:20260422T122105
CREATED:20240611T154839Z
LAST-MODIFIED:20240611T155608Z
UID:548-1731765600-1731783600@westwindsauna.hu
SUMMARY:Kerti szauna nap 2024. november 16.
DESCRIPTION:A West Wind Sauna Team főhadiszállásán egy csendes nyugodt környezetben is lehetőség nyílik kedves vendégeinknek 10-12 fős létszámmal a szaunázásra. Előzetes regisztráció alapján fogjátok tudni megtenni mindezt megtenni az alábbi linken  tehetitek ezt meg a meghirdetett napokra. \nEseménynaptárban is  megtaláljátok és meg is tudjátok vásárolni a jegyeket-foglalással. \nFOGLALÁS/VÁSÁRLÁS
URL:https://westwindsauna.hu/event/kerti-szauna-nap-2024-november-16/
LOCATION:Parkerdő Szombathely
ATTACH;FMTTYPE=image/jpeg:https://westwindsauna.hu/wp-content/uploads/2023/10/E85984A8-C7DD-47D0-A1FD-58F9440679B0-COLLAGE-2.jpg
ORGANIZER;CN="West Wind Sauna Team":MAILTO:info@westwindsauna.hu
END:VEVENT
BEGIN:VEVENT
DTSTART;TZID=UTC:20241123T140000
DTEND;TZID=UTC:20241123T140000
DTSTAMP:20260422T122105
CREATED:20240822T071408Z
LAST-MODIFIED:20241110T105255Z
UID:690-1732370400-1732370400@westwindsauna.hu
SUMMARY:West Wind Szauna Nap Greenfield 2024.11.23
DESCRIPTION:Csapatunk ismét visszatér Bükfürdőbe a **** Superior Greenfield Hotelbe és tematikus szauna show programokkal szórakoztatja a szauna szerelmeseit. \n \nGreenfiled Szauna nap 2024.11.23 \n14:00 Olasz Dallamok.  \nAz olasz zenei alapokra épülő program során elvarázsoljuk kicsit Rómába vendégeinket. Illatjegyek Kávé-Méz\, Lime- Narancs-Bergamotte Hőhatás/Erősség: Relax Vendégek részére frissítő kínálható. \n15:00 Magyar Líra \nA magyar zenei előadók lírai hangvételű dallamai csendülnek fel a relax délután során. Illatjegyek Rebarbara Alma\, Ánizs-Zöldmandarin\, Fahéjlevél- Citrom. Hőhatás/Erősség: Relax Vendégek részére gyümölcs kínálható. \n16:00 A legnagyobb showman (The Greatest Show) ;  \nA nagy sikerű musical szereplői kelnek életre és a cirkusz kezdetének története elevenedik meg a program során. Illatjegyek\, Homoktövis\, Paradise Flower\, Fodormenta-Feketebors . Hőhatás/Erősség: Intenzív Vendégek részére gyümölcslé kínálható \n17:00 Star Wars \nA Obi Van és Leila hercegnő küldetését élhetik át a vendégek ebben a szauna  programban.  Illatjegyek: Szegfűszeg \, Édesnarancs\, Eukaliptus Cseresznye\, Menta Tonkafa Hőhatás/Erősség: Intenzív. Vendégek részére zöldségszeletek kínálható \n18:00 Indul a Bakterház \nA bakterház bonyodalmai most a szaunában bontakoznak ki Bendegúz és a Banya harca\, egy vidám történetet megidézve. Illatjegyek: Szénavirág\, Vanília Citrom\, Mentolkristály-Szilvapálinka\, Hőhatás/Erősség: Intenzív-erős. Vendégek részére frissítő kínálható \nA programon külsős vendégek is részt vehetnek: \nhttps://greenfield.adventorhotels.hu/west-wind-szauna-felontes
URL:https://westwindsauna.hu/event/west-wind-szauna-nap-greenfield-2024-11-23/
LOCATION:Greenfield Hotel Bük\, Golf út 4.\, Bükfürdő\, VAs\, 9740\, Magyarország
CATEGORIES:Szauna NAP
ATTACH;FMTTYPE=image/jpeg:https://westwindsauna.hu/wp-content/uploads/2024/08/IMG_7310-scaled.jpeg
ORGANIZER;CN="Greenfiled Hotel B%C3%BCk":MAILTO:reservation@greenfieldhotel.hu
END:VEVENT
END:VCALENDAR