BEGIN:VCALENDAR
VERSION:2.0
PRODID:-//West Wind Sauna Team - ECPv6.15.20//NONSGML v1.0//EN
CALSCALE:GREGORIAN
METHOD:PUBLISH
X-WR-CALNAME:West Wind Sauna Team
X-ORIGINAL-URL:https://westwindsauna.hu
X-WR-CALDESC:Események West Wind Sauna Team
REFRESH-INTERVAL;VALUE=DURATION:PT1H
X-Robots-Tag:noindex
X-PUBLISHED-TTL:PT1H
BEGIN:VTIMEZONE
TZID:UTC
BEGIN:STANDARD
TZOFFSETFROM:+0000
TZOFFSETTO:+0000
TZNAME:UTC
DTSTART:20230101T000000
END:STANDARD
END:VTIMEZONE
BEGIN:VEVENT
DTSTART;VALUE=DATE:20240801
DTEND;VALUE=DATE:20240805
DTSTAMP:20260422T170823
CREATED:20240801T172404Z
LAST-MODIFIED:20240801T172404Z
UID:649-1722470400-1722815999@westwindsauna.hu
SUMMARY:West Wind Szaunamester képzés a Caramell Hotelben
DESCRIPTION:Szaunamester képzésünk egy új helyszínen a Hotel Carammel & SPA szauna világába! \nMOTTÓNK: „Ha nem csak a papír számít hanem igazi tudást szeretnél\, akkor válassz minket”! \nNégynapos képzésünk alatt akár Ön is nyomon követheti a jövő szauna nemzedékének\, fejlődését\, szárny bontogatását! Ne maradjon le és legyen részese ennek a kivételes rendezvénynek. (A képzés a felnőttképzési jogszabálynak megfelelően történik és hivatalos államilag elismert szakmát szereznek). \nKLIKK A VIDEÓRA:  \nKülsős vendégek részére is \nA program részleteiről itt tájékozódhat: \nhttps://caramell.hu/wellness-medical/szaunavilag/ \n 
URL:https://westwindsauna.hu/event/west-wind-szaunamester-kepzes-a-caramell-hotelben/
LOCATION:Caramell Premium Resort****superior\, Európa út 18\, Bük\,\, VAS\, 9740\, Magyarország
ATTACH;FMTTYPE=image/jpeg:https://westwindsauna.hu/wp-content/uploads/2024/08/8Bnc7EgQ.jpg
ORGANIZER;CN="Caramell Premium Resort Superior":MAILTO:info@caramell.hu
END:VEVENT
BEGIN:VEVENT
DTSTART;TZID=UTC:20240810T150000
DTEND;TZID=UTC:20240810T190000
DTSTAMP:20260422T170823
CREATED:20240629T102527Z
LAST-MODIFIED:20240801T171108Z
UID:618-1723302000-1723316400@westwindsauna.hu
SUMMARY:Fagus Hotel Conference & Spa Sopron Szauna NAP 2024.08.10
DESCRIPTION:West Wind Szauna csaptunk egy új helyszínen kezdi meg az ide szauna szezont egy fergeteges hangulatú szauna show nap keretein belül. Aki lemaradt a szilveszteri szaunázásról az foglaljon helyet\, hogy részese lehessen a természet erőinek varázslatos hatásában\, itt nálunk! \nA Sopron városában található csodaszép  Fagus Hotel szaunájában vendégeskedünk. \nIgazi retro nyári slágerek lesznek a szaunában\, pezsdítve vendégeink hangulatát! \n\n15:00 RELAX – Magyar zenékkel. relax program\, száraz és élő növényekkel a kályhán. (illatanyagban kamilla\, levendula Mirtusz\, jellemző) Vendégek részére adható tea különlegesség. Intenzitás közepes\, hőhatás közepes.\n16:00. Magyar Retro Disco Slágerek. A Retro Slágerei zenei alapjai jelennek a délutáni programunk során. Illatjegyekben virágos\, friss illatelemek jelennek meg.) A vendégek részére frissítő kínálható. Intenzitás közepes\, Hőhatás Közepes!\n17:00 A mi kis falunk. Ki ne ismerné Pajkaszeg történetét\, ebben a show programban\, megjelenek a szereplők\, Karcsi\, Stoki\, Szifon\, Matyi\, Teca és a többiek. Illatjegyekben gyümölcs és sült édességek (Teafa\, Szegfűszeg\, Fahéj-narancs) illata idézik fel Pajkaszeg települést. A vendégek részére frissítő kínálható. Intenzitás Magas\, Hőhatás Erős!\n18:00 Padlás. a musical alapján felépülő igazai magyar jelmezes show program A csapat és közösség előtérbe helyezése\, fontosságának kiemelése. (Erős Fás illatok\, nyírfa-méz\, tolu tonkafa\, Levendula-Grépfrút -Bergamotte-Szegfűszeg) A vendégek részére gyümölcs kínálható. Intenzitás Magas\, Hőhatás Erős!\n19:00 Latinos-Magyaros\,. Magyar mulatós egyveleg\, minden ami egy házibulin beindítja a vendégeket\, mediterrán illatjegyekkel (narancs-kóla\, ananász\, maracuja) vendégek részére vörösbor kínálható a program után. Intenzitás Magas\, Hőhatás Erős!
URL:https://westwindsauna.hu/event/fagus-hotel-conference-spa-sopron-nyari-party-2024-07-28/
LOCATION:Fagus Hotel Sopron\, Ojtózi fasor 3.\, Sopron\, SOPRON\, 9400\, Magyarország
ATTACH;FMTTYPE=image/png:https://westwindsauna.hu/wp-content/uploads/2024/06/Laura-Roli-Fagus-2.png
ORGANIZER;CN="Fagus Hotel Conference & Spa":MAILTO:reservation@fagushotel.hu
END:VEVENT
BEGIN:VEVENT
DTSTART;VALUE=DATE:20240817
DTEND;VALUE=DATE:20240819
DTSTAMP:20260422T170823
CREATED:20240521T132455Z
LAST-MODIFIED:20240809T182834Z
UID:435-1723852800-1724025599@westwindsauna.hu
SUMMARY:West Wind Növendékek Találkozója a Körmendi MJUS-ban 2024.08.17-18 Gála Hétvége!
DESCRIPTION:Szauna Gála Hétvége a West Wind Sauna Team Növendékei Számára!\nHely: Körmendi MJUS Hotel 70 fős szaunája \nIdőpont: 2024.08.17-18 (Szombat Vasárnap) \nKiknek szól? Mindenkinek\, akit valaha is oktattunk a West Wind Sauna Team képzésein vagy tréningjein! \nMiért gyere el? \n\nHogy megmutasd a tudásodat és a tehetségedet a szaunázás mesterségében!\nHogy találkozz a régi tanítványainkkal és új barátokat szerezz!\nHogy egy fergeteges hétvégét tölts el szaunázással\, pihenéssel és mókával!\n\nMit várunk tőled? \n\nHozd magaddal a legjobb szauna felöntéseidet és mutasd meg\, mit tudsz!\nLégy nyitott az új élményekre és tanulj a többi résztvevőtől!\nLegyen nálad jókedv és rengeteg energia!\n\nMit ígérünk? \n\nEgy fergeteges hétvégét tele szaunázással\, pihenéssel és mókával!\nLehetőséget arra\, hogy megmutasd a tudásodat és a tehetségedet a szaunázás mesterségében!\nÚj barátokat és értékes szakmai kapcsolatokat!\nA Vendégeknek számos remek látványos felöntést\n\nJelentkezz most! REGISZTRÁCIÓÉRT KLIKK IDE!\n \nA helyek száma korlátozott\, ezért ne habozz\, jelentkezz minél hamarabb! Jelentkezni a westwindsauna.hu oldalon! \nNe maradj le erről a fergeteges eseményről! Gyerünk\, szaunázzunk együtt! \n \nTovábbi információk: \n\n\n\nhttps://westwindsauna.hu\nFacebook\ninfo@westwindsauna.hu\n\n #westwindszauna #szaunagalavegze #kormendi #szaunamester #szaunazas #wellness #relaxacio #moka #együtt #baratsag #tanulas #fejlődés #szaunagála
URL:https://westwindsauna.hu/event/west-wind-novendekek-talalkozoja-a-kormendi-mjus-ban-2024-08-17-18-gala-hetvege/
LOCATION:MJUS RESTOR\, Rákóczi u. 154/B\, Körmend\,\, VAS\, 9900\, Magyarország
ATTACH;FMTTYPE=image/jpeg:https://westwindsauna.hu/wp-content/uploads/2024/05/IMG_6846-1.jpeg
ORGANIZER;CN="Mjus Resort & Thermal Park":MAILTO:eception@mjusresort.com
END:VEVENT
BEGIN:VEVENT
DTSTART;VALUE=DATE:20240820
DTEND;VALUE=DATE:20240821
DTSTAMP:20260422T170823
CREATED:20240629T100752Z
LAST-MODIFIED:20240812T102337Z
UID:609-1724112000-1724198399@westwindsauna.hu
SUMMARY:Caramell Hotel - Ünnepi hétvége 2024.08.20
DESCRIPTION:Caramell Hotel – Ünnepi hétvége 2024.08.20 \n  \n13:00 RELAX „Hungary Voice” Zongora dallamok jelennek meg a relax program keretében és száraz növények a szauna kályhán. (illatanyagban körömvirág\, kamilla\, levendula mirtusz\, jellemző) Vendégek részére adható a hotel részéről; tea különlegesség. Intenzitás alacsony\, hőhatás alacsony. \n\n14:00 Two Steps from Hell. Az Instrumentális zene kedvelőinek igazi csemege ez a program. Thomas Bergersenlegújabb zenei válogatását hozzuk el a szauna világába\, hogy válóban két lépésre legyünk egy másik világtól! Illatjegyekben virágos citrusos\, illatelemek jelennek meg. A vendégek részére frissítő ital kínálható (pl: alma–fröccs) a hotel részéről. Intenzitás Erős-Instrumentális\, Hőhatás Közepes! \n\n15:00 Pál utcai fiúk. a musical alapján felépülő igazai magyar jelmezes show program A csapat és közösség előtérbe helyezése\, fontosságának kiemelése. (Erős Fás illatok\, nyírfa-méz\, Tonkafa\, Cubeba-Bergamotte) A vendégek részére gyümölcs kínálható a hotel részéről. Intenzitás Magas\, Hőhatás Erős! \n\n16:00 A Poptarisznya rádió a nagy sikerű műsor régi retrozenék kedvelőinek kedveskedik\, így a 70-es\, 80-as és a 90-es évek legjobb és legkellemesebb emlékeket idéző pop\, rock és disco zenéiből válogatunk! Illatjegyekben mentolos citrusosillatelemek jelennek meg. Vendégek részére; traubi-márka adható a hotel részéről. Intenzitás közepes\, hőhatás közepes. \n\n17:00 Apáca Show „Újra virul a fityula” Deloris nővér\, a legvirgoncabb apáca\, polgári foglalkozását tekintve bárénekesnő nem felejtette el az apácákkal töltött mulatságos napokat. Visszahívják\, hogy segítsen egy bajba jutott katolikus iskolán és énekkarán és szaunás vendégeinken. A vendégek részére szőlőlé kínálható a hotel részéről. Intenzitás Magas\, Hőhatás Erős! \n\n18:00 Mamma Mia! Sose hagyjuk ABBA! Visszatérünk a varázslatos görög szigetre\, Kalokairire ebben a musicalben\, mely szintén az ABBA dalaira épül. Ide-oda ingázunk az időben (hőben)\, és megmutatjuk\, hogy a múltbéli kapcsolatok miképp hatnak a jelenre. (Erős Fás illatok\, Ánizs-méz\, Cola-Narancs\, Cubeba-Lime) A vendégek részére Ánizsos-Gyömbéres üdítő kínálható. Intenzitás Magas\, Hőhatás Erős!
URL:https://westwindsauna.hu/event/caramell-hotel-unnepi-hetvege-2024-08-20/
LOCATION:Hotel Caramell Bükfürdő\, Európa út 18\, Bük\, VAS\, 9740
ATTACH;FMTTYPE=image/jpeg:https://westwindsauna.hu/wp-content/uploads/2024/06/Caramell_West-Wind.jpg
ORGANIZER;CN="Caramell Premium Resort Superior":MAILTO:info@caramell.hu
END:VEVENT
END:VCALENDAR