BEGIN:VCALENDAR
VERSION:2.0
PRODID:-//West Wind Sauna Team - ECPv6.15.20//NONSGML v1.0//EN
CALSCALE:GREGORIAN
METHOD:PUBLISH
X-ORIGINAL-URL:https://westwindsauna.hu
X-WR-CALDESC:Események West Wind Sauna Team
REFRESH-INTERVAL;VALUE=DURATION:PT1H
X-Robots-Tag:noindex
X-PUBLISHED-TTL:PT1H
BEGIN:VTIMEZONE
TZID:UTC
BEGIN:STANDARD
TZOFFSETFROM:+0000
TZOFFSETTO:+0000
TZNAME:UTC
DTSTART:20230101T000000
END:STANDARD
END:VTIMEZONE
BEGIN:VEVENT
DTSTART;TZID=UTC:20240727T143000
DTEND;TZID=UTC:20240727T193000
DTSTAMP:20260422T183224
CREATED:20240513T170827Z
LAST-MODIFIED:20240516T050455Z
UID:430-1722090600-1722108600@westwindsauna.hu
SUMMARY:West Wind Kerti Szauna Nap 2024.07.27. Szombat
DESCRIPTION:Élvezze a nyár kényeztetését egy felejthetetlen kerti szauna élménnyel!\nA forró napok beköszöntével mi is hívjuk Önt egy különleges wellness napra\, a pihenés és feltöltődés jegyében! \nFedezze fel a tradicionális szaunázás varázslatos világát\, és engedje át magát a forró gőzök ölelésének\, miközben a természet közelsége megnyugtatja lelkét. „Kerti Szauna Napunkon” minden részletre odafigyelünk\, hogy Ön tökéletesen átélhesse ezt a különleges élményt. \nHívja meg barátait vagy családját is\, és töltődjenek fel együtt a madarak csicsergése közepette\, miközben élvezik a szauna testi-lelki jótékony hatásait. Ne hagyja ki ezt a remek alkalmat a megújulásra! Fedezze fel a kerti szaunázás rejtelmeit\, és tegye ezt a napot felejthetetlenné velünk! \nMiért válasszon minket? \n\nTradicionális szaunázás a természet ölelésében.\nKülönleges „Kerti Szauna Nap” programok és gasztronómia élmények.\nTökéletes helyszín a pihenéshez és feltöltődéshez.\nBarátságos és figyelmes kiszolgálás\, mert nálunk ÖN az első!\nKiváló ár-érték arány!\n\nFoglaljon időpontot még ma\, és élvezze a nyár kényeztetését! \n\n\n\nA felöntésen és kemencés étkezésen  való részvételi díj 9.500\,-Ft/fő\nA foglalást az 50% fizetési előleg megfizetését követően biztosítjuk (átutalás).\n\nREGISZTRÁCIÓ:\n\n[CP_APP_HOUR_BOOKING id=”7″]
URL:https://westwindsauna.hu/event/west-wind-kerti-szauna-nap-2024-07-27-szombat/
LOCATION:Parkerdő Szombathely
ATTACH;FMTTYPE=image/jpeg:https://westwindsauna.hu/wp-content/uploads/2023/10/E85984A8-C7DD-47D0-A1FD-58F9440679B0-COLLAGE.jpg
ORGANIZER;CN="West Wind Sauna Team":MAILTO:info@westwindsauna.hu
END:VEVENT
END:VCALENDAR