BEGIN:VCALENDAR
VERSION:2.0
PRODID:-//West Wind Sauna Team - ECPv6.15.20//NONSGML v1.0//EN
CALSCALE:GREGORIAN
METHOD:PUBLISH
X-ORIGINAL-URL:https://westwindsauna.hu
X-WR-CALDESC:Események West Wind Sauna Team
REFRESH-INTERVAL;VALUE=DURATION:PT1H
X-Robots-Tag:noindex
X-PUBLISHED-TTL:PT1H
BEGIN:VTIMEZONE
TZID:UTC
BEGIN:STANDARD
TZOFFSETFROM:+0000
TZOFFSETTO:+0000
TZNAME:UTC
DTSTART:20230101T000000
END:STANDARD
END:VTIMEZONE
BEGIN:VEVENT
DTSTART;TZID=UTC:20240504T140000
DTEND;TZID=UTC:20240504T190000
DTSTAMP:20260422T213628
CREATED:20240407T184942Z
LAST-MODIFIED:20240425T091821Z
UID:394-1714831200-1714849200@westwindsauna.hu
SUMMARY:West Wind Kerti Szauna Nap 2024.05.04 Szombat
DESCRIPTION:Itt a NYÁR\, épp ezért alkalmas a délután egy felejthetetlen wellness napra a pihenés jegyében! Fedezze fel a tradicionális szaunázás varázslatos világát és engedje\, hogy a forró gőzök átöleljék testét\, miközben a természet közelsége megnyugtatja lelkét. Különleges „Kerti Szauna Napunkon” minden részletre odafigyelve várjuk\, hogy együtt merülhessünk el ebben a különleges élményben. Hozza magával barátait vagy családját\, és töltődjenek fel együtt\, miközben a madarak csicsergését hallgatva élvezik a szauna jótékony hatásait. Ne hagyja ki ezt az egyedülálló lehetőséget\, hogy testileg-lelkileg megújuljon\, és felfedezze a kerti szaunázás rejtelmeit. Tegye ezt a napot felejthetetlenné velünk! \nRegisztrációs Link: FOGLALÁS \nEgy igazi hamisítatlan fatüzelésű szaunában 5 felöntést tölthetnek velünk és szauna mestereinkkel a vendégek. A pihenés lehűlést kerti zuhanyzó\, jakuzzi és a pihenőház teszi felejthetetlenné. és Felöntésen való részvétel egy kis kemencés sült hús-hal\, kenyér savanyúság az éhség csillapítására\, valamint limonádé és frissítők. A szauna lepedőt mi biztosítjuk (1 db/nap) köntös törölköző legyen nálatok. Frissítő folyadék és szénhidrát a fentieken kívül legyen nálatok. \nA felöntésen és kemencés étkezésen  való részvételi díj 9.500\,-Ft/fő\nA foglalást az 50% fizetési előleg megfizetését követően biztosítjuk (átutalás).\nMETA LINK\n\n[CP_APP_HOUR_BOOKING id=”5″]
URL:https://westwindsauna.hu/event/west-wind-kerti-szauna-nap-2024-05-04-szombat/
LOCATION:Parkerdő Szombathely
ORGANIZER;CN="West Wind Sauna Team":MAILTO:info@westwindsauna.hu
END:VEVENT
BEGIN:VEVENT
DTSTART;TZID=UTC:20240519T090000
DTEND;TZID=UTC:20240519T183000
DTSTAMP:20260422T213628
CREATED:20240227T080441Z
LAST-MODIFIED:20240407T183735Z
UID:364-1716109200-1716143400@westwindsauna.hu
SUMMARY:West Wind szauna nap Zalakaros – MenDan**** 2024.05.19. "Nyár Köszöntő Szauna Party"
DESCRIPTION:Fergeteges „Nyár Köszöntő Szauna Party” együtt a zalakarosi MenDan**** Hotel SKY 80 fős szauna világába\, hogy ismét megizzasztjuk kedves vendégeinket show felöntésekkel!Lesz itt kérem sírás de leginkább nevetés\, vidámság! \n2024.05.19. „Nyár Köszöntő Szauna Party” \n10:00 RELAX-Hungary Voice. Zongora dallamok jelennek meg a relax program keretében és száraz növények a szauna kályhán. (illatanyagban körömvirág\, kamilla\, levendula mirtusz\, jellemző) Vendégek részére adható; tea különlegesség. Intenzitás közepes\, hőhatás közepes. \n11:00 Two Steps from Hell. Az Instrumentális zene kedvelőinek igazi csemege ez a program. Thomas Bergersen legújabb zenei válogatását hozzuk el a szauna világába\, hogy válóban kétlépésre legyünk egy másik világtól! Illatjegyekben virágos\, friss illatelemek jelennek meg. A vendégek részére frissítő ital kínálható (pl: almafröccs). Intenzitás Erős-Instrumentális\, Hőhatás Közepes! \n13:00 Angyalbőrben minden kicsit más! Ki ne ismerné Karádi őrmester és az olajbogyók történetét a 90-es évekből. A tv filmsorozat zenéi elevenednek fel ebben a programban\, vissza idézve a sorkatonaság emlékeit. Illatjegyekben fás-fűszeres elemek jelennek meg; nyírfa-ánizs\, fahéj szegfőszeg\, fenyő. Vendégek részére idény gyümölcs kínálható. Intenzitás közepes\, hőhatás közepes. \n15:00 A Poptarisznya rádió a nagy sikerű műsor régi retro zenék kedvelőinek kedveskedik\, így a 70-es\, 80-as és a 90-es évek legjobb és legkellemesebb emlékeket idéző pop\, rock és disco zenéiből válogatunk! Illatjegyekben mentolos citrusos illatelemek jelennek meg. Vendégek részére; traubi-gyömbér adható. Intenzitás közepes\, hőhatás közepes. \n16:00 Apáca Show „Újra virul a fityula” Deloris nővér\, a legvirgoncabb apáca\, polgári foglalkozását tekintve bárénekesnő nem felejtette el az apácákkal töltött mulatságos napokat. Visszahívják\, hogy segítsen egy bajba jutott katolikus iskolán és énekkarán és szaunás vendégeinken. A vendégek részére misebor kínálható. Intenzitás Magas\, Hőhatás Erős! \n17:00 Mamma Mia! Sose hagyjuk ABBA! Visszatérünk a varázslatos görög szigetre\, Kalokairire ebben a musicalben\, mely szintén az ABBA dalaira épül. Ide-oda ingázunk az időben (hőben)\, és megmutatjuk\, hogy a múltbéli kapcsolatok miképp hatnak a jelenre. (Erős Fás illatok\, tonka-tolu-méz\, édeskömény\, Cubeba-Bergamotte) A vendégek részére Ouzo ital kínálható. Intenzitás Magas\, Hőhatás Erős! \n  \n  \n 
URL:https://westwindsauna.hu/event/west-wind-szauna-nap-zalakaros-mendan-2024-05-19-nyar-koszonto-szauna-party/
LOCATION:VAS
ATTACH;FMTTYPE=image/jpeg:https://westwindsauna.hu/wp-content/uploads/2023/12/Laura-Roli-Gabor.jpeg
ORGANIZER;CN="MenDan **** Zalakaros":MAILTO:reservation@mendan.hu
END:VEVENT
BEGIN:VEVENT
DTSTART;VALUE=DATE:20240525
DTEND;VALUE=DATE:20240527
DTSTAMP:20260422T213628
CREATED:20240426T194005Z
LAST-MODIFIED:20240514T102708Z
UID:415-1716595200-1716767999@westwindsauna.hu
SUMMARY:West Wind Sauna Ventilációs tréning 2024.05.25-26
DESCRIPTION:Fedezd fel a mozgás és legyezés művészetét a West Wind Sauna eseményén a Greenfield Hotelben! Élvezd a wellness örömeit\, tanulj meg új technikákat\, és kapcsolódj ki egy hétvégén keresztül\, \nVárjuk a vendégeket a délutáni szauna programokra \, amit a mesterekkel együtt tartunk! \n2024. május 25-26-án.\nNe hagyd ki a lehetőséget!\nVárunk mindenkit szeretettel!\nMindezt 25.000ft/nap áron.\nInfo@westwindsauna.hu \n 
URL:https://westwindsauna.hu/event/west-wind-sauna-ventilacios-trening-2024-05-25-26/
LOCATION:Greenfield Hotel Bük\, Golf út 4.\, Bükfürdő\, VAs\, 9740\, Magyarország
ATTACH;FMTTYPE=image/jpeg:https://westwindsauna.hu/wp-content/uploads/2024/04/IMG_6253.jpeg
END:VEVENT
END:VCALENDAR