BEGIN:VCALENDAR
VERSION:2.0
PRODID:-//West Wind Sauna Team - ECPv6.15.20//NONSGML v1.0//EN
CALSCALE:GREGORIAN
METHOD:PUBLISH
X-WR-CALNAME:West Wind Sauna Team
X-ORIGINAL-URL:https://westwindsauna.hu
X-WR-CALDESC:Események West Wind Sauna Team
REFRESH-INTERVAL;VALUE=DURATION:PT1H
X-Robots-Tag:noindex
X-PUBLISHED-TTL:PT1H
BEGIN:VTIMEZONE
TZID:UTC
BEGIN:STANDARD
TZOFFSETFROM:+0000
TZOFFSETTO:+0000
TZNAME:UTC
DTSTART:20230101T000000
END:STANDARD
END:VTIMEZONE
BEGIN:VEVENT
DTSTART;VALUE=DATE:20240229
DTEND;VALUE=DATE:20240304
DTSTAMP:20260423T002804
CREATED:20240124T155056Z
LAST-MODIFIED:20240124T155056Z
UID:337-1709164800-1709510399@westwindsauna.hu
SUMMARY:Szaunamester alap képzés 2024 Bükfürdőn Greenfiled Hotel 2024.02.29-03.03
DESCRIPTION:Szaunamester képzésünk új helyszínen a Greenfiled Hotelben Bükfürdőn kezdi meg a 2024 évi alapképzéseket.  \nAkármilyen célt is tűztél ki magad elé\, bármi is legyen az oka annak\, hogy úgy döntöttél\, szaunamester leszel\, segítünk biztos alapokra fektetni a tudásodat!\nGyere és legyél te a szaunák mestere\, szerezz egy igazi közösség építő szakmát. \n\nNe feledd nálunk mindegy\, hogy hobbi vagy munka miatt érkezel\, a lehető legmagasabb szakmai képzést nyújtjuk mindenki számára!\nJelentkezz\, még ma! E-mail: info@westwindsauna.hu vagy\n+36 302675989 mobilszámon
URL:https://westwindsauna.hu/event/szaunamester-alap-kepzes-2024-bukfurdon-greenfiled-hotel-2024-02-29-03-03/
LOCATION:Greenfield Hotel Bük\, Golf út 4.\, Bükfürdő\, VAs\, 9740\, Magyarország
ATTACH;FMTTYPE=image/jpeg:https://westwindsauna.hu/wp-content/uploads/2024/01/Venti-Plakat-Greenfiled-2024-masolat-2-scaled.jpg
ORGANIZER;CN="Greenfiled Hotel B%C3%BCk":MAILTO:reservation@greenfieldhotel.hu
END:VEVENT
BEGIN:VEVENT
DTSTART;TZID=UTC:20240330T090000
DTEND;TZID=UTC:20240330T180000
DTSTAMP:20260423T002804
CREATED:20240227T080143Z
LAST-MODIFIED:20240227T122001Z
UID:362-1711789200-1711821600@westwindsauna.hu
SUMMARY:West Wind szauna nap Zalakaros – MenDan**** 2024.03.30. "Tavasz Váró"
DESCRIPTION:Köszöntsük együtt a tavaszt ismét a zalakarosi MenDan**** Hotel SKY 80 fős szauna világába\, hogy ismét megizzasztjuk kedves vendégeinket show felöntésekkel!Lesz itt kérem sírás de leginkább nevetés\, vidámság! \n\n\n10:00 RELAX – Magyar zenékkel. relax program\, száraz és élő növényekkel a kályhán. (illatanyagban kamilla\, levendula Mirtusz\, jellemző) Vendégek részére adható tea különlegesség. Intenzitás közepes\, hőhatás közepes.\n11:00 Munkás Osztály. Igazi magyar munkás élet dalai jelennek meg\, a munka morált felelevenítve. Vendégek részére sör kínálható a program végén. Intenzitás Erős\, hőhatás. Fokozottan erős!\n13:00. Magyar Retro Disco Slágerek. A Retro Slágerei zenei alapjai jelennek meg az ebéd utáni programunk során. Illatjegyekben virágos\, friss illatelemek jelennek meg.) A vendégek részére frissítő kínálható. Intenzitás közepes\, Hőhatás Közepes!\n15:00 A mi kis falunk. Ki ne ismerné Pajkaszeg történetét\, ebben a show programban\, megjelenek a szereplők\, Karcsi\, Stoki\, Szifon\, Matyi\, Teca és a többiek. Illatjegyekben gyümölcs és sült édességek (Teafa\, Szegfűszeg\, Fahéj-narancs) illata idézik fel Pajkaszeg települést. A vendégek részére frissítő kínálható. Intenzitás Magas\, Hőhatás Erős!\n16:00 Padlás. a musical alapján felépülő igazai magyar jelmezes show program A csapat és közösség előtérbe helyezése\, fontosságának kiemelése. (Erős Fás illatok\, nyírfa-méz\, tonkafa\, Cubeba-Bergamotte) A vendégek részére gyümölcs kínálható. Intenzitás Magas\, Hőhatás Erős!\n\n17:00 Húsvéti Mulatós Záró program. Magyar mulatós egyveleg\, minden ami egy házibulin beindítja a vendégeket\, mediterrán illatjegyekkel (-sárgabarack-narancs\, ananász\, maracuja) vendégek részére vörösbor kínálható a program után. Intenzitás Magas\, Hőhatás Erős \n 
URL:https://westwindsauna.hu/event/west-wind-szauna-nap-zalakaros-mendan-2024-03-30/
LOCATION:MenDan Hotel **** Zalakaros\, Gyógyfürdő tér 8.\, Zalakaros\, ZALA\, 8749\, Magyarország
ATTACH;FMTTYPE=image/jpeg:https://westwindsauna.hu/wp-content/uploads/2023/12/Laura-Roli-Gabor.jpeg
END:VEVENT
END:VCALENDAR