BEGIN:VCALENDAR
VERSION:2.0
PRODID:-//West Wind Sauna Team - ECPv6.15.20//NONSGML v1.0//EN
CALSCALE:GREGORIAN
METHOD:PUBLISH
X-ORIGINAL-URL:https://westwindsauna.hu
X-WR-CALDESC:Események West Wind Sauna Team
REFRESH-INTERVAL;VALUE=DURATION:PT1H
X-Robots-Tag:noindex
X-PUBLISHED-TTL:PT1H
BEGIN:VTIMEZONE
TZID:UTC
BEGIN:STANDARD
TZOFFSETFROM:+0000
TZOFFSETTO:+0000
TZNAME:UTC
DTSTART:20250101T000000
END:STANDARD
END:VTIMEZONE
BEGIN:VEVENT
DTSTART;TZID=UTC:20261107T113000
DTEND;TZID=UTC:20261107T170000
DTSTAMP:20260421T224935
CREATED:20251013T181206Z
LAST-MODIFIED:20260104T084506Z
UID:1426-1794051000-1794070800@westwindsauna.hu
SUMMARY:West Wind Greenfield Szauna nap 2026-11.07.
DESCRIPTION:🎃 Borzongás és Forróság: Halloween Szauna Show a Greenfieldben! \nVannak éjszakák\, amikor a szauna kályhája is másképp izzik… Csapatunk\, a West Wind ismét visszatér Bükfürdőbe\, hogy a Greenfield Hotel Golf & Spa** Superior** szaunavilágát egy misztikus\, halloweeni birodalommá változtassa. \n\n\nHelyszín: Greenfield Hotel\, Bükfürdő \n\n\nAmire számíthat: Különleges fényhatások\, sejtelmes dallamok és olyan tematikus felöntések\, amiktől garantáltan futkosni fog a hátán a hideg – és a meleg! \n\n\n✨ Készüljön egy rendhagyó\, borzongatóan profi szauna-élményre! A részletek hamarosan „fényre derülnek”…
URL:https://westwindsauna.hu/event/west-wind-greenfiled-szauna-nap-2026-11-14/
LOCATION:Greenfield Hotel Bük\, Golf út 4.\, Bükfürdő\, VAs\, 9740\, Magyarország
ATTACH;FMTTYPE=image/png:https://westwindsauna.hu/wp-content/uploads/2024/09/Greenfield-20240921.png
ORGANIZER;CN="Greenfiled Hotel B%C3%BCk":MAILTO:reservation@greenfieldhotel.hu
END:VEVENT
END:VCALENDAR