BEGIN:VCALENDAR
VERSION:2.0
PRODID:-//West Wind Sauna Team - ECPv6.15.20//NONSGML v1.0//EN
CALSCALE:GREGORIAN
METHOD:PUBLISH
X-ORIGINAL-URL:https://westwindsauna.hu
X-WR-CALDESC:Események West Wind Sauna Team
REFRESH-INTERVAL;VALUE=DURATION:PT1H
X-Robots-Tag:noindex
X-PUBLISHED-TTL:PT1H
BEGIN:VTIMEZONE
TZID:UTC
BEGIN:STANDARD
TZOFFSETFROM:+0000
TZOFFSETTO:+0000
TZNAME:UTC
DTSTART:20250101T000000
END:STANDARD
END:VTIMEZONE
BEGIN:VEVENT
DTSTART;VALUE=DATE:20260313
DTEND;VALUE=DATE:20260316
DTSTAMP:20260421T143505
CREATED:20251013T180728Z
LAST-MODIFIED:20260302T132409Z
UID:1421-1773360000-1773619199@westwindsauna.hu
SUMMARY:West Wind  Szauna Adventor Kupa II. Greenfield Hotel 2026.03.13-15
DESCRIPTION:West Wind Szauna Adventor Kupa II. Greenfield Hotel 2026.03.13-15\n\n\n\n\n\n\n\n\n\n\n\n\n AHOL A TERMÉSZETELEMEI TÁNCRA KELNEK! \nTavaszi West Wind-Greenfield Szauna Kupa\n\n\n 2026. március 13-14–15. |  Greenfield Hotel Golf & Spa\, Bükfürdő\n\n\nKészüljön fel egy hétvégére\, ahol a pára nemcsak felszáll\, hanem történeteket mesél! Idén tavasszal a szaunavilág „ifjú” mesterei költöznek a Greenfield falai közé\, hogy a forróság\, a ritmus és az illatok mesteri ötvözésével hódítsák meg a közönséget.\n\n\nEz nem csak egy verseny – ez előadás művészete.\n\n AKIK HANGULATOT IRÁNYÍTJÁK: \n\n\n\n\nSzombat\n\n\n\nidőpont\nMester\nProgram neve\n\n\n10:00\nVarga Dani\nTaxi\n\n\n11:00\nHazadi Emese\n1001 Éjszaka\n\n\n12:00\nEbéd\n–\n\n\n13:00\nSpanics Kevin\nValami Kevin-es\n\n\n14:00\nSzabó Vajk\nViking\n\n\n15:00\nNagy Izabella\nLecsó\n\n\n16:00\nTakács Julianna\nShow-Texas\n\n\n17:00\nBugyi Norbi\nMeglepetés 🙂\n\n\n18:00\nTörök Martin\nEmber a pályán\n\n\n\n\n\n\n\n\nVasárnap\n\n\n\nidőpont\nMester\nProgram neve\n\n\n10:00\nToplak Béla\nKávés felöntés.\n\n\n11:00\nSzép Tamás\nSpirituálrelax\n\n\n12:00\nMagyar Ádám\nArgo\n\n\n13:00\nNagy Szabina\nValami Lesz 2.0\n\n\n14:00\nPaksáné Király Katalin\nBeyonce\n\n\n15:00\nKovács Gábor\nZűr az Űrben\n\n\n16:00\nKirály Norbert\nŐrült professzor\n\n\n17:00\nEredményhírdetés\n\n\n\n\n\n\n\nA hétvége során az alábbi mesterek produkcióit élvezheti a szaunában:\n\n\n AMIT AZ ÉRZÉKEI KAPNAK:\n\n\n Show-felöntések: Magas színvonalú koreográfiák\, ahol a törölköző legyezések ereje és a zene összhangja teremt varázslatot.\n\n\n Versenyizgalom: Szurkoljon kedvencének és élje át élőben az ország egyik legújabb szaunás megmérettetését!\n\n\n Greenfield Zen: A programok között pihenjen prémium wellness birodalmunkban\, ahol a nyugalom garantált.\n\n\n NE CSAK NÉZZE – ÉLJE ÁT!\n\n\nLegyen részese a „West Wind” erejének\, ahol a professzionális szaunakultúra találkozik a Greenfield luxusával. Itt a forróság nem éget\, hanem felszabadít.\n\n\nPénteken érkezők vendégeinknek délután már West Wind Programok!!!!\n\n\n Foglalja le helyét az első sorban! https://greenfield.adventorhotels.hu/esemenyek\n\n\n„Ahol a szél és a tűz találkozik – Tavaszi West Wind-Greenfield Szauna Kupa.”\n\n\nTámogatóink: Greenfield Hotel Golf & Spa SAUNA KING kész szaunák & szauna webshop Spanics szauna kellékek\n\n\n\n\n\n\n\n\n  \n  \n 
URL:https://westwindsauna.hu/event/west-wind-szauna-adventor-kupa-ii-2026-03-13-15/
LOCATION:Greenfield Hotel Bük\, Golf út 4.\, Bükfürdő\, VAs\, 9740\, Magyarország
ATTACH;FMTTYPE=image/png:https://westwindsauna.hu/wp-content/uploads/2025/10/Greenfield-Kupa-2026_kicsi.png
END:VEVENT
END:VCALENDAR