BEGIN:VCALENDAR
VERSION:2.0
PRODID:-//West Wind Sauna Team - ECPv6.15.20//NONSGML v1.0//EN
CALSCALE:GREGORIAN
METHOD:PUBLISH
X-ORIGINAL-URL:https://westwindsauna.hu
X-WR-CALDESC:Események West Wind Sauna Team
REFRESH-INTERVAL;VALUE=DURATION:PT1H
X-Robots-Tag:noindex
X-PUBLISHED-TTL:PT1H
BEGIN:VTIMEZONE
TZID:UTC
BEGIN:STANDARD
TZOFFSETFROM:+0000
TZOFFSETTO:+0000
TZNAME:UTC
DTSTART:20250101T000000
END:STANDARD
END:VTIMEZONE
BEGIN:VEVENT
DTSTART;VALUE=DATE:20260307
DTEND;VALUE=DATE:20260308
DTSTAMP:20260421T143403
CREATED:20251230T085316Z
LAST-MODIFIED:20260125T192201Z
UID:1538-1772841600-1772927999@westwindsauna.hu
SUMMARY:🌹 Nőnapi Szauna-Varázslat a West Wind & MenDan Csapatával! 2026.03.07.
DESCRIPTION:🌹 Nőnapi Szauna-Varázslat a West Wind & MenDan Csapatával! \nHölgyeink\, eljött az idő\, hogy Önök legyenek a középpontban! 2026. március 7-én a forróság\, az illatok és a teljes megújulás várja Önöket Zalakaros szívében. \n\n\nIdőpont: 2026. március 7. \n\nHelyszín: MenDan Magic Spa & Wellness Hotel\n\n\n\n📅 West Wind Sauna Nőnapi Szauna Parti – A történetekbe zárt szaunanap\n\n\n🎹 10:30 – Havasi: Havas hegycsúcsok érintése\nA napot a végtelen fehérség és a csend harmóniájával indítjuk. Havasi lágy zongoradallamai mellett a száraz-virágok illata tölti meg a szaunát\, mintha a hó alól bújnának elő az első tavaszi kelyhek. Ez a program a tiszta eleganciáról és a belső békéről szól. \n👔 11:30 – A Randiguru: A csábítás tudománya\nAlex Hitchens világa költözik a kabinba\, ahol a magabiztosság és a stílus találkozik. A fás és fűszeres illatjegyek között megelevenedik a film szereplőinek szerelmi szála\, miközben dinamikus hőhullámok vezetnek be a csábítás rejtelmeibe. \nProgram után: Frissítő kínálása vendégeink részére. \n⛪ 13:30 – Apáca Show: Újra virul a fityula\nMary Clarence fergeteges energiája söpör végig a padsorokon! A spirituális tömjén és vetiver találkozik a citromfű életteli frissességével\, miközben a szauna egy vidám gospel-kórussá alakul. \nA programot követően: Misebor helyett hűsítő szőlőlével vendégeljük meg hívőinket. \n🌹 14:30 – Rómeó és Júlia: Szenvedély az erkély alatt\nBepillantunk a leghíresebb magyar musical és szerelmi történet szívébe. A forró érzelmeket a rózsa\, a homoktövis és a méz lágy édessége festi alá\, amit az eper és a citrom vibrálása tesz felejthetetlenné. \nProgram után: Friss gyümölccsel kedveskedünk a résztvevőknek. \n🎩 16:30 – The Great Showman: A képzelet birodalma\nHölgyeim és Uraim\, a függöny felgördül! A cirkusz varázslatos világa elevenedik meg ebben a látványos show-ban. Rendhagyó illatpárosítások – a cola\, narancs\, ylang-ylang és csokimenta – kalauzolják el vendégeinket a musical különleges atmoszférájába. \nA programot követően: Ízletes gyümölcslé kínálása. \n✈️ 17:30 – Top Gun: Maverick – Sebességláz\nZárásként felszállunk az amerikai légi elit egységével. A csapatszellemet és az adrenalint a feketebors\, a lime\, a tolu balzsam és a fodormenta férfiasan friss elegye idézi meg\, garantálva a nap legerőteljesebb fináléját. \nProgram után: A sikeres landolást követően alkoholmentes sörrel ünnepeljük a nap hőseit. \n\n\n\n\n\nEz a nap csak az Önöké!
URL:https://westwindsauna.hu/event/west-wind-mendan-szauna-nap-2026-03-07-nonap/
LOCATION:MenDan Hotel **** Zalakaros\, Gyógyfürdő tér 8.\, Zalakaros\, ZALA\, 8749\, Magyarország
ATTACH;FMTTYPE=image/jpeg:https://westwindsauna.hu/wp-content/uploads/2025/12/608540616_861942953487268_1584509990916354626_n.jpg
END:VEVENT
END:VCALENDAR