BEGIN:VCALENDAR
VERSION:2.0
PRODID:-//West Wind Sauna Team - ECPv6.15.20//NONSGML v1.0//EN
CALSCALE:GREGORIAN
METHOD:PUBLISH
X-ORIGINAL-URL:https://westwindsauna.hu
X-WR-CALDESC:Események West Wind Sauna Team
REFRESH-INTERVAL;VALUE=DURATION:PT1H
X-Robots-Tag:noindex
X-PUBLISHED-TTL:PT1H
BEGIN:VTIMEZONE
TZID:UTC
BEGIN:STANDARD
TZOFFSETFROM:+0000
TZOFFSETTO:+0000
TZNAME:UTC
DTSTART:20250101T000000
END:STANDARD
END:VTIMEZONE
BEGIN:VEVENT
DTSTART;TZID=UTC:20260214T120000
DTEND;TZID=UTC:20260214T173000
DTSTAMP:20260421T161416
CREATED:20251013T180424Z
LAST-MODIFIED:20260205T182122Z
UID:1419-1771070400-1771090200@westwindsauna.hu
SUMMARY:❤️ Szerelem a Greenfield ölelésében – Valentin-napi Szaunaünnep 🌹 🥂 2025-02.14
DESCRIPTION:❤️ Szerelem a Greenfield ölelésében – Valentin-napi Szaunaünnep 🌹 🥂\nHelyszín: Greenfield Hotel Golf & Spa****\, Bükfürdő \nIdőpont: 2026. február 14. \nÜnnepelje a szerelmet ott\, ahol a természet és a nyugalom összeér! Bálint-nap alkalmából a West Wind Sauna Team egy érzelmes\, öt állomásos utazásra hívja Önöket. Hagyják\, hogy a forróság és a különleges illatok közelebb hozzák Önöket egymáshoz. \n❤️ ▬▬▬▬▬▬▬▬▬▬▬▬▬▬▬▬▬▬ ❤️ ▬▬▬▬▬▬▬▬▬▬▬▬▬▬▬▬▬▬ ❤️ \n🕛 12:00 – Magyar dallamok szárnyán ❤️ ✨\nKezdjük az ünnepet ismerős ritmusokkal! A legszebb hazai szerelmes dalok teremtenek bensőséges hangulatot\, hogy Ön és párja azonnal egymásra hangolódhasson. \n\n\nIllatjegyek: A frissítő grapefruit\, az érzéki ylang-ylang\, a nemes bergamott és az édes méz-zöld mandarin harmóniája. \n\n\nÉletérzés: Hazai szívvel\, forró lélekkel. \n\n\n🕐 13:00 – Thomas Bergersen: Relaxációs Hangutazás💖 🧸\nMélyüljenek el a nyugalom tengerében! Thomas Bergersen monumentális\, mégis megnyugtató instrumentális dallamai segítenek kizárni a külvilágot\, és csak a pillanatra figyelni. \n\n\nIllatjegyek: Egzotikus mangó\, tiszta nyírfa és az erdők mélyét idéző fenyő-menta. \n\n\nÉletérzés: Meditatív lebegés a zene és a forróság ölelésében. \n\n\n🕝 14:30 – Egyiptom Hercege: Misztikus Kelet👩‍❤️‍👨 💍\nHans Zimmer zseniális zenéje és a bibliai történet ereje elevenedik meg a kabinban. Egy látványos és érzelmileg telített program\, amely messzi tájakra repít. \n\n\nIllatjegyek: Fűszeres szegfűszeg\, élénkítő citrom\, hűs menta-ánizs és a mély tonka-tolu balzsamfa. \n\n\nÉletérzés: Epikus utazás az érzékek birodalmában. \n\n\n🕓 16:00 – Igazából szerelem🔥❤️\n„A szerelem valójában mindenütt ott van.” Idézzük fel a kultikus film pillanatait a lecsúszott rocksztár\, Billy bácsi és a többiek történetén keresztül! Vidám\, pörgős és érzelmes felöntés. \n\n\nIllatjegyek: Pikáns lime-feketebors\, játékos cola-narancs és az ünnepi champagne-eper. \n\n\nÉletérzés: Pezsgés\, nevetés és tiszta romantika. \n\n\n🕔 17:00 – Rómeó és Júlia: A végzetes szerelem❤️ ✨ 🌹\nA nap koronájaként a világhírű magyar musical dallamai töltik meg a szaunát. Szenvedély\, dráma és örök szerelem – egy katartikus zárás a Greenfield szaunavilágában. \n\n\nIllatjegyek: Selymes pálmarózsa\, vitalizáló homoktövis\, és az elegáns tonkafa-bergamott egy cseppnyi champagne-nal. \n\n\nÉletérzés: A nap legforróbb vallomása.
URL:https://westwindsauna.hu/event/west-wind-valentin-greenfiled-szauna-nap-2025-02-14/
LOCATION:Greenfield Hotel Bük\, Golf út 4.\, Bükfürdő\, VAs\, 9740\, Magyarország
ATTACH;FMTTYPE=image/png:https://westwindsauna.hu/wp-content/uploads/2024/09/Greenfield-20240921.png
ORGANIZER;CN="Greenfiled Hotel B%C3%BCk":MAILTO:reservation@greenfieldhotel.hu
END:VEVENT
END:VCALENDAR