BEGIN:VCALENDAR
VERSION:2.0
PRODID:-//West Wind Sauna Team - ECPv6.15.20//NONSGML v1.0//EN
CALSCALE:GREGORIAN
METHOD:PUBLISH
X-WR-CALNAME:West Wind Sauna Team
X-ORIGINAL-URL:https://westwindsauna.hu
X-WR-CALDESC:Események West Wind Sauna Team
REFRESH-INTERVAL;VALUE=DURATION:PT1H
X-Robots-Tag:noindex
X-PUBLISHED-TTL:PT1H
BEGIN:VTIMEZONE
TZID:UTC
BEGIN:STANDARD
TZOFFSETFROM:+0000
TZOFFSETTO:+0000
TZNAME:UTC
DTSTART:20250101T000000
END:STANDARD
END:VTIMEZONE
BEGIN:VEVENT
DTSTART;VALUE=DATE:20260213
DTEND;VALUE=DATE:20260214
DTSTAMP:20260421T160818
CREATED:20251230T083305Z
LAST-MODIFIED:20260122T185019Z
UID:1528-1770940800-1771027199@westwindsauna.hu
SUMMARY:❤️West Wind Szauna Bálint-napi Szaunaünnep 2026.02.13 Hotel Caramell Bük❤️
DESCRIPTION:🔥 Bálint-napi Szaunaünnep a West Wind Sauna Teammel❤️\nHelyszín: Caramell Premium Resort****\, Bükfürdő \nIdőpont: 2026. február 13. \nHagyja maga mögött a hétköznapok zaját\, és merüljön el az érzékek birodalmában! Valentin-nap előestéjén a West Wind Sauna Team különleges\, tematikus felöntésekkel varázsolja el Önt és párját. Öt különböző történet\, öt páratlan illatvilág – egy felejthetetlen este. \n\n🕒 15:00 – ❤️Mon Amour❤️: Francia Elegancia\nIndítsák a délutánt Párizs romantikus utcáin! Lágy sanzonok és finom érintések kísérik ezt a programot\, ahol a nyugalom és a szenvedély találkozik. \n\n\nIllatjegyek: A nyugtató levendula\, a frissítő lime és az egzotikus pálmarózsa tánca a forró köveken. \n\n\nÉletérzés: Könnyed\, mint egy tavaszi séta a Szajna-parton. \n\n\n🕒 16:00 – Magyar Romantika❤️\nVannak dallamok\, amik csak a mi szívünkhöz szólnak. Ismert hazai előadók legszebb szerelmes dalai teremtenek meghitt hangulatot a kabinban. \n\n\nIllatjegyek: A vibráló grapefruit\, a misztikus kékvadrács és a vágykeltő clementin-ylang-ylang fúziója. \n\n\nÉletérzés: Otthonos melegség\, tiszta érzelmek. \n\n\n🕒 17:00 – A Szerelem Konyhája ❤️(Séf Program)❤️\nVigyázat\, a szaunában felforrósodik a hangulat! Ebben az órában „megfőzzük” az ideális randevút. Egy interaktív\, vidám program\, ahol a konyhaművészet és a szaunamester tudománya egyesül. \n\n\nIllatjegyek: Fűszeres rozmaring\, édes narancs\, pikáns oregánó és az afrodiziákumként ható ánizs-szerecsendió. \n\n\nÉletérzés: Ínyenc kényeztetés minden érzékszervnek. \n\n\n🕒 18:30 – Randiguru❤️: Hitch és Sara a szaunában\nEmlékeznek a filmre\, ahol a profi csábító is elveszti a fejét? Elevenítsük fel a Randiguru legviccesebb és legforróbb pillanatait! Játékos flört és dinamikus legyezéstechnika várja Önöket. \n\n\nIllatjegyek: Játékos cola-narancs\, hűsítő csokimenta és a mély\, bársonyos tonkafa. \n\n\nÉletérzés: Modern romantika\, egy csipetnyi humorral fűszerezve. \n\n\n🕒 19:30 – ❤️Hogyan tudnék élni nélküled?❤️\nZárjuk az estét a legnépszerűbb magyar musical-film világával! Repüljünk vissza a Balaton-parti nyarakba\, a Kuplung zenekar ritmusaira\, ahol a szerelem mindent legyőz. \n\n\nIllatjegyek: Vitalizáló homoktövis\, selymes méz-citrom és a tüdőt tisztító\, frissítő eukaliptusz-kubeba. \n\n\nÉletérzés: Kirobbanó energia és mély nosztalgia.
URL:https://westwindsauna.hu/event/west-wind-szauna-nap-2026-02-13-hotel-caramell-buk/
LOCATION:Caramell Premium Resort****superior\, Európa út 18\, Bük\,\, VAS\, 9740\, Magyarország
ATTACH;FMTTYPE=image/jpeg:https://westwindsauna.hu/wp-content/uploads/2024/06/Caramell_West-Wind.jpg
END:VEVENT
END:VCALENDAR