BEGIN:VCALENDAR
VERSION:2.0
PRODID:-//West Wind Sauna Team - ECPv6.15.20//NONSGML v1.0//EN
CALSCALE:GREGORIAN
METHOD:PUBLISH
X-ORIGINAL-URL:https://westwindsauna.hu
X-WR-CALDESC:Események West Wind Sauna Team
REFRESH-INTERVAL;VALUE=DURATION:PT1H
X-Robots-Tag:noindex
X-PUBLISHED-TTL:PT1H
BEGIN:VTIMEZONE
TZID:UTC
BEGIN:STANDARD
TZOFFSETFROM:+0000
TZOFFSETTO:+0000
TZNAME:UTC
DTSTART:20250101T000000
END:STANDARD
END:VTIMEZONE
BEGIN:VEVENT
DTSTART;VALUE=DATE:20260205
DTEND;VALUE=DATE:20260209
DTSTAMP:20260421T161207
CREATED:20251013T184250Z
LAST-MODIFIED:20260119T123032Z
UID:1430-1770249600-1770595199@westwindsauna.hu
SUMMARY:Szaunamester képzés Sirius Hotel Keszthely 2026.02.05-08 (PK 10882008 államilag elfogadott)
DESCRIPTION:Szaunamester képzés Sirius Hotel Keszthely 2026.02.05-08 (államilag elfogadott)\nSzaunamester képzésünk ismét vissztatér Keszthelyre és folytatja a 2026 évi  szaunamester alapképzéseit. \nÁllamilag elismert képesítés 10882008 programkövetelmény alapján! \n\nKedves Leendő Szaunamester!\n\n\nSzeretnél szaunamester lenni\, de nem tudod\, kitől tanulj?\n\n\nNe aggódj\, mi itt vagyunk\, hogy segítsünk neked ezen az izgalmas úton!\n\n\nEngedd meg\, hogy röviden bemutassuk\, mit kínálunk számodra:\n\n\n1. **Alapvető elméleti tudás**: Megtanítjuk neked a szükséges ismereteket\, amikkel tájékoztatni tudod a fürdővendégeket.\n\n\n2. **Gyakorlati tapasztalat**: A 4 napos képzés során minden nap szauna programot fogsz tartani. Ezzel nemcsak tanulsz\, hanem hőedzettséget is szerzel!\n\n\n3. **Hőterápia elsajátítása**: Megtanulod\, hogyan végezhetsz hőterápiát\, ami fontos része a szaunamester munkájának.\n\n\n4. **Személyre szabott oktatás**: A számodra legmegfelelőbb méretű szaunában sajátíthatod el a szakma lényegét.\n\n\n5. **Legyezési technikák**: Az alapképzés keretein belül megtanulhatod az alap négy legyezési technikát\, amelyekkel már bátran elhelyezkedhetsz.\n\n\n6. **Folyamatos támogatás**: A képzés után sem engedjük el a kezed! Segítünk a további fejlődésben és kérdéseid megválaszolásában.\n\n\nNe habozz! Csatlakozz hozzánk\, és kezd el a szaunamester kalandodat! Fedezd fel velünk a szaunázás csodálatos világát!\nJelentkezési űrlap:\nJelentkezz: info@westwindsauna.hu\nTelefonon :+36 30 267 5989
URL:https://westwindsauna.hu/event/szaunamester-kepzes-sirius-hotel-keszthely-2026-02-05-08-pk-10882008-allamilag-elfogadott/
LOCATION:Greenfield Hotel Bük\, Golf út 4.\, Bükfürdő\, VAs\, 9740\, Magyarország
CATEGORIES:Szaunamester oktatás
ATTACH;FMTTYPE=image/png:https://westwindsauna.hu/wp-content/uploads/2025/10/Sirius-Plakat-2026.png
ORGANIZER;CN="Greenfiled Hotel B%C3%BCk":MAILTO:reservation@greenfieldhotel.hu
END:VEVENT
END:VCALENDAR