BEGIN:VCALENDAR
VERSION:2.0
PRODID:-//West Wind Sauna Team - ECPv6.15.20//NONSGML v1.0//EN
CALSCALE:GREGORIAN
METHOD:PUBLISH
X-WR-CALNAME:West Wind Sauna Team
X-ORIGINAL-URL:https://westwindsauna.hu
X-WR-CALDESC:Események West Wind Sauna Team
REFRESH-INTERVAL;VALUE=DURATION:PT1H
X-Robots-Tag:noindex
X-PUBLISHED-TTL:PT1H
BEGIN:VTIMEZONE
TZID:UTC
BEGIN:STANDARD
TZOFFSETFROM:+0000
TZOFFSETTO:+0000
TZNAME:UTC
DTSTART:20250101T000000
END:STANDARD
END:VTIMEZONE
BEGIN:VEVENT
DTSTART;TZID=UTC:20260124T100000
DTEND;TZID=UTC:20260124T180000
DTSTAMP:20260421T173403
CREATED:20251227T091709Z
LAST-MODIFIED:20260105T195802Z
UID:1526-1769248800-1769277600@westwindsauna.hu
SUMMARY:MenDan West Wind Pótszilveszter 2.0 2026.01.24
DESCRIPTION:West Wind Pótszilveszter 2.0 MenDan Hotel Zalakaros \n2026.01.24 Szombat. \n10:30 – Napindító Harmónia: Thomas Bergersen Instrumentális\n„Engedd\, hogy a reggeli csendet Thomas Bergersen magával ragadó\, monumentális instrumentális dallamai törjék meg. Ez nem csupán egy szaunaprogram\, hanem egy belső utazás\, ahol a zene ereje és a természet tisztasága találkozik. A szaunapadokon pihenve a mezők nyugalmát idézzük meg: a kamilla lágy ölelése\, a körömvirág gyógyító ereje és a kakukkfű frissítő aromája segít\, hogy minden stresszt magad mögött hagyj. Kezdd a napot teljes harmóniában\, és készítsd fel a lelked a Pótszilveszter 2.0 további kalandjaira!” \n11:30 – Harry Potter és a titkok szaunája\n„Figyelem\, boszorkányok és varázslók! A Roxfort kapui ma a MenDan Hotelben nyílnak meg. Készítsétek elő a láthatatlanná tévő köpenyeket\, mert alámerülünk a titkok szaunájába! A rituálé során a Tömjén misztikus füstje\, a ritka Kék Varádics és az édeskés Tolu balzsamfa olaja hozza el a mágiát a szaunapadokra. Ne lepődjetek meg\, ha a közben megelevenednek a legendák! A kaland végén minden bátor tanoncot egy különleges\, hűsítő varázsitalra invitálunk\, hogy visszanyerjétek erőtöket a következő órákra.” \nRészletek: \n\nTéma: Harry Potter és a titkok szaunája\nIllatok: Tömjén\, Kék Varádics\, Tolu balzsamfa\nKínálás: Varázsital (üdítő) a vendégek részére\n\n13:30 – Séf a szaunában: Egy gasztronómiai illatutazás\n„Készítsétek az érzékszerveiteket\, mert a szaunamesterünk most leveszi a konyhafőnöki sapkát\, és a szaunapadok mellé varázsolja a legizgalmasabb kulináris élményeket! Ez a program egy igazi gasztronómiai illatkavalkád\, ahol a konyha és a wellness határai elmosódnak. A Homoktövis fanyar energiája\, a Majoránna fűszeres mélysége\, a Citrom Bazsalikom frissessége és a Borsmenta hűsítő ereje alkot egy olyan ínycsiklandó kompozíciót\, amitől garantáltan megjön a kedvetek az élet élvezetéhez. Egy szeánsz\, ami nemcsak izzaszt\, de inspirál is!” \nRészletek: \n\nTéma: Séf a szaunában – Gasztro-show a forróságban\nIllatok: Homoktövis\, Majoránna\, Citrom Bazsalikom és Borsmenta\n\n14:30 – Egyiptom hercegei: Történelmi időutazás\nHagyja maga mögött a jelent\, és lépjen be a fáraók birodalmába! Az Egyiptom hercegei programunkkal egy különleges történelmi utazásra hívjuk\, ahol a szauna forrósága a piramisok titkait és az ókori Kelet pompáját idézi meg. A levegőben az uralkodók legnemesebb illatjegyei keverednek: a misztikus Ánizs\, a fűszeres Koriander és a karakteres Szegfűszeg\, melyeket a Narancs és a Mandarin napfényes frissessége tesz teljessé. Élje át az évezredes rituálék varázsát\, és érezze magát uralkodónak a MenDan Hotel szaunabirodalmában!” \nRészletek: \n\nTéma: Egyiptom hercegei – Történelmi utazás\nIllatjegyek: Ánizs\, Koriander\, Szegfűszeg\, Narancs és Mandarin\n\n16:30 – Hogyan tudnék élni nélküled? Musical-láz a szaunában\n„Készítsétek a tapsoló tenyereket és a hangszálakat\, mert a szauna színpadára megérkezik a nagysikerű musical és a fergeteges Kuplung zenekar! Ez a program nem csak egy szeánsz\, hanem egy interaktív show\, ahol a slágerek és az illatok kéz a kézben járnak. A Cola-Narancs és a Zöldmandarin játékossága találkozik a Csokimenta hűsítő\, édes eleganciájával. Énekeljünk\, izzadjunk és ünnepeljünk együtt! Hogy a torkunk se maradjon szárazon a nagy buli közben\, minden kedves vendégünket megkínáljuk egy pohár hűsítő\, citromos alkoholmentes sörrel.” \nRészletek: \n\nTéma: Hogyan tudnék élni nélküled? Musical & Kuplung zenekar\nIllatjegyek: Cola-Narancs\, Zöldmandarin\, Csokimenta\nKínálás: Citromos alkoholmentes sör\n\n17:30 – A Karib-tenger kalózai: Kincsvadászat a szaunában!\n„Vitorlát fel\, horgonyt felhúzni! Az utolsó állomásunkon Jack Sparrow és csapata veszi át az irányítást a szauna felett. Készüljetek fel a Karib-tenger vad vizeire\, ahol a nagysikerű film zenevilága és legendás történetei elevenednek meg a szemünk előtt. A levegőben igazi kalandorokhoz illő aromák szállnak: a Rum-Lime és a Tonkafa egzotikuma\, a Fahéjkéreg-zsálya fűszeressége\, valamint az Eukaliptusz-klementin frissítő ereje kalauzol el minket a rejtett kincsekig. És mivel egy igazi kalóz sosem marad szárazon\, a szeánsz végén minden bátor tengerészt megkínálunk egy korty valódi rummal\, hogy méltóképpen koccintsunk a Pótszilveszter 2.0 sikerére!” \nRészletek: \n\nTéma: A Karib-tenger kalózai – Zenés-történetes kaland\nIllatjegyek: Rum-Lime Tonkafa\, Fahéjkéreg-zsálya\, Eukaliptusz-klementin\nKínálás: Rum a vendégek részére\n\n 
URL:https://westwindsauna.hu/event/mendan-west-wind-potszilveszter-2-0-2026-01-24/
LOCATION:MenDan Hotel **** Zalakaros\, Gyógyfürdő tér 8.\, Zalakaros\, ZALA\, 8749\, Magyarország
ATTACH;FMTTYPE=image/jpeg:https://westwindsauna.hu/wp-content/uploads/2024/12/462735415_850904920330748_2246621521987061373_n.jpg
END:VEVENT
END:VCALENDAR