BEGIN:VCALENDAR
VERSION:2.0
PRODID:-//West Wind Sauna Team - ECPv6.15.20//NONSGML v1.0//EN
CALSCALE:GREGORIAN
METHOD:PUBLISH
X-ORIGINAL-URL:https://westwindsauna.hu
X-WR-CALDESC:Események West Wind Sauna Team
REFRESH-INTERVAL;VALUE=DURATION:PT1H
X-Robots-Tag:noindex
X-PUBLISHED-TTL:PT1H
BEGIN:VTIMEZONE
TZID:UTC
BEGIN:STANDARD
TZOFFSETFROM:+0000
TZOFFSETTO:+0000
TZNAME:UTC
DTSTART:20250101T000000
END:STANDARD
END:VTIMEZONE
BEGIN:VEVENT
DTSTART;VALUE=DATE:20260110
DTEND;VALUE=DATE:20260112
DTSTAMP:20260421T173547
CREATED:20251130T105541Z
LAST-MODIFIED:20251227T091226Z
UID:1499-1768003200-1768175999@westwindsauna.hu
SUMMARY:Legyezéstechnikai tréning Greenfeild hotel 2026.01.10-11
DESCRIPTION:Szaunamester vizsgára is felkészítünk\, hogy ne feledd az alaptechnikákat sem! \n🌪️ TURBÓZD FEL A TUDÁSOD! 🌬️\nWest Wind Sauna & Greenfield Hotel bemutatja: A Ventilációs Képzés Mesterkurzusát!\nDátum: 2026. január 10-11 Helyszín: Greenfield Hotel Golf & Spa\, Bükfürdő \n✨ Fedezd Fel a Professzionális Szaunázás Új Dimenzióját!\nLégy részese egy exkluzív\, egész napos tréningnek\, amely nem csak felfrissíti\, de alapjaiban forradalmasítja a szaunamesteri tudásodat! \n\n\n🎓 Ventilációs Képzés Mesterfokon: Sajátítsd el a mozgás\, a legyezés és a hőkeringetés legújabb\, hatékony technikáit\, amelyekkel garantáltan felejthetetlen élményt nyújtasz minden vendégnek. \n\n\n📚 Szaunamester Vizsga Felkészítő: Frissítsük fel az alapokat! A kurzus során kiemelt figyelmet fordítunk az alaptechnikák tökéletesítésére\, hogy magabiztosan nézz szembe a vizsga kihívásaival! \n\n\n🧖 Élmény és Kapcsolódás: Tölts el egy feltöltő hétvégét a Greenfield Hotel elegáns környezetében! Tanulj\, lazíts\, és építs professzionális kapcsolatokat a szaunamesterek közösségével.
URL:https://westwindsauna.hu/event/legyezestechnikai-trening-greenfeild-hotel-2026-01-10/
LOCATION:Greenfield Hotel Bük\, Golf út 4.\, Bükfürdő\, VAs\, 9740\, Magyarország
ATTACH;FMTTYPE=image/png:https://westwindsauna.hu/wp-content/uploads/2025/11/Greenfiled-Legyezestechnika-2026-kicsi-1.png
ORGANIZER;CN="West Wind Sauna Team":MAILTO:info@westwindsauna.hu
END:VEVENT
END:VCALENDAR