BEGIN:VCALENDAR
VERSION:2.0
PRODID:-//West Wind Sauna Team - ECPv6.15.20//NONSGML v1.0//EN
CALSCALE:GREGORIAN
METHOD:PUBLISH
X-WR-CALNAME:West Wind Sauna Team
X-ORIGINAL-URL:https://westwindsauna.hu
X-WR-CALDESC:Események West Wind Sauna Team
REFRESH-INTERVAL;VALUE=DURATION:PT1H
X-Robots-Tag:noindex
X-PUBLISHED-TTL:PT1H
BEGIN:VTIMEZONE
TZID:UTC
BEGIN:STANDARD
TZOFFSETFROM:+0000
TZOFFSETTO:+0000
TZNAME:UTC
DTSTART:20250101T000000
END:STANDARD
END:VTIMEZONE
BEGIN:VEVENT
DTSTART;TZID=UTC:20260101T100000
DTEND;TZID=UTC:20260101T180000
DTSTAMP:20260421T173317
CREATED:20251130T092431Z
LAST-MODIFIED:20251214T130609Z
UID:1494-1767261600-1767290400@westwindsauna.hu
SUMMARY:MenDan West Wind Pótszilveszter 2026.01.01
DESCRIPTION:A pótszilveszteri szaunanap egy kitűnő alkalom a megkésett ünneplésre és a feltöltődésre. \n\n🔥ELFOGYOTT A PEZSGŐ? 🍾🥂 SEBAJ! Mi pótoljuk!\nElmaradt a nagy buli? Vagy csak túl hamar véget ért? A West Wind Sauna Team és a MenDan Magic Hotel Zalakaroson tart egy igazi\, forró PÓTSZILVESZTERI SZAUNANAPOT! \nFeledd a januári fagyot\, és gyere\, gyújtsuk be még egyszer a szaunát! \n\n\n✨ Tematikus\, fergeteges szauna show-k \n\n\n🥂 Meglepetés felöntések (és utána meglepetés italkínálás!) \n\n\n🎶 Pezsgő hangulat és igazi feltöltődés \n\n\n🧖‍♀️ Helyszín: MenDan Magic Hotel\, Zalakaros 2026.01.01 \n\n\n\n\n\n  \n2026.01.01 West Wind Sauna Team „Pót-Szilveszteri Szauna Party” \n• 11:00 RELAX-Hungary Voice Program.Zongora dallamok jelennek meg a relax program keretében és száraz növények a szauna kályhán. (illatanyagban körömvirág\, kamilla\, levendula mirtusz\, jellemző) Vendégek részére adható; tea különlegesség. Intenzitás közepes\, hőhatás közepes.\n• 12:00 A mi kis Falunk. Ki ne ismerné Pajkaszegtörténetét\, ebben a show programban\, megjelenek a szereplők\, Karcsi\, Stoki\, Szifon\, Matyi\, Teca és a többiek. Illatjegyekben gyümölcs és sült édességek (Teafa\, Szegfűszeg\, Fahéj-narancs) illata idézik fel Pajkaszeg települést. A vendégek részére frissítő kínálható. Intenzitás Magas\, Hőhatás Erős!\n• 14:00 Indul a Bakterház. Egy hamisítatlan ízig vérig magyar életérzésekkel tarkított show program. Történetünkben megjelenik: A Banyai\, Buga Józsi\, A Lópatás és Bendegúz a Bakterház történetében. a részére Bor kínálható a program végén (1 dl max). Intenzitás Erős\, hőhatás. Fokozottan erős!\n• 15:00 Másnaposok. Ugyan nincs még szilveszter\, de ez a történet szilveszter másnapján aktuális lehet?! Bulizzunk együtt egy hatalmasat  Doug\, Stu\, Phil és Alan őrültségeivel felidézve történetüket. Illatjegyekben gyümölcs és sült édességek (Zsálya\, Levendula -Citromfű\, Cola Narancs). A vendégek Jägermeisterkínálható (1-1\,5 cl). Intenzitás Magas\, Hőhatás Erős!\n• 17:00 Mamma Mia! Sose hagyjuk ABBA! Visszatérünk a varázslatos görög szigetre\, Kalokairire ebben a musicalben\, mely szintén az ABBA dalaira épül. Ide-oda ingázunk az időben (hőben)\, és megmutatjuk\, hogy a múltbéli kapcsolatok miképp hatnak a jelenre. (Erős Fás illatok\, tonka-tolu-méz\, édeskömény\, Cubeba-Bergamotte) A vendégek részére Ouzo ital kínálható. Intenzitás Magas\, Hőhatás Erős!\n• 18:00 Újévi Mulatos Mix! Búcsúzunk ez évtől egy hamisítatlan\, mulatós válogatással  A sztárvendékeket idézzük fel\, a Magic MenDan Hotel vendégeit szórakoztató sztárokat.\n(Illatjegyek: Homoktövis\, Erdei gyümölcs-menta\, Szilva hidrolátum) A vendégek részére Pezsgő kínálható. Intenzitás Magas\, Hőhatás Erős! \n \n \n  \n  \n  \n  \n \n 
URL:https://westwindsauna.hu/event/men-dan-wes-wind-potszilveszter-2026-01-01/
LOCATION:MenDan Hotel **** Zalakaros\, Gyógyfürdő tér 8.\, Zalakaros\, ZALA\, 8749\, Magyarország
ATTACH;FMTTYPE=image/jpeg:https://westwindsauna.hu/wp-content/uploads/2025/11/FUO4B98A.jpg
ORGANIZER;CN="MenDan **** Zalakaros":MAILTO:reservation@mendan.hu
END:VEVENT
END:VCALENDAR