BEGIN:VCALENDAR
VERSION:2.0
PRODID:-//West Wind Sauna Team - ECPv6.15.20//NONSGML v1.0//EN
CALSCALE:GREGORIAN
METHOD:PUBLISH
X-ORIGINAL-URL:https://westwindsauna.hu
X-WR-CALDESC:Események West Wind Sauna Team
REFRESH-INTERVAL;VALUE=DURATION:PT1H
X-Robots-Tag:noindex
X-PUBLISHED-TTL:PT1H
BEGIN:VTIMEZONE
TZID:UTC
BEGIN:STANDARD
TZOFFSETFROM:+0000
TZOFFSETTO:+0000
TZNAME:UTC
DTSTART:20240101T000000
END:STANDARD
END:VTIMEZONE
BEGIN:VEVENT
DTSTART;TZID=UTC:20251023T130000
DTEND;TZID=UTC:20251023T180000
DTSTAMP:20260421T214745
CREATED:20250122T173142Z
LAST-MODIFIED:20250930T123514Z
UID:1015-1761224400-1761242400@westwindsauna.hu
SUMMARY:West Wind Szauna nap 2025.10.23
DESCRIPTION:Csapatunk ismét visszatér Bükfürdőbe a **** Caramell Hotelbe és tematikus szauna show programokkal szórakoztatja a szauna szerelmeseit. Forradalmi szauna nap! \nWest Wind Szauna nap 2025.10.23\n13:00 Francia hangulat.  \nA francia zenei alapokra épülő relax program során elvarázsoljuk kicsit Párizsba vendégeinket. Illatjegyek Kávé-Yuzu\, Levendula Narancs. Hőhatás/Erősség: Relax \n14:00 Lírai dallamok \nNemzetközi régi filmeznék lírai hangulatba tálalva. Illatjegyek Lime\, ánizs\, fahéjlevél\, gyömbér\, citrom. Hőhatás/Erősség: Relax \n15:30 Spirit  \nSzilaj\, a vad völgy paripája rajzfilm zenéje elevenedik meg a program során. Illatjegyek szénavirág\, homoktövis\, menta. Hőhatás/Erősség: Intenzív \n  \n17:00 Batman és Diana. \nA nagy sikerű DC film szereplői jelennek meg a szaunában egy fergeteges programban.  Illatjegyek: Citromfű\, Erdei gyümölcs menta\, Cola-Narancs Hőhatás/Erősség: Intenzív. \n18:00 Csillag születik. \nKi ne is merné ezt a remek zenés filmet\, ami most a szaunában bontakozik ki\, egy remek szerelmes történetet megidézve. Illatjegyek: Pezsgő\, Mandarin\, Eukaliptusz-cseresznye Hőhatás/Erősség: Erős.
URL:https://westwindsauna.hu/event/west-wind-szauna-nap-2025-10-23/
LOCATION:Caramell Premium Resort****superior\, Európa út 18\, Bük\,\, VAS\, 9740\, Magyarország
CATEGORIES:Szauna NAP
ATTACH;FMTTYPE=image/jpeg:https://westwindsauna.hu/wp-content/uploads/2024/06/Caramell_West-Wind.jpg
ORGANIZER;CN="Caramell Premium Resort Superior":MAILTO:info@caramell.hu
END:VEVENT
END:VCALENDAR