BEGIN:VCALENDAR
VERSION:2.0
PRODID:-//West Wind Sauna Team - ECPv6.15.20//NONSGML v1.0//EN
CALSCALE:GREGORIAN
METHOD:PUBLISH
X-ORIGINAL-URL:https://westwindsauna.hu
X-WR-CALDESC:Események West Wind Sauna Team
REFRESH-INTERVAL;VALUE=DURATION:PT1H
X-Robots-Tag:noindex
X-PUBLISHED-TTL:PT1H
BEGIN:VTIMEZONE
TZID:UTC
BEGIN:STANDARD
TZOFFSETFROM:+0000
TZOFFSETTO:+0000
TZNAME:UTC
DTSTART:20240101T000000
END:STANDARD
END:VTIMEZONE
BEGIN:VEVENT
DTSTART;TZID=UTC:20250820T130000
DTEND;TZID=UTC:20250820T183000
DTSTAMP:20260422T001657
CREATED:20250122T172939Z
LAST-MODIFIED:20250810T172256Z
UID:1013-1755694800-1755714600@westwindsauna.hu
SUMMARY:West Wind Ünnepi Szauna Nap 2025.08.20.
DESCRIPTION:Ünnepi szaunaprogramok a Caramell Hotelben: West Wind Sauna Team \nKészülj fel egy felejthetetlen szaunamesterekkel teli napra\, ahol az izgalom és a pihenés kéz a kézben jár! Augusztus 20-án a Caramell Hotel Szaunavilágában a West Wind Sauna Team gondoskodik a hangulatról\, egyedi és kreatív felöntésekkel. \nMerülj el a programok világába: \n\n13:00 Avatar: Lépj be Pandora misztikus világába\, ahol a természet és a fantázia találkozik. Egy szauna program\, amit nem érdemes kihagyni! Hőhatás közepes\, intenzitás: közepes. Illatjegyek: természet jegyeinek hangulat.\n14:00 Magyarország: Ünnepeljük együtt a magyar kultúrát és zenét! Hazai dallamok és igazi ünnepi hangulat a szaunában. Hőhatás közepes\, intenzitás: közepes. Illatjegyek: magyar hangulat.\n15:30 Huszárosan: Éld át a magyar virtust! Egy erőteljes\, energikus program\, ami felpezsdíti a szellemet. Hőhatás intenzív\, intenzitás: erős. Illatjegyek: magyar hangulat.\n17:00 Aladdin: Készülj egy varázslatos utazásra! A mesebeli film zenéivel és hangulatával repítünk el egy varázslatos világba. Hőhatás intenzív\, intenzitás: erős. Illatjegyek: Keleti hangulat.\n18:00 Latin szerető: A napot egy forró latin hangulatú programmal zárjuk! Tüzes ritmusok és temperamentumos felöntések egy igazi latin élményért. Hőhatás intenzív\, intenzitás: erős. Illatjegyek: Mediterrán hangulat.\n\nNe felejtsd el\, a Caramell Hotel Szaunavilága vár rád! Gyere és ünnepelj velünk stílusosan! \nSzaunamesterek: Nagy Izabella és Tótfalusi Roland \nIdőpont: 2025. augusztus 20. \nHelyszín: Caramell Hotel\, Bükfürdő \n 
URL:https://westwindsauna.hu/event/west-wind-szauna-nap-2025-08-20/
LOCATION:Hotel Caramell Bükfürdő\, Európa út 18\, Bük\, VAS\, 9740
ATTACH;FMTTYPE=image/jpeg:https://westwindsauna.hu/wp-content/uploads/2024/06/Caramell_West-Wind.jpg
ORGANIZER;CN="Caramell Premium Resort Superior":MAILTO:info@caramell.hu
END:VEVENT
END:VCALENDAR