BEGIN:VCALENDAR
VERSION:2.0
PRODID:-//West Wind Sauna Team - ECPv6.15.20//NONSGML v1.0//EN
CALSCALE:GREGORIAN
METHOD:PUBLISH
X-WR-CALNAME:West Wind Sauna Team
X-ORIGINAL-URL:https://westwindsauna.hu
X-WR-CALDESC:Események West Wind Sauna Team
REFRESH-INTERVAL;VALUE=DURATION:PT1H
X-Robots-Tag:noindex
X-PUBLISHED-TTL:PT1H
BEGIN:VTIMEZONE
TZID:UTC
BEGIN:STANDARD
TZOFFSETFROM:+0000
TZOFFSETTO:+0000
TZNAME:UTC
DTSTART:20240101T000000
END:STANDARD
END:VTIMEZONE
BEGIN:VEVENT
DTSTART;TZID=UTC:20250809T143000
DTEND;TZID=UTC:20250809T193000
DTSTAMP:20260422T002059
CREATED:20250611T083031Z
LAST-MODIFIED:20250611T083712Z
UID:1206-1754749800-1754767800@westwindsauna.hu
SUMMARY:West Wind Team kerti szauna nap 2025.08.09. Szombat
DESCRIPTION:Aug 09 @ 2:30 DU. – 7:30 DU.\n11.000Ft/Fő \n\n\n\n\n\n\nIsmét megnyitja kapuit 2025.08.09. a West Wind Team kerti szaunája!\n\n\n\nA forró napok beköszöntével mi is hívjuk Önt egy különleges wellness napra\, a pihenés és feltöltődés jegyében! \nFedezze fel a tradicionális szaunázás varázslatos világát\, és engedje át magát a forró gőzök ölelésének\, miközben a természet közelsége megnyugtatja lelkét. „Kerti Szauna Napunkon” minden részletre odafigyelünk\, hogy Ön tökéletesen átélhesse ezt a különleges élményt. \nHívja meg barátait vagy családját is\, és töltődjenek fel együtt a madarak csicsergése közepette\, miközben élvezik a szauna testi-lelki jótékony hatásait. Ne hagyja ki ezt a remek alkalmat a megújulásra! Fedezze fel a kerti szaunázás rejtelmeit\, és tegye ezt a napot felejthetetlenné velünk! \nMiért válasszon minket? \n\nTradicionális szaunázás a természet ölelésében.\nKülönleges „Kerti Szauna Nap” programok és gasztronómia élmények.\nTökéletes helyszín a pihenéshez és feltöltődéshez.\nBarátságos és figyelmes kiszolgálás\, mert nálunk ÖN az első!\nKiváló ár-érték arány!\n\nFoglaljon időpontot még ma\, és élvezze a nyár kényeztetését! \n\n\n\nA felöntésen és kemencés étkezésen  való részvételi díj 11.000\,-Ft/fő\nA foglalást az 50% fizetési előleg megfizetését követően biztosítjuk (átutalás).\nREGISZTRÁCIÓ:\n\n\n\n\n\n\nJEGYEK
URL:https://westwindsauna.hu/event/west-wind-team-kerti-szauna-nap-2025-08-09-szombat-2/
LOCATION:Parkerdő Szombathely
ATTACH;FMTTYPE=image/jpeg:https://westwindsauna.hu/wp-content/uploads/2023/10/Fejresz-masolat.jpg
ORGANIZER;CN="West Wind Sauna Team":MAILTO:info@westwindsauna.hu
END:VEVENT
END:VCALENDAR