BEGIN:VCALENDAR
VERSION:2.0
PRODID:-//West Wind Sauna Team - ECPv6.15.20//NONSGML v1.0//EN
CALSCALE:GREGORIAN
METHOD:PUBLISH
X-WR-CALNAME:West Wind Sauna Team
X-ORIGINAL-URL:https://westwindsauna.hu
X-WR-CALDESC:Események West Wind Sauna Team
REFRESH-INTERVAL;VALUE=DURATION:PT1H
X-Robots-Tag:noindex
X-PUBLISHED-TTL:PT1H
BEGIN:VTIMEZONE
TZID:UTC
BEGIN:STANDARD
TZOFFSETFROM:+0000
TZOFFSETTO:+0000
TZNAME:UTC
DTSTART:20240101T000000
END:STANDARD
END:VTIMEZONE
BEGIN:VEVENT
DTSTART;VALUE=DATE:20250329
DTEND;VALUE=DATE:20250330
DTSTAMP:20260422T073044
CREATED:20241205T081351Z
LAST-MODIFIED:20250316T123007Z
UID:928-1743206400-1743292799@westwindsauna.hu
SUMMARY:Greenfiled Szauna nap 2025.03.29
DESCRIPTION:Csapatunk ismét visszatér Bükfürdőbe a **** Superior Greenfield Hotelbe és tematikus szauna show programokkal szórakoztatja a szauna szerelmeseit. \n \n\n13:00 RELAX BY Thomas Bergersen\n\n. Relax program\, száraz és élő növényekkel a kályhán. (illatanyagban Körömvirág\, Kamilla Tiare virág\, Mirtusz\, Szénavirág jellemző) Vendégek részére adható tea különlegesség. Intenzitás mérsékelt\, hőhatás közepes. \n\n14:00 Francia hangulat. \n\nA francia zenei alapokra épülő relax program során elvarázsoljuk kicsit Párizsba vendégeinket. Illatjegyek Kávé-Yuzu\, Levendula Narancs. Hőhatás/Erősség: Relax Vendégek részére frissítő kínálható. \n\n15:30 Aladdin\n\nEngedjétek\, hogy elrepítsünk benneteket Agrabah csodálatos világába\, ahol a szauna füstjében a varázslat és a pihenés találkozik! Aladdin mesés kalandjai elevenednek meg\, miközben a keleti bazárok illata\, és a legendás dallamok elvarázsolnak mindenkit. (Illatanyagban Ánizs\, Szegfűszeg\, Fahéj) Hőhatás közepes; Vendégek részére keleti tea kínálható. \n\n17:00 Spirit \n\nSzilaj\, a vad völgy paripája rajzfilm zenéje elevenedik meg a program során. Illatjegyek szénavirág\, homoktövis\, menta. Hőhatás/Erősség: Intenzív Vendégek részére gyümölcslé kínálható \n\n18:00 „Good Night” Sauna!\n\nA szauna nap lezárásaként korabeli lágy lírai dallamok segítenek a vendégeknek az ellazulásban\, teljessé tenni ezzel a szaunaélményt.Illatjegyek: Bergamott\, Szantálfa-Levendula\, Citromfű méz\, Fenyő-menta. Hőhatás: Intenzív. Vendégek részére frissítős kínálható. \n 
URL:https://westwindsauna.hu/event/greenfiled-szauna-nap-2025-03-29/
LOCATION:Greenfield Hotel Bük\, Golf út 4.\, Bükfürdő\, VAs\, 9740\, Magyarország
CATEGORIES:Szauna NAP
ATTACH;FMTTYPE=image/png:https://westwindsauna.hu/wp-content/uploads/2024/09/Greenfield-20240921.png
ORGANIZER;CN="Greenfiled Hotel B%C3%BCk":MAILTO:reservation@greenfieldhotel.hu
END:VEVENT
END:VCALENDAR