BEGIN:VCALENDAR
VERSION:2.0
PRODID:-//West Wind Sauna Team - ECPv6.15.20//NONSGML v1.0//EN
CALSCALE:GREGORIAN
METHOD:PUBLISH
X-ORIGINAL-URL:https://westwindsauna.hu
X-WR-CALDESC:Események West Wind Sauna Team
REFRESH-INTERVAL;VALUE=DURATION:PT1H
X-Robots-Tag:noindex
X-PUBLISHED-TTL:PT1H
BEGIN:VTIMEZONE
TZID:UTC
BEGIN:STANDARD
TZOFFSETFROM:+0000
TZOFFSETTO:+0000
TZNAME:UTC
DTSTART:20240101T000000
END:STANDARD
END:VTIMEZONE
BEGIN:VEVENT
DTSTART;VALUE=DATE:20250201
DTEND;VALUE=DATE:20250203
DTSTAMP:20260422T091917
CREATED:20250101T184450Z
LAST-MODIFIED:20250119T194151Z
UID:973-1738368000-1738540799@westwindsauna.hu
SUMMARY:MEGTELT!! Legyezéstechnikai Tréning Lótusz Központ 2025.02.01-02 (2 nap)
DESCRIPTION:Bővítsd” a tudásod és gyakorold a szauna „művészetét”!\n\nA legyezés nem csak mozdulat\, hanem egy különleges élmény\, hatást megteremtő elem a szaunázás során amit a mesterek igyekeznek tökéletesre fejleszteni. Csatlakozz hozzánk Tatabányán a Lótusz Központban megrendezésre kerülő tréningen\, és fedezd fel a legyezéstechnika új dimenzióit!\nA nap folyamán megismert és elsajátított technikákat már ki is próbálhatod egy 60 fős szaunában!\n\nMit tanulhatsz a tréningen?\n\n\nFinomítsd a legyezéstechnikádat: Tanuld meg\, hogyan hozd ki a maximumot a különböző típusú elemekből.\nLátványos elemek: Tedd még emlékezetesebbé a szaunázást látványos legyezéstechnikákkal.\nSzaunamester tréning-Látványtechnikák.\nKét napos szakmai tréningünk keretein belül most elsajátíthatod a következő ismereteket:\nLátvány-\, és erőventilációs technikák (Látványtechnikák bemutatása\,) A megfelelő ventillációs törölköző kiválasztásának fontossága!\nSzuper 8; Malom; Vad Malom; Kerék; Vertikál pizza; Pizza; Angyal; felső\, alsó\, dupla\, vissza; Dobások- váltások; Váltott kezes\, Láb alatti átvételek.\n\n  \n\n\nA vendégek délután és este részt vehetnek a felöntéseken! (részletek a Lótusz Központban)\n\n\n  \nÚj technikák: Fedezz fel innovatív módszereket a hőmérséklet szabályozására és a vendégek kényeztetésére.Ne maradj le erről a páratlan lehetőségről!\nAkár csak 1 napra is érkezhetsz!\nHelyszín: Lótusz Szauna és Wellness Központ 2800 Tatabánya\, Környei út 33.
URL:https://westwindsauna.hu/event/legyezestechnikai-trening-lotusz-kozpont-2025-02-01-02-2-nap/
LOCATION:Lótusz Központ Tatabánya\, Tatabánya\, Környei út 33.\, Komárom-Esztergom\, 2800\, Hungary
CATEGORIES:Szaunamester oktatás
ATTACH;FMTTYPE=image/jpeg:https://westwindsauna.hu/wp-content/uploads/2025/01/Legyezestechniak-Lotusz2025_MEGTELT.jpg
ORGANIZER;CN="L%C3%B3tusz K%C3%B6zpont Tatab%C3%A1nya":MAILTO:info@lotuszkozpont.hu
END:VEVENT
END:VCALENDAR