BEGIN:VCALENDAR
VERSION:2.0
PRODID:-//West Wind Sauna Team - ECPv6.15.20//NONSGML v1.0//EN
CALSCALE:GREGORIAN
METHOD:PUBLISH
X-ORIGINAL-URL:https://westwindsauna.hu
X-WR-CALDESC:Események West Wind Sauna Team
REFRESH-INTERVAL;VALUE=DURATION:PT1H
X-Robots-Tag:noindex
X-PUBLISHED-TTL:PT1H
BEGIN:VTIMEZONE
TZID:UTC
BEGIN:STANDARD
TZOFFSETFROM:+0000
TZOFFSETTO:+0000
TZNAME:UTC
DTSTART:20240101T000000
END:STANDARD
END:VTIMEZONE
BEGIN:VEVENT
DTSTART;VALUE=DATE:20250125
DTEND;VALUE=DATE:20250126
DTSTAMP:20260422T104747
CREATED:20241205T081040Z
LAST-MODIFIED:20250112T193350Z
UID:923-1737763200-1737849599@westwindsauna.hu
SUMMARY:Greenfiled Szauna nap 2025.01.25
DESCRIPTION:Csapatunk ismét visszatér Bükfürdőbe a **** Superior Greenfield Hotelbe és tematikus szauna show programokkal szórakoztatja a szauna szerelmeseit. \n\n \n13.00\, RELAX – Magyar zenékkel. relax program\, élő növényekkel a kályhán. (illatanyagban Menta\, Citromfű\, Csokimenta\, ) Vendégek részére adható tea különlegesség. Intenzitás közepes\, hőhatás közepes. \n14.00. Magyar Retro Disco Slágerek. A Retro Slágerei zenei alapjai jelennek meg a programunk során. Illatjegyekben virágos\, friss illatelemek jelennek meg. Ylang-Ylag\, Geránium\, Bergamote.) A vendégek részére frissítő kínálható. Intenzitás közepes\, Hőhatás Közepes! \n15:30. Top Gun- Maverick. Filmzenei alapokra épülő tematikus show program A csapat és közösség előtérbe helyezése\, fontosságának kiemelése. (Erős Fás illatok\, nyírfa\, tonka fa\, Tolu balzsamfa) A vendégek részére gyümölcs kínálható. Intenzitás Magas\, Hőhatás Erős! \n17.00. Padlás. a musical alapján felépülő igazai magyar jelmezes show program A csapat és közösség előtérbe helyezése\, fontosságának kiemelése. (Erős Fás illatok\, nyírfa-méz\, homoktövis) A vendégek részére gyümölcs kínálható. Intenzitás Magas\, Hőhatás Erős! \n18:00. A Poptarisznya rádió a nagy sikerű műsor régi retro zenék kedvelőinek kedveskedik\, így a 70-es\, 80-as és a 90-es évek legjobb és legkellemesebb emlékeket idéző pop\, rock és disco zenéiből válogatunk! Illatjegyekben mentolos citrus illatelemek jelennek meg. Vendégek részére; traubi-gyömbér adható. Intenzitás közepes\, hőhatás közepes.
URL:https://westwindsauna.hu/event/greenfiled-szauna-nap-2025-01-25/
LOCATION:Greenfield Hotel Bük\, Golf út 4.\, Bükfürdő\, VAs\, 9740\, Magyarország
CATEGORIES:Szauna NAP
ATTACH;FMTTYPE=image/png:https://westwindsauna.hu/wp-content/uploads/2024/09/Greenfield-20240921.png
ORGANIZER;CN="Greenfiled Hotel B%C3%BCk":MAILTO:reservation@greenfieldhotel.hu
END:VEVENT
END:VCALENDAR