BEGIN:VCALENDAR
VERSION:2.0
PRODID:-//West Wind Sauna Team - ECPv6.15.20//NONSGML v1.0//EN
CALSCALE:GREGORIAN
METHOD:PUBLISH
X-ORIGINAL-URL:https://westwindsauna.hu
X-WR-CALDESC:Események West Wind Sauna Team
REFRESH-INTERVAL;VALUE=DURATION:PT1H
X-Robots-Tag:noindex
X-PUBLISHED-TTL:PT1H
BEGIN:VTIMEZONE
TZID:UTC
BEGIN:STANDARD
TZOFFSETFROM:+0000
TZOFFSETTO:+0000
TZNAME:UTC
DTSTART:20230101T000000
END:STANDARD
END:VTIMEZONE
BEGIN:VEVENT
DTSTART;TZID=UTC:20241123T140000
DTEND;TZID=UTC:20241123T140000
DTSTAMP:20260422T135125
CREATED:20240822T071408Z
LAST-MODIFIED:20241110T105255Z
UID:690-1732370400-1732370400@westwindsauna.hu
SUMMARY:West Wind Szauna Nap Greenfield 2024.11.23
DESCRIPTION:Csapatunk ismét visszatér Bükfürdőbe a **** Superior Greenfield Hotelbe és tematikus szauna show programokkal szórakoztatja a szauna szerelmeseit. \n \nGreenfiled Szauna nap 2024.11.23 \n14:00 Olasz Dallamok.  \nAz olasz zenei alapokra épülő program során elvarázsoljuk kicsit Rómába vendégeinket. Illatjegyek Kávé-Méz\, Lime- Narancs-Bergamotte Hőhatás/Erősség: Relax Vendégek részére frissítő kínálható. \n15:00 Magyar Líra \nA magyar zenei előadók lírai hangvételű dallamai csendülnek fel a relax délután során. Illatjegyek Rebarbara Alma\, Ánizs-Zöldmandarin\, Fahéjlevél- Citrom. Hőhatás/Erősség: Relax Vendégek részére gyümölcs kínálható. \n16:00 A legnagyobb showman (The Greatest Show) ;  \nA nagy sikerű musical szereplői kelnek életre és a cirkusz kezdetének története elevenedik meg a program során. Illatjegyek\, Homoktövis\, Paradise Flower\, Fodormenta-Feketebors . Hőhatás/Erősség: Intenzív Vendégek részére gyümölcslé kínálható \n17:00 Star Wars \nA Obi Van és Leila hercegnő küldetését élhetik át a vendégek ebben a szauna  programban.  Illatjegyek: Szegfűszeg \, Édesnarancs\, Eukaliptus Cseresznye\, Menta Tonkafa Hőhatás/Erősség: Intenzív. Vendégek részére zöldségszeletek kínálható \n18:00 Indul a Bakterház \nA bakterház bonyodalmai most a szaunában bontakoznak ki Bendegúz és a Banya harca\, egy vidám történetet megidézve. Illatjegyek: Szénavirág\, Vanília Citrom\, Mentolkristály-Szilvapálinka\, Hőhatás/Erősség: Intenzív-erős. Vendégek részére frissítő kínálható \nA programon külsős vendégek is részt vehetnek: \nhttps://greenfield.adventorhotels.hu/west-wind-szauna-felontes
URL:https://westwindsauna.hu/event/west-wind-szauna-nap-greenfield-2024-11-23/
LOCATION:Greenfield Hotel Bük\, Golf út 4.\, Bükfürdő\, VAs\, 9740\, Magyarország
CATEGORIES:Szauna NAP
ATTACH;FMTTYPE=image/jpeg:https://westwindsauna.hu/wp-content/uploads/2024/08/IMG_7310-scaled.jpeg
ORGANIZER;CN="Greenfiled Hotel B%C3%BCk":MAILTO:reservation@greenfieldhotel.hu
END:VEVENT
END:VCALENDAR