BEGIN:VCALENDAR
VERSION:2.0
PRODID:-//West Wind Sauna Team - ECPv6.15.20//NONSGML v1.0//EN
CALSCALE:GREGORIAN
METHOD:PUBLISH
X-WR-CALNAME:West Wind Sauna Team
X-ORIGINAL-URL:https://westwindsauna.hu
X-WR-CALDESC:Események West Wind Sauna Team
REFRESH-INTERVAL;VALUE=DURATION:PT1H
X-Robots-Tag:noindex
X-PUBLISHED-TTL:PT1H
BEGIN:VTIMEZONE
TZID:UTC
BEGIN:STANDARD
TZOFFSETFROM:+0000
TZOFFSETTO:+0000
TZNAME:UTC
DTSTART:20230101T000000
END:STANDARD
END:VTIMEZONE
BEGIN:VEVENT
DTSTART;TZID=UTC:20241019T140000
DTEND;TZID=UTC:20241019T190000
DTSTAMP:20260422T191211
CREATED:20240611T154449Z
LAST-MODIFIED:20240611T155316Z
UID:546-1729346400-1729364400@westwindsauna.hu
SUMMARY:Kerti szauna nap 2024 október 19.
DESCRIPTION:A West Wind Sauna Team főhadiszállásán egy csendes nyugodt környezetben is lehetőség nyílik kedves vendégeinknek 10-12 fős létszámmal a szaunázásra. Előzetes regisztráció alapján fogjátok tudni megtenni mindezt megtenni az alábbi linken  tehetitek ezt meg a meghirdetett napokra. \nEseménynaptárban is  megtaláljátok és meg is tudjátok vásárolni a jegyeket-foglalással. \nFOGLALÁS/VÁSÁRLÁS
URL:https://westwindsauna.hu/event/kerti-szauna-nap-2024-oktober-19/
LOCATION:Parkerdő Szombathely
ATTACH;FMTTYPE=image/jpeg:https://westwindsauna.hu/wp-content/uploads/2023/10/cropped-E85984A8-C7DD-47D0-A1FD-58F9440679B0-COLLAGE.jpg
ORGANIZER;CN="West Wind Sauna Team":MAILTO:info@westwindsauna.hu
END:VEVENT
END:VCALENDAR