BEGIN:VCALENDAR
VERSION:2.0
PRODID:-//West Wind Sauna Team - ECPv6.15.20//NONSGML v1.0//EN
CALSCALE:GREGORIAN
METHOD:PUBLISH
X-WR-CALNAME:West Wind Sauna Team
X-ORIGINAL-URL:https://westwindsauna.hu
X-WR-CALDESC:Események West Wind Sauna Team
REFRESH-INTERVAL;VALUE=DURATION:PT1H
X-Robots-Tag:noindex
X-PUBLISHED-TTL:PT1H
BEGIN:VTIMEZONE
TZID:UTC
BEGIN:STANDARD
TZOFFSETFROM:+0000
TZOFFSETTO:+0000
TZNAME:UTC
DTSTART:20230101T000000
END:STANDARD
END:VTIMEZONE
BEGIN:VEVENT
DTSTART;TZID=UTC:20241016T170000
DTEND;TZID=UTC:20241016T203000
DTSTAMP:20260422T153209
CREATED:20240907T174820Z
LAST-MODIFIED:20241007T074007Z
UID:708-1729098000-1729110600@westwindsauna.hu
SUMMARY:Szauna-Szerda 2024. október 16
DESCRIPTION:A West Wind Sauna Team Szauna-Szerda jegy! \n\n\n Szauna szerda a Parkerdőben!\nVárunk mindenkit\, aki szereti a szauna élményét\, egy kis kikapcsolódásra és jó társaságba! **Két hetente szerdán 17:00-20:30ig szauna napot szervezünk a Parkerdőben 4-5 főtől max.10-11főig\, ahol garantáltan élvezheted a szauna forró levegőjét\, a frissítő felöntéseket\, és a kellemes társaságot a természet lágy ölén! *Mi vár rád?* * 3-4 vitalizáló felöntés * Frissítő itallal és nassolnivalók * Laza\, barátságos hangulat *Jelentkezz be\, ha szeretnél rész venni a szauna szerdákon!* *Ne maradj le a szauna élményről!* \n\n\n\n„Hétköznapi kikapcsolódás? ✔️ Fatüzelésű szauna a kertedben. Élvezd a finn szauna erejét és hagyd magad elvarázsolni.”\n\nLemondás esetén (a szauna nap előtt 7 nappal) a visszautalás költségét valamint a jegy 50% tudjuk visszatéríteni. \nJEGYEK ITT FOGLALHATÓK!
URL:https://westwindsauna.hu/event/szauna-szerda-2024-soktober-16/
LOCATION:Parkerdő Szombathely
CATEGORIES:KERTI SZAUNA
ATTACH;FMTTYPE=image/png:https://westwindsauna.hu/wp-content/uploads/2024/08/Szauna-Szerda.png
END:VEVENT
END:VCALENDAR