BEGIN:VCALENDAR
VERSION:2.0
PRODID:-//West Wind Sauna Team - ECPv6.15.20//NONSGML v1.0//EN
CALSCALE:GREGORIAN
METHOD:PUBLISH
X-WR-CALNAME:West Wind Sauna Team
X-ORIGINAL-URL:https://westwindsauna.hu
X-WR-CALDESC:Események West Wind Sauna Team
REFRESH-INTERVAL;VALUE=DURATION:PT1H
X-Robots-Tag:noindex
X-PUBLISHED-TTL:PT1H
BEGIN:VTIMEZONE
TZID:UTC
BEGIN:STANDARD
TZOFFSETFROM:+0000
TZOFFSETTO:+0000
TZNAME:UTC
DTSTART:20230101T000000
END:STANDARD
END:VTIMEZONE
BEGIN:VEVENT
DTSTART;VALUE=DATE:20241012
DTEND;VALUE=DATE:20241014
DTSTAMP:20260422T153739
CREATED:20240821T122335Z
LAST-MODIFIED:20241003T141340Z
UID:677-1728691200-1728863999@westwindsauna.hu
SUMMARY:Ijfú Szaunamesterek viadala III.  2024.10.12.-13\,   Mjus Resort & Thermal Park****
DESCRIPTION:🔥 Készülj fel az „Ifjak Viadalára” a Mjus Resort & Thermal Park-ban! 🔥 \nHa szívesen bemutatnád a szaunamesteri tudásodat? Szeretnéd megmérettetni magad az „ifjak” között? Akkor itt a lehetőség! Jelentkezz\, hogy részese lehess a természet elemeinek varázslatos hatásának! \n \n \nA West Wind Sauna Team és a Mjus Resort & Thermal Park**** büszkén hirdeti immár harmadik alkalommal az ifjú Szaunamesterek Viadalát\, ahol a hő\, a forróság\, és az illatoké a főszerep! 🌟 \n📅 Dátum: 2024.10.12-13. 📍 Helyszín: Körmend\, Rákóczi u. 154/B\, 9900 \nMiért érdemes részt venned? \n\nEgyedülálló lehetőség a szaunamesteri képességeid bemutatására.\nLenyűgöző díjazások a legjobbaknak\, pénzdíjazású versenyen.\nExkluzív élmény az ország egyik legnagyobb és legszebb szaunavilágában!\nCsapatépítés a jövő szaunamestereivel.\n\nKategóriák: \n\nShow programok: két napon keresztül\, számos programmal!\nSzakmai és közönség ágon is megmérkőznek az „ifjak”!\nPáratlan bemutatkozási lehetőség az Országos Bajnokság előtt!\n\nNevezési Információ: Küldd el a nevezési lapodat és a rövid bemutatkozásodat a info@westwindsauna.hu mail címre! A részvételhez előzetes jelentkezés szükséges. \nMJUS akciós Csomag Itt foglalható:Napi belépök itt foglalhatók \nVendégek részére a részvételhez és a szobafoglalás itt: hamarosan!\n🎉 Ne hagyj ki egy emlékezetes hétvégét\, ahol a mesterek és a közösség ismét találkoznak! \nGyere\, és mutasd meg\, hogy te vagy az „ifjak” közt a legjobb szaunamesterek egyike! \nKövesd a West Wind Sauna Team és a Mjus Resort & Thermal Park**** oldalát a további részletekért és információkért! \n  \n 
URL:https://westwindsauna.hu/event/ijfu-szaunamesterek-viadala-3-0-2024-10-12-13-mjus-resort-thermal-park/
LOCATION:MJUS RESTOR\, Rákóczi u. 154/B\, Körmend\,\, VAS\, 9900\, Magyarország
CATEGORIES:Szauna VERSENY
ATTACH;FMTTYPE=image/png:https://westwindsauna.hu/wp-content/uploads/2024/08/Plakat_-Szombat.png
ORGANIZER;CN="Mjus Resort & Thermal Park":MAILTO:eception@mjusresort.com
END:VEVENT
END:VCALENDAR