BEGIN:VCALENDAR
VERSION:2.0
PRODID:-//West Wind Sauna Team - ECPv6.15.20//NONSGML v1.0//EN
CALSCALE:GREGORIAN
METHOD:PUBLISH
X-WR-CALNAME:West Wind Sauna Team
X-ORIGINAL-URL:https://westwindsauna.hu
X-WR-CALDESC:Események West Wind Sauna Team
REFRESH-INTERVAL;VALUE=DURATION:PT1H
X-Robots-Tag:noindex
X-PUBLISHED-TTL:PT1H
BEGIN:VTIMEZONE
TZID:UTC
BEGIN:STANDARD
TZOFFSETFROM:+0000
TZOFFSETTO:+0000
TZNAME:UTC
DTSTART:20230101T000000
END:STANDARD
END:VTIMEZONE
BEGIN:VEVENT
DTSTART;TZID=UTC:20240921T110000
DTEND;TZID=UTC:20240921T190000
DTSTAMP:20260422T170959
CREATED:20240821T110841Z
LAST-MODIFIED:20240920T185516Z
UID:669-1726916400-1726945200@westwindsauna.hu
SUMMARY:West Wind Szauna Nap Greenfield 2024.09.21
DESCRIPTION:Szauna Programok a Greenfield Hotelben: Egyedülálló Élmények Illatokkal és Hangulattal 2024.09.21 Szombat (15:00-20:00) \nA Bükön található Greenfield Hotel szauna világában felejthetetlen pillanatok várnak rád! A West Wind Sauna Team mesterei\, Szabados Laura és Tótfalusi Roland különleges szauna programjaival és a hozzájuk illő illatokkal egy varázslatos utazásra invitálnak. \nFedezd fel a szaunázás új dimenzióit! \nProgram ajánlat: \n\n15:00 Relax percek Havasi zongora: A nap fáradalmaitól szeretnél megszabadulni? Engedd el magad a nyugtató havasi zongora hangjai mellett! A friss fenyő és cédrus illata a hegyekbe kalauzol\, míg a levendula segít ellazulni. Hangulat: Békés\, nyugodt\, természetközeli.\n16:00 Francia dallamok: Merülj el a francia elegancia világában! A finom francia illatok\, mint a rózsa\, ylang-ylang és vanília\, a romantika és a szenvedély légkörét teremtik meg. Hangulat: Elegáns\, romantikus\, érzéki.\n17:00 A Pál utcai fiúk: Énekeld velünk a magyar musical örökzöldjeit! A gyermekkor illatát idéző tavaszi virágok\, mint a homoktövis és a geránium\, valamint a friss szénavirág illata varázsolnak vissza a gyermekkorba. Hangulat: Nosztalgikus\, vidám\, játékos.\n18:00 Zorro: Válj a fekete lovas szerelmévé! A spanyol szenvedélyt idéző narancs\, lime és mandarin illatokkal fűszerezett program garantáltan felpörget. Az illatok egzotikus hangulatot kölcsönöznek a programnak. Hangulat: Energikus\, szenvedélyes\, kalandos.\n19:00 Apáca show: A vidám apácák társaságában felejthetetlen élményben lehet részed. A szőlő\, tömjén és nyírfa illatok misztikus hangulatot teremtenek. A rozmaring-körömvirág pedig a tisztaság és megújulás érzését erősíti. Hangulat: Misztikus\, vidám\, megújító.\n20:00 Halálos Iramban: Hidd el\, a szaunában is lehet gyorsan menni! A filmzene ritmusára és a hozzá illő illatokra hangolódva\, felejthetetlen élményben lesz részed. A bőr\, a gumi és a fém illata a sebességet és az adrenalint idézi Illatjegyek: Pirosmandarin\, szegfűszeg\, Tolu balzsamfa. Hangulat: Energikus\, izgalmas\, sportos.\n\nMiért válaszd a Greenfield Hotel szauna világát? \n\nProfesszionális szaunamesterek: A szauna rítusok mesterei gondoskodnak arról\, hogy minden pillanatod élvezetes legyen.\nEgyedi illatkompozíciók: Minden programhoz kifejlesztett\, különleges illatok fokozzák az élményt.\nFelejthetetlen hangulat: A zene\, a fények és az illatok tökéletes harmóniája egyedülálló élményt nyújt.\nKellemes társaság: Találkozz új emberekkel és tölts el egy felejthetetlen estét!\n\nFoglalj helyet most és engedd el magad! \nHOTEL OLDALA Belépők/Árak \nTovábbi információkért látogass el a Greenfield Hotel honlapjára vagy keress minket elérhetőségeinken! https://greenfield.adventorhotels.hu/west-wind-sauna-team-show \n#GreenfieldHotel #Szauna #Wellnes #WestWindSaunaTeam #Bük \n 
URL:https://westwindsauna.hu/event/greenfield-2024-09-21/
LOCATION:Greenfield Hotel Bük\, Golf út 4.\, Bükfürdő\, VAs\, 9740\, Magyarország
ATTACH;FMTTYPE=image/png:https://westwindsauna.hu/wp-content/uploads/2024/09/Greenfield-20240921.png
ORGANIZER;CN="Greenfiled Hotel B%C3%BCk":MAILTO:reservation@greenfieldhotel.hu
END:VEVENT
END:VCALENDAR