BEGIN:VCALENDAR
VERSION:2.0
PRODID:-//West Wind Sauna Team - ECPv6.15.20//NONSGML v1.0//EN
CALSCALE:GREGORIAN
METHOD:PUBLISH
X-ORIGINAL-URL:https://westwindsauna.hu
X-WR-CALDESC:Események West Wind Sauna Team
REFRESH-INTERVAL;VALUE=DURATION:PT1H
X-Robots-Tag:noindex
X-PUBLISHED-TTL:PT1H
BEGIN:VTIMEZONE
TZID:UTC
BEGIN:STANDARD
TZOFFSETFROM:+0000
TZOFFSETTO:+0000
TZNAME:UTC
DTSTART:20230101T000000
END:STANDARD
END:VTIMEZONE
BEGIN:VEVENT
DTSTART;TZID=UTC:20240519T090000
DTEND;TZID=UTC:20240519T183000
DTSTAMP:20260422T231413
CREATED:20240227T080441Z
LAST-MODIFIED:20240407T183735Z
UID:364-1716109200-1716143400@westwindsauna.hu
SUMMARY:West Wind szauna nap Zalakaros – MenDan**** 2024.05.19. "Nyár Köszöntő Szauna Party"
DESCRIPTION:Fergeteges „Nyár Köszöntő Szauna Party” együtt a zalakarosi MenDan**** Hotel SKY 80 fős szauna világába\, hogy ismét megizzasztjuk kedves vendégeinket show felöntésekkel!Lesz itt kérem sírás de leginkább nevetés\, vidámság! \n2024.05.19. „Nyár Köszöntő Szauna Party” \n10:00 RELAX-Hungary Voice. Zongora dallamok jelennek meg a relax program keretében és száraz növények a szauna kályhán. (illatanyagban körömvirág\, kamilla\, levendula mirtusz\, jellemző) Vendégek részére adható; tea különlegesség. Intenzitás közepes\, hőhatás közepes. \n11:00 Two Steps from Hell. Az Instrumentális zene kedvelőinek igazi csemege ez a program. Thomas Bergersen legújabb zenei válogatását hozzuk el a szauna világába\, hogy válóban kétlépésre legyünk egy másik világtól! Illatjegyekben virágos\, friss illatelemek jelennek meg. A vendégek részére frissítő ital kínálható (pl: almafröccs). Intenzitás Erős-Instrumentális\, Hőhatás Közepes! \n13:00 Angyalbőrben minden kicsit más! Ki ne ismerné Karádi őrmester és az olajbogyók történetét a 90-es évekből. A tv filmsorozat zenéi elevenednek fel ebben a programban\, vissza idézve a sorkatonaság emlékeit. Illatjegyekben fás-fűszeres elemek jelennek meg; nyírfa-ánizs\, fahéj szegfőszeg\, fenyő. Vendégek részére idény gyümölcs kínálható. Intenzitás közepes\, hőhatás közepes. \n15:00 A Poptarisznya rádió a nagy sikerű műsor régi retro zenék kedvelőinek kedveskedik\, így a 70-es\, 80-as és a 90-es évek legjobb és legkellemesebb emlékeket idéző pop\, rock és disco zenéiből válogatunk! Illatjegyekben mentolos citrusos illatelemek jelennek meg. Vendégek részére; traubi-gyömbér adható. Intenzitás közepes\, hőhatás közepes. \n16:00 Apáca Show „Újra virul a fityula” Deloris nővér\, a legvirgoncabb apáca\, polgári foglalkozását tekintve bárénekesnő nem felejtette el az apácákkal töltött mulatságos napokat. Visszahívják\, hogy segítsen egy bajba jutott katolikus iskolán és énekkarán és szaunás vendégeinken. A vendégek részére misebor kínálható. Intenzitás Magas\, Hőhatás Erős! \n17:00 Mamma Mia! Sose hagyjuk ABBA! Visszatérünk a varázslatos görög szigetre\, Kalokairire ebben a musicalben\, mely szintén az ABBA dalaira épül. Ide-oda ingázunk az időben (hőben)\, és megmutatjuk\, hogy a múltbéli kapcsolatok miképp hatnak a jelenre. (Erős Fás illatok\, tonka-tolu-méz\, édeskömény\, Cubeba-Bergamotte) A vendégek részére Ouzo ital kínálható. Intenzitás Magas\, Hőhatás Erős! \n  \n  \n 
URL:https://westwindsauna.hu/event/west-wind-szauna-nap-zalakaros-mendan-2024-05-19-nyar-koszonto-szauna-party/
LOCATION:VAS
ATTACH;FMTTYPE=image/jpeg:https://westwindsauna.hu/wp-content/uploads/2023/12/Laura-Roli-Gabor.jpeg
ORGANIZER;CN="MenDan **** Zalakaros":MAILTO:reservation@mendan.hu
END:VEVENT
END:VCALENDAR