BEGIN:VCALENDAR
VERSION:2.0
PRODID:-//West Wind Sauna Team - ECPv6.15.20//NONSGML v1.0//EN
CALSCALE:GREGORIAN
METHOD:PUBLISH
X-ORIGINAL-URL:https://westwindsauna.hu
X-WR-CALDESC:Események West Wind Sauna Team
REFRESH-INTERVAL;VALUE=DURATION:PT1H
X-Robots-Tag:noindex
X-PUBLISHED-TTL:PT1H
BEGIN:VTIMEZONE
TZID:UTC
BEGIN:STANDARD
TZOFFSETFROM:+0000
TZOFFSETTO:+0000
TZNAME:UTC
DTSTART:20230101T000000
END:STANDARD
END:VTIMEZONE
BEGIN:VEVENT
DTSTART;TZID=UTC:20240413T080000
DTEND;TZID=UTC:20240413T143000
DTSTAMP:20260423T003039
CREATED:20240317T113456Z
LAST-MODIFIED:20240325T234456Z
UID:370-1712995200-1713018600@westwindsauna.hu
SUMMARY:West Wind Kerti Szauna Nap 2024.04.13 Szombat
DESCRIPTION:Szervezzünk egy felejthetetlen napot a wellness és pihenés jegyében! Fedezze fel a kerti szaunázás varázslatos világát és engedje\, hogy a forró gőzök átöleljék testét\, miközben a természet közelsége megnyugtatja lelkét. Különleges Kerti Szauna Napunkon minden részletre odafigyelve várjuk\, hogy együtt merülhessünk el ebben a különleges élményben. Hozza magával barátait vagy családját\, és töltődjenek fel együtt\, miközben a madarak csicsergését hallgatva élvezik a szauna jótékony hatásait. Ne hagyja ki ezt az egyedülálló lehetőséget\, hogy testileg-lelkileg megújuljon\, és felfedezze a kerti szaunázás rejtelmeit. Tegye ezt a napot felejthetetlenné velünk! \nRegisztrációs Link:\nhttps://forms.gle/WkcPzKUA7Dwoq44WA \nMETA: https://fb.me/e/4qXiIztNX \nEgy igazi hamisítatlan fatüzelésű szaunában 5 felöntést tölthetnek velünk és szauna mestereinkkel a vendégek. A pihenés lehűlést kerti zuhanyzó\, jakuzzi és a pihenőház teszi felejthetetlenné. és Felöntésen való részvétel egy kis kemencés sült hús-hal\, kenyér savanyúság az éhség csillapítására\, valamint limonádé és frissítők. A szauna lepedőt mi biztosítjuk (1 db/nap) köntös törölköző legyen nálatok. Frissítő folyadék és szénhidrát a fentieken kívül legyen nálatok.\nA felöntésen és kemencés étkezésen  való részvételi díj 9.500\,-Ft/fő\nA foglalást az 50% fizetési előleg megfizetését követően biztosítjuk (átutalás).\n\nFoglalás: [CP_APP_HOUR_BOOKING id=”3″]
URL:https://westwindsauna.hu/event/370/
LOCATION:Parkerdő Szombathely
ATTACH;FMTTYPE=image/jpeg:https://westwindsauna.hu/wp-content/uploads/2023/10/Fejresz-masolat.jpg
END:VEVENT
END:VCALENDAR