BEGIN:VCALENDAR
VERSION:2.0
PRODID:-//West Wind Sauna Team - ECPv6.15.20//NONSGML v1.0//EN
CALSCALE:GREGORIAN
METHOD:PUBLISH
X-ORIGINAL-URL:https://westwindsauna.hu
X-WR-CALDESC:Események West Wind Sauna Team
REFRESH-INTERVAL;VALUE=DURATION:PT1H
X-Robots-Tag:noindex
X-PUBLISHED-TTL:PT1H
BEGIN:VTIMEZONE
TZID:UTC
BEGIN:STANDARD
TZOFFSETFROM:+0000
TZOFFSETTO:+0000
TZNAME:UTC
DTSTART:20230101T000000
END:STANDARD
END:VTIMEZONE
BEGIN:VEVENT
DTSTART;TZID=UTC:20240113T100000
DTEND;TZID=UTC:20240114T190000
DTSTAMP:20260423T045150
CREATED:20231208T085402Z
LAST-MODIFIED:20240108T065836Z
UID:283-1705140000-1705258800@westwindsauna.hu
SUMMARY:MJUS **** Hétvége az egészséges életmód Jegyében! 2024.01.13-14
DESCRIPTION:Ezen a hétvégén a West Wind Sauna Team és a MJUS Resort & SPA szervezésében elindítjuk a 2024 évet az „Egészséges életmód jegyében”\nElőadások 10:00-14:00 a MJUS konferencia termében látogathatók. \nAszódi János\naz ATV Új Mezőgazdasági Magazin című műsorának főszerkesztője\,\nazt; Én kis kertem; című ismeretterjesztő könyv írója. https://umm.hu/ \nGyöngyösi Sándor\nbiogazda és gombatenyésztő\nhttps://www.biogomba.hu/ \nSzabados Laura\nGyertyafaragó bemutatója\nhttps://lauragyertya.hu \nAz Aszódi & Polner méhészet méhészének\, Polner Ferencnek előadása – repce\,akác\, fecélia és napraforgó – mézkóstolóval. \nSzaunaprogramjaink:\nJanuár 13. Szombat\n14:30 The Way of life\n15:15 Gladiátor\n16:00 Munkásosztály\n16:45 Utolsó szamuráj\n17:30 Indul a bakterház\n18:15 Pál utcai fiúk\n19:00 Latin Lover\n\nJanuár 14. Vasárnap\n12:30 Hangtál program\n13:30 Másnaposok\n14:15 Halálosabb iramba\n15:00 Top Gun\n15:45 Star Wars\n16:30 Karib tenger kalózai\n17:15 Padlás\n18:00 Üvegtigris
URL:https://westwindsauna.hu/event/mjus-hetvege-az-egeszseges-eletmod-jegyeben-2024-01-13-14/
LOCATION:MJUS RESTOR\, Rákóczi u. 154/B\, Körmend\,\, VAS\, 9900\, Magyarország
ATTACH;FMTTYPE=image/jpeg:https://westwindsauna.hu/wp-content/uploads/2023/12/MJUS-Hetvege-2024_MJUS-arculati-scaled.jpg
ORGANIZER;CN="Mjus Resort & Thermal Park":MAILTO:eception@mjusresort.com
END:VEVENT
END:VCALENDAR