BEGIN:VCALENDAR
VERSION:2.0
PRODID:-//West Wind Sauna Team - ECPv6.15.20//NONSGML v1.0//EN
CALSCALE:GREGORIAN
METHOD:PUBLISH
X-WR-CALNAME:West Wind Sauna Team
X-ORIGINAL-URL:https://westwindsauna.hu
X-WR-CALDESC:Események West Wind Sauna Team
REFRESH-INTERVAL;VALUE=DURATION:PT1H
X-Robots-Tag:noindex
X-PUBLISHED-TTL:PT1H
BEGIN:VTIMEZONE
TZID:UTC
BEGIN:STANDARD
TZOFFSETFROM:+0000
TZOFFSETTO:+0000
TZNAME:UTC
DTSTART:20230101T000000
END:STANDARD
END:VTIMEZONE
BEGIN:VEVENT
DTSTART;TZID=UTC:20240106T130000
DTEND;TZID=UTC:20240106T190000
DTSTAMP:20260423T044930
CREATED:20231222T123308Z
LAST-MODIFIED:20231229T150035Z
UID:311-1704546000-1704567600@westwindsauna.hu
SUMMARY:Pót szilveszter - Fagus Hotel Conference & Spa Sopron 2024.01.06
DESCRIPTION:West Wind Szauna csaptunk egy új helyszínen kezdi meg az ide szauna szezont egy fergeteges hangulatú szauna show nap keretein belül. Aki lemaradt a szilveszteri szaunázásról az foglaljon helyet\, hogy részese lehessen a természet erőinek varázslatos hatásában\, itt nálunk! \nA Sopron városában található csodaszép  Fagus Hotel szaunájában vendégeskedünk. \n \n13:00 Relax percek (Klasszikus szauna program peeling levendulás sós olajos) a A program erőssége: közepes \n14:00 Shallow (jelmezes show program) Gyümölcsös illatokkal\, A program erőssége: közepes \n15:00 Mézes kényeztetés (Klasszikus szauna program peeling Méz anyaggal\, Thomas Bergeersen instrumentális zenei alapokra. Illatanyag édes kevert illatok méz alapokon. A program erőssége: Intenzív \n16:00 Spirit (a Disney rajzfilm alapján tematikus show program) Illatanyag fás és virágos illatok. A program erőssége: Intenzív. \n17:00 Top-Gun Maverick A nagy sikerű film szauna adaptációja show felöntésben. Illatanyag fás-füstös illatok. A program erőssége: Intenzív.
URL:https://westwindsauna.hu/event/pot-szilveszter-fagus-hotel-conference-spa-sopron-2024-01-06/
LOCATION:Fagus Hotel Sopron\, Ojtózi fasor 3.\, Sopron\, SOPRON\, 9400\, Magyarország
END:VEVENT
END:VCALENDAR