BEGIN:VCALENDAR
VERSION:2.0
PRODID:-//West Wind Sauna Team - ECPv6.15.20//NONSGML v1.0//EN
CALSCALE:GREGORIAN
METHOD:PUBLISH
X-ORIGINAL-URL:https://westwindsauna.hu
X-WR-CALDESC:Események West Wind Sauna Team
REFRESH-INTERVAL;VALUE=DURATION:PT1H
X-Robots-Tag:noindex
X-PUBLISHED-TTL:PT1H
BEGIN:VTIMEZONE
TZID:UTC
BEGIN:STANDARD
TZOFFSETFROM:+0000
TZOFFSETTO:+0000
TZNAME:UTC
DTSTART:20220101T000000
END:STANDARD
END:VTIMEZONE
BEGIN:VEVENT
DTSTART;TZID=UTC:20231231T150000
DTEND;TZID=UTC:20231231T233000
DTSTAMP:20260423T062414
CREATED:20231210T073325Z
LAST-MODIFIED:20231210T073325Z
UID:294-1704034800-1704065400@westwindsauna.hu
SUMMARY:SZAUNA-SZILVESZTER az AVITA Resortban a West Wind Team-el.
DESCRIPTION:  \nBúcsúztassa az évet a West Wind Sauna Team-el az AVITA resort szauna világában! Lépjünk át együtt egy forró vidám hangulatú szauna estével a 2024 évbe! \nProgramok: \n16:00 Zongora relax felöntés\n17:30 Karib-tenger kalóza SHOW\n19:00 Relax peeling gyömbér – kamilla\n21:00 Thomas Bergersen Instrumental felöntés\n22:00 Osztrák zenés-party\n23:30 Boldog Új Évet! Szauna disco DJ Ötzi. SHOW \nSilvester-Saunatag im Avita Resort\nDas Programm der Veranstaltung:\n16:00 Piano-Relax-Aufguss\n17:30 Piratn der Karibik (Showaufguss mit Kostümen)\n19:00 Relax-Peeling Ingwer – Kamille\n21:00 Thomas Bergersen Instrumentalaufguss\n22:00 Österreichische Musik-Partyzeit\n23:30 Frohes Neues Jahr! Sauna-Disco DJ Ötzi. (Show-Aufguss mit Kostüm) \nThermenpl. 1\, 7431 Bad Tatzmannsdorf\, Ausztria \nGyere és éld át velünk a természet erejének varázslatos hatását! \nAki lemarad\, az kimarad!
URL:https://westwindsauna.hu/event/szauna-szilveszter-az-avita-resortban-a-west-wind-team-el/
LOCATION:AVITA | Resort & Spa\, Thermenpl. 1\, 7431 Bad Tatzmannsdorf\, Ausztria\, Bad Tatzmannsdorf
ORGANIZER;CN="Avita":MAILTO:resort@avita.at
END:VEVENT
END:VCALENDAR