BEGIN:VCALENDAR
VERSION:2.0
PRODID:-//West Wind Sauna Team - ECPv6.15.20//NONSGML v1.0//EN
CALSCALE:GREGORIAN
METHOD:PUBLISH
X-ORIGINAL-URL:https://westwindsauna.hu
X-WR-CALDESC:Események West Wind Sauna Team
REFRESH-INTERVAL;VALUE=DURATION:PT1H
X-Robots-Tag:noindex
X-PUBLISHED-TTL:PT1H
BEGIN:VTIMEZONE
TZID:UTC
BEGIN:STANDARD
TZOFFSETFROM:+0000
TZOFFSETTO:+0000
TZNAME:UTC
DTSTART:20220101T000000
END:STANDARD
END:VTIMEZONE
BEGIN:VEVENT
DTSTART;TZID=UTC:20231230T100000
DTEND;TZID=UTC:20231230T180000
DTSTAMP:20260423T062414
CREATED:20231128T090617Z
LAST-MODIFIED:20231229T125732Z
UID:276-1703930400-1703959200@westwindsauna.hu
SUMMARY:West Wind szauna nap Zalakaros - MenDan**** Hotel - 2023.12.30.
DESCRIPTION:Visszatérünk még a 2023 év lezárásaként a zalakarosi MenDan hotel sky 80 fős szauna világába\, hogy ismét megizzasztjuk kedves vendégeinket show felöntésekkel!\nLesz itt kérem sírás de leginkább nevetés\, vidámság! \nRegisztráció sajnos nem lehet a hotel telítettsége miatt \n \no 10:00 RELAX BY Thomas Bergersen.\no 11:00 Halálos Iramban.\no 13:00. Havasi-zongora\no 15:00 Nincs karácsony Kevin nélkül\no16:00 Pál utcai fiúk.\no 17:00 A Karib-tenger kalózai.
URL:https://westwindsauna.hu/event/west-wind-szauna-nap-a-zalakaros-mendan-hotel-2023-12-30/
LOCATION:MenDan Hotel **** Zalakaros\, Gyógyfürdő tér 8.\, Zalakaros\, ZALA\, 8749\, Magyarország
ORGANIZER;CN="MenDan **** Zalakaros":MAILTO:reservation@mendan.hu
END:VEVENT
END:VCALENDAR