BEGIN:VCALENDAR
VERSION:2.0
PRODID:-//West Wind Sauna Team - ECPv6.15.20//NONSGML v1.0//EN
CALSCALE:GREGORIAN
METHOD:PUBLISH
X-ORIGINAL-URL:https://westwindsauna.hu
X-WR-CALDESC:Események West Wind Sauna Team
REFRESH-INTERVAL;VALUE=DURATION:PT1H
X-Robots-Tag:noindex
X-PUBLISHED-TTL:PT1H
BEGIN:VTIMEZONE
TZID:UTC
BEGIN:STANDARD
TZOFFSETFROM:+0000
TZOFFSETTO:+0000
TZNAME:UTC
DTSTART:20220101T000000
END:STANDARD
END:VTIMEZONE
BEGIN:VEVENT
DTSTART;VALUE=DATE:20231130
DTEND;VALUE=DATE:20231204
DTSTAMP:20260423T062412
CREATED:20231020T072538Z
LAST-MODIFIED:20231020T083926Z
UID:238-1701302400-1701647999@westwindsauna.hu
SUMMARY:Szaunamester Alapképzés MJUS Restor Körmend 2023.11.30-12.03
DESCRIPTION:Szaunamester képzésünk visszatér Körmendre a MJUS Restor szaunavilágába december elején. Akármilyen célt is tűztél ki magad elé\, bármi is legyen az oka annak\, hogy úgy döntöttél\, szaunamester leszel\, segítünk biztos alapokra fektetni a tudásodat!\nIdőpont: 2023.11.30-12.03\nGyere és legyél te a szaunák mestere\, szerezz egy igazi közösség építő szakmát. Ne feledd nálunk mindegy\, hogy hobbi vagy munka miatt érkezel\, a lehető legmagasabb szakmai képzést nyújtjuk mindenki számára!\nJelentkezz! Még ma! E-mail: westwindsauna@gmail.com vagy\n+36 302675989 mobilszámon.
URL:https://westwindsauna.hu/event/szaunamester-alapkepzes-mjus-restor-kormend-2023-11-30-12-03/
LOCATION:MJUS RESTOR\, Rákóczi u. 154/B\, Körmend\,\, VAS\, 9900\, Magyarország
ORGANIZER;CN="Mjus Resort & Thermal Park":MAILTO:eception@mjusresort.com
END:VEVENT
END:VCALENDAR