BEGIN:VCALENDAR
VERSION:2.0
PRODID:-//West Wind Sauna Team - ECPv6.15.20//NONSGML v1.0//EN
CALSCALE:GREGORIAN
METHOD:PUBLISH
X-WR-CALNAME:West Wind Sauna Team
X-ORIGINAL-URL:https://westwindsauna.hu
X-WR-CALDESC:Események West Wind Sauna Team
REFRESH-INTERVAL;VALUE=DURATION:PT1H
X-Robots-Tag:noindex
X-PUBLISHED-TTL:PT1H
BEGIN:VTIMEZONE
TZID:UTC
BEGIN:STANDARD
TZOFFSETFROM:+0000
TZOFFSETTO:+0000
TZNAME:UTC
DTSTART:20220101T000000
END:STANDARD
END:VTIMEZONE
BEGIN:VEVENT
DTSTART;TZID=UTC:20231119T150000
DTEND;TZID=UTC:20231119T190000
DTSTAMP:20260423T075014
CREATED:20231020T090629Z
LAST-MODIFIED:20231113T154209Z
UID:245-1700406000-1700420400@westwindsauna.hu
SUMMARY:West Wind Kerti Szauna Nap 2023. november 19. Vasárnap
DESCRIPTION:És ígéretünknek megfelelően megnyitja kapuit a West Wind Team kerti szaunája! MEGTELT!!!\n2023. november 19. (15:00-19:00) 6 felöntéssel\, harapnivalóval és csupa vidámsággal! \nVárjuk minden érdeklődőt aki egy családias-baráti szaunázáson szeretne részt venni egy hamisítatlan fatüzelésű szaunában\, mestereink által celebrált programokon. \nAz eseményre korlátozott számban tudunk jelentkezőket fogadni (10-12 fő)! De ne csüggedjen aki most lemarad ki nem marad senki mivel havi 1-2 alkalommal rendszeresen megrendezésre kerülnek programjaink! \nRészletek META oldalunkon valamint az Eseménynaptárban! \nRészvétel a programon az alábbi űrlap kitöltésével megtehető:
URL:https://westwindsauna.hu/event/west-wind-kerti-szauna-nap-2023-november-19-vasarnap/
LOCATION:WEST WIND PARKERDŐ\, Pipacs utca 784\, Parkerdő\, VAS\, 9700\, Magyarország
END:VEVENT
END:VCALENDAR