BEGIN:VCALENDAR
VERSION:2.0
PRODID:-//West Wind Sauna Team - ECPv6.15.20//NONSGML v1.0//EN
CALSCALE:GREGORIAN
METHOD:PUBLISH
X-WR-CALNAME:West Wind Sauna Team
X-ORIGINAL-URL:https://westwindsauna.hu
X-WR-CALDESC:Események West Wind Sauna Team
REFRESH-INTERVAL;VALUE=DURATION:PT1H
X-Robots-Tag:noindex
X-PUBLISHED-TTL:PT1H
BEGIN:VTIMEZONE
TZID:UTC
BEGIN:STANDARD
TZOFFSETFROM:+0000
TZOFFSETTO:+0000
TZNAME:UTC
DTSTART:20220101T000000
END:STANDARD
END:VTIMEZONE
BEGIN:VEVENT
DTSTART;TZID=UTC:20231111T130000
DTEND;TZID=UTC:20231111T190000
DTSTAMP:20260423T075031
CREATED:20231017T185531Z
LAST-MODIFIED:20231109T083310Z
UID:177-1699707600-1699729200@westwindsauna.hu
SUMMARY:Greenfield Libanapok
DESCRIPTION:Csapatunk ismét visszatér Bükfürdőbe a **** Superior Greenfield Hotelbe és tematikus szauna show programokkal szórakoztatja a szauna szerelmeseit. \n \nA programon külsős vendégek is részt vehetnek érdeklődni az alábbi linken lehetséges: https://greenfieldhotel.hu/greenfield-libanapok
URL:https://westwindsauna.hu/event/greenfield-libanapok/
LOCATION:Greenfield Hotel Bük\, Golf út 4.\, Bükfürdő\, VAs\, 9740\, Magyarország
ORGANIZER;CN="West Wind Sauna Team":MAILTO:info@westwindsauna.hu
END:VEVENT
END:VCALENDAR